BEGIN:VCALENDAR
VERSION:2.0
PRODID:-//Tom Grant - ECPv6.15.20//NONSGML v1.0//EN
CALSCALE:GREGORIAN
METHOD:PUBLISH
X-WR-CALNAME:Tom Grant
X-ORIGINAL-URL:https://tomgrant.com
X-WR-CALDESC:Events for Tom Grant
REFRESH-INTERVAL;VALUE=DURATION:PT1H
X-Robots-Tag:noindex
X-PUBLISHED-TTL:PT1H
BEGIN:VTIMEZONE
TZID:America/Los_Angeles
BEGIN:DAYLIGHT
TZOFFSETFROM:-0800
TZOFFSETTO:-0700
TZNAME:PDT
DTSTART:20230312T100000
END:DAYLIGHT
BEGIN:STANDARD
TZOFFSETFROM:-0700
TZOFFSETTO:-0800
TZNAME:PST
DTSTART:20231105T090000
END:STANDARD
BEGIN:DAYLIGHT
TZOFFSETFROM:-0800
TZOFFSETTO:-0700
TZNAME:PDT
DTSTART:20240310T100000
END:DAYLIGHT
BEGIN:STANDARD
TZOFFSETFROM:-0700
TZOFFSETTO:-0800
TZNAME:PST
DTSTART:20241103T090000
END:STANDARD
BEGIN:DAYLIGHT
TZOFFSETFROM:-0800
TZOFFSETTO:-0700
TZNAME:PDT
DTSTART:20250309T100000
END:DAYLIGHT
BEGIN:STANDARD
TZOFFSETFROM:-0700
TZOFFSETTO:-0800
TZNAME:PST
DTSTART:20251102T090000
END:STANDARD
END:VTIMEZONE
BEGIN:VEVENT
DTSTART;TZID=America/Los_Angeles:20240816T170000
DTEND;TZID=America/Los_Angeles:20240816T210000
DTSTAMP:20260422T041752
CREATED:20240314T182245Z
LAST-MODIFIED:20241101T232838Z
UID:10002470-1723827600-1723842000@tomgrant.com
SUMMARY:Tom Grant - Solo Piano at the Allison Inn
DESCRIPTION:
URL:https://tomgrant.com/event/tom-grant-solo-piano-at-the-alison-inn-2-2/2024-08-16/
LOCATION:Allison Inn & Spa\, 2525 Allison Lane\, Newberg\, OR\, United States
CATEGORIES:Concert,Free Concert,Live Jazz,Live Jazz,Live Music,Wine Country Live Music
ATTACH;FMTTYPE=image/jpeg:https://tomgrant.com/wp-content/uploads/2024/03/TG_AllisonInn2024_SQ-scaled.jpg
GEO:45.3189709;-122.9454381
X-APPLE-STRUCTURED-LOCATION;VALUE=URI;X-ADDRESS=Allison Inn & Spa 2525 Allison Lane Newberg OR United States;X-APPLE-RADIUS=500;X-TITLE=2525 Allison Lane:geo:-122.9454381,45.3189709
END:VEVENT
BEGIN:VEVENT
DTSTART;TZID=America/Los_Angeles:20240816T170000
DTEND;TZID=America/Los_Angeles:20240816T210000
DTSTAMP:20260422T041752
CREATED:20241125T224315Z
LAST-MODIFIED:20241125T224315Z
UID:10003136-1723827600-1723842000@tomgrant.com
SUMMARY:Tom Grant - Solo Piano at the Allison Inn
DESCRIPTION:
URL:https://tomgrant.com/event/tom-grant-solo-piano-at-the-allison-inn/2024-08-16/
LOCATION:Allison Inn & Spa\, 2525 Allison Lane\, Newberg\, OR\, United States
CATEGORIES:Concert,Free Concert,Live Jazz,Live Jazz,Live Music,Wine Country Live Music
ATTACH;FMTTYPE=image/jpeg:https://tomgrant.com/wp-content/uploads/2024/03/TG_AllisonInn2024_SQ-scaled.jpg
GEO:45.3189709;-122.9454381
X-APPLE-STRUCTURED-LOCATION;VALUE=URI;X-ADDRESS=Allison Inn & Spa 2525 Allison Lane Newberg OR United States;X-APPLE-RADIUS=500;X-TITLE=2525 Allison Lane:geo:-122.9454381,45.3189709
END:VEVENT
BEGIN:VEVENT
DTSTART;TZID=America/Los_Angeles:20240824T170000
DTEND;TZID=America/Los_Angeles:20240824T210000
DTSTAMP:20260422T041752
CREATED:20240314T182245Z
LAST-MODIFIED:20241101T232838Z
UID:10002471-1724518800-1724533200@tomgrant.com
SUMMARY:Tom Grant - Solo Piano at the Allison Inn
DESCRIPTION:
URL:https://tomgrant.com/event/tom-grant-solo-piano-at-the-alison-inn-2-2/2024-08-24/
LOCATION:Allison Inn & Spa\, 2525 Allison Lane\, Newberg\, OR\, United States
CATEGORIES:Concert,Free Concert,Live Jazz,Live Jazz,Live Music,Wine Country Live Music
ATTACH;FMTTYPE=image/jpeg:https://tomgrant.com/wp-content/uploads/2024/03/TG_AllisonInn2024_SQ-scaled.jpg
GEO:45.3189709;-122.9454381
X-APPLE-STRUCTURED-LOCATION;VALUE=URI;X-ADDRESS=Allison Inn & Spa 2525 Allison Lane Newberg OR United States;X-APPLE-RADIUS=500;X-TITLE=2525 Allison Lane:geo:-122.9454381,45.3189709
END:VEVENT
BEGIN:VEVENT
DTSTART;TZID=America/Los_Angeles:20240824T170000
DTEND;TZID=America/Los_Angeles:20240824T210000
DTSTAMP:20260422T041752
CREATED:20241125T224315Z
LAST-MODIFIED:20241125T224315Z
UID:10003137-1724518800-1724533200@tomgrant.com
SUMMARY:Tom Grant - Solo Piano at the Allison Inn
DESCRIPTION:
URL:https://tomgrant.com/event/tom-grant-solo-piano-at-the-allison-inn/2024-08-24/
LOCATION:Allison Inn & Spa\, 2525 Allison Lane\, Newberg\, OR\, United States
CATEGORIES:Concert,Free Concert,Live Jazz,Live Jazz,Live Music,Wine Country Live Music
ATTACH;FMTTYPE=image/jpeg:https://tomgrant.com/wp-content/uploads/2024/03/TG_AllisonInn2024_SQ-scaled.jpg
GEO:45.3189709;-122.9454381
X-APPLE-STRUCTURED-LOCATION;VALUE=URI;X-ADDRESS=Allison Inn & Spa 2525 Allison Lane Newberg OR United States;X-APPLE-RADIUS=500;X-TITLE=2525 Allison Lane:geo:-122.9454381,45.3189709
END:VEVENT
BEGIN:VEVENT
DTSTART;TZID=America/Los_Angeles:20240830T170000
DTEND;TZID=America/Los_Angeles:20240830T210000
DTSTAMP:20260422T041752
CREATED:20240314T182245Z
LAST-MODIFIED:20241101T232838Z
UID:10002472-1725037200-1725051600@tomgrant.com
SUMMARY:Tom Grant - Solo Piano at the Allison Inn
DESCRIPTION:
URL:https://tomgrant.com/event/tom-grant-solo-piano-at-the-alison-inn-2-2/2024-08-30/
LOCATION:Allison Inn & Spa\, 2525 Allison Lane\, Newberg\, OR\, United States
CATEGORIES:Concert,Free Concert,Live Jazz,Live Jazz,Live Music,Wine Country Live Music
ATTACH;FMTTYPE=image/jpeg:https://tomgrant.com/wp-content/uploads/2024/03/TG_AllisonInn2024_SQ-scaled.jpg
GEO:45.3189709;-122.9454381
X-APPLE-STRUCTURED-LOCATION;VALUE=URI;X-ADDRESS=Allison Inn & Spa 2525 Allison Lane Newberg OR United States;X-APPLE-RADIUS=500;X-TITLE=2525 Allison Lane:geo:-122.9454381,45.3189709
END:VEVENT
BEGIN:VEVENT
DTSTART;TZID=America/Los_Angeles:20240830T170000
DTEND;TZID=America/Los_Angeles:20240830T210000
DTSTAMP:20260422T041752
CREATED:20241125T224315Z
LAST-MODIFIED:20241125T224315Z
UID:10003138-1725037200-1725051600@tomgrant.com
SUMMARY:Tom Grant - Solo Piano at the Allison Inn
DESCRIPTION:
URL:https://tomgrant.com/event/tom-grant-solo-piano-at-the-allison-inn/2024-08-30/
LOCATION:Allison Inn & Spa\, 2525 Allison Lane\, Newberg\, OR\, United States
CATEGORIES:Concert,Free Concert,Live Jazz,Live Jazz,Live Music,Wine Country Live Music
ATTACH;FMTTYPE=image/jpeg:https://tomgrant.com/wp-content/uploads/2024/03/TG_AllisonInn2024_SQ-scaled.jpg
GEO:45.3189709;-122.9454381
X-APPLE-STRUCTURED-LOCATION;VALUE=URI;X-ADDRESS=Allison Inn & Spa 2525 Allison Lane Newberg OR United States;X-APPLE-RADIUS=500;X-TITLE=2525 Allison Lane:geo:-122.9454381,45.3189709
END:VEVENT
END:VCALENDAR