BEGIN:VCALENDAR
VERSION:2.0
PRODID:-//Tom Grant - ECPv6.15.20//NONSGML v1.0//EN
CALSCALE:GREGORIAN
METHOD:PUBLISH
X-ORIGINAL-URL:https://tomgrant.com
X-WR-CALDESC:Events for Tom Grant
REFRESH-INTERVAL;VALUE=DURATION:PT1H
X-Robots-Tag:noindex
X-PUBLISHED-TTL:PT1H
BEGIN:VTIMEZONE
TZID:America/Los_Angeles
BEGIN:DAYLIGHT
TZOFFSETFROM:-0800
TZOFFSETTO:-0700
TZNAME:PDT
DTSTART:20230312T100000
END:DAYLIGHT
BEGIN:STANDARD
TZOFFSETFROM:-0700
TZOFFSETTO:-0800
TZNAME:PST
DTSTART:20231105T090000
END:STANDARD
BEGIN:DAYLIGHT
TZOFFSETFROM:-0800
TZOFFSETTO:-0700
TZNAME:PDT
DTSTART:20240310T100000
END:DAYLIGHT
BEGIN:STANDARD
TZOFFSETFROM:-0700
TZOFFSETTO:-0800
TZNAME:PST
DTSTART:20241103T090000
END:STANDARD
BEGIN:DAYLIGHT
TZOFFSETFROM:-0800
TZOFFSETTO:-0700
TZNAME:PDT
DTSTART:20250309T100000
END:DAYLIGHT
BEGIN:STANDARD
TZOFFSETFROM:-0700
TZOFFSETTO:-0800
TZNAME:PST
DTSTART:20251102T090000
END:STANDARD
END:VTIMEZONE
BEGIN:VEVENT
DTSTART;TZID=America/Los_Angeles:20241011T170000
DTEND;TZID=America/Los_Angeles:20241011T203000
DTSTAMP:20260422T013932
CREATED:20240314T182245Z
LAST-MODIFIED:20241101T232838Z
UID:10002909-1728666000-1728678600@tomgrant.com
SUMMARY:Tom Grant - Solo Piano at the Allison Inn
DESCRIPTION:
URL:https://tomgrant.com/event/tom-grant-solo-piano-at-the-alison-inn-2-2/2024-10-11/
LOCATION:Allison Inn & Spa\, 2525 Allison Lane\, Newberg\, OR\, United States
CATEGORIES:Concert,Free Concert,Live Jazz,Live Jazz,Live Music,Wine Country Live Music
ATTACH;FMTTYPE=image/jpeg:https://tomgrant.com/wp-content/uploads/2024/03/TG_AllisonInn2024_SQ-scaled.jpg
GEO:45.3189709;-122.9454381
X-APPLE-STRUCTURED-LOCATION;VALUE=URI;X-ADDRESS=Allison Inn & Spa 2525 Allison Lane Newberg OR United States;X-APPLE-RADIUS=500;X-TITLE=2525 Allison Lane:geo:-122.9454381,45.3189709
END:VEVENT
BEGIN:VEVENT
DTSTART;TZID=America/Los_Angeles:20241011T170000
DTEND;TZID=America/Los_Angeles:20241011T203000
DTSTAMP:20260422T013932
CREATED:20241125T224315Z
LAST-MODIFIED:20241125T224315Z
UID:10003141-1728666000-1728678600@tomgrant.com
SUMMARY:Tom Grant - Solo Piano at the Allison Inn
DESCRIPTION:
URL:https://tomgrant.com/event/tom-grant-solo-piano-at-the-allison-inn/2024-10-11/
LOCATION:Allison Inn & Spa\, 2525 Allison Lane\, Newberg\, OR\, United States
CATEGORIES:Concert,Free Concert,Live Jazz,Live Jazz,Live Music,Wine Country Live Music
ATTACH;FMTTYPE=image/jpeg:https://tomgrant.com/wp-content/uploads/2024/03/TG_AllisonInn2024_SQ-scaled.jpg
GEO:45.3189709;-122.9454381
X-APPLE-STRUCTURED-LOCATION;VALUE=URI;X-ADDRESS=Allison Inn & Spa 2525 Allison Lane Newberg OR United States;X-APPLE-RADIUS=500;X-TITLE=2525 Allison Lane:geo:-122.9454381,45.3189709
END:VEVENT
BEGIN:VEVENT
DTSTART;TZID=America/Los_Angeles:20241011T170000
DTEND;TZID=America/Los_Angeles:20241011T203000
DTSTAMP:20260422T013932
CREATED:20250414T184852Z
LAST-MODIFIED:20260331T235823Z
UID:10003166-1728666000-1728678600@tomgrant.com
SUMMARY:Solo Piano with Tom Grant at the Allison Inn
DESCRIPTION:Join Tom at the Allison Inn in Newberg for a lovely evening of music in wine country. You’ll find Tom at the piano between 5:00-8:00 PM.
URL:https://tomgrant.com/event/solo-piano-with-tom-grant-at-the-allison-inn/2024-10-11/
LOCATION:Allison Inn & Spa\, 2525 Allison Lane\, Newberg\, OR\, United States
CATEGORIES:Concert,Free Concert,Live Jazz,Live Jazz,Live Music,Wine Country Live Music
ATTACH;FMTTYPE=image/jpeg:https://tomgrant.com/wp-content/uploads/2024/03/TG_AllisonInn2024_SQ-scaled.jpg
GEO:45.3189709;-122.9454381
X-APPLE-STRUCTURED-LOCATION;VALUE=URI;X-ADDRESS=Allison Inn & Spa 2525 Allison Lane Newberg OR United States;X-APPLE-RADIUS=500;X-TITLE=2525 Allison Lane:geo:-122.9454381,45.3189709
END:VEVENT
BEGIN:VEVENT
DTSTART;TZID=America/Los_Angeles:20241019T170000
DTEND;TZID=America/Los_Angeles:20241019T203000
DTSTAMP:20260422T013932
CREATED:20240314T182245Z
LAST-MODIFIED:20241101T232838Z
UID:10002910-1729357200-1729369800@tomgrant.com
SUMMARY:Tom Grant - Solo Piano at the Allison Inn
DESCRIPTION:
URL:https://tomgrant.com/event/tom-grant-solo-piano-at-the-alison-inn-2-2/2024-10-19/
LOCATION:Allison Inn & Spa\, 2525 Allison Lane\, Newberg\, OR\, United States
CATEGORIES:Concert,Free Concert,Live Jazz,Live Jazz,Live Music,Wine Country Live Music
ATTACH;FMTTYPE=image/jpeg:https://tomgrant.com/wp-content/uploads/2024/03/TG_AllisonInn2024_SQ-scaled.jpg
GEO:45.3189709;-122.9454381
X-APPLE-STRUCTURED-LOCATION;VALUE=URI;X-ADDRESS=Allison Inn & Spa 2525 Allison Lane Newberg OR United States;X-APPLE-RADIUS=500;X-TITLE=2525 Allison Lane:geo:-122.9454381,45.3189709
END:VEVENT
BEGIN:VEVENT
DTSTART;TZID=America/Los_Angeles:20241019T170000
DTEND;TZID=America/Los_Angeles:20241019T203000
DTSTAMP:20260422T013932
CREATED:20241125T224315Z
LAST-MODIFIED:20241125T224315Z
UID:10003142-1729357200-1729369800@tomgrant.com
SUMMARY:Tom Grant - Solo Piano at the Allison Inn
DESCRIPTION:
URL:https://tomgrant.com/event/tom-grant-solo-piano-at-the-allison-inn/2024-10-19/
LOCATION:Allison Inn & Spa\, 2525 Allison Lane\, Newberg\, OR\, United States
CATEGORIES:Concert,Free Concert,Live Jazz,Live Jazz,Live Music,Wine Country Live Music
ATTACH;FMTTYPE=image/jpeg:https://tomgrant.com/wp-content/uploads/2024/03/TG_AllisonInn2024_SQ-scaled.jpg
GEO:45.3189709;-122.9454381
X-APPLE-STRUCTURED-LOCATION;VALUE=URI;X-ADDRESS=Allison Inn & Spa 2525 Allison Lane Newberg OR United States;X-APPLE-RADIUS=500;X-TITLE=2525 Allison Lane:geo:-122.9454381,45.3189709
END:VEVENT
BEGIN:VEVENT
DTSTART;TZID=America/Los_Angeles:20241019T170000
DTEND;TZID=America/Los_Angeles:20241019T203000
DTSTAMP:20260422T013932
CREATED:20250414T184852Z
LAST-MODIFIED:20260331T235823Z
UID:10003167-1729357200-1729369800@tomgrant.com
SUMMARY:Solo Piano with Tom Grant at the Allison Inn
DESCRIPTION:Join Tom at the Allison Inn in Newberg for a lovely evening of music in wine country. You’ll find Tom at the piano between 5:00-8:00 PM.
URL:https://tomgrant.com/event/solo-piano-with-tom-grant-at-the-allison-inn/2024-10-19/
LOCATION:Allison Inn & Spa\, 2525 Allison Lane\, Newberg\, OR\, United States
CATEGORIES:Concert,Free Concert,Live Jazz,Live Jazz,Live Music,Wine Country Live Music
ATTACH;FMTTYPE=image/jpeg:https://tomgrant.com/wp-content/uploads/2024/03/TG_AllisonInn2024_SQ-scaled.jpg
GEO:45.3189709;-122.9454381
X-APPLE-STRUCTURED-LOCATION;VALUE=URI;X-ADDRESS=Allison Inn & Spa 2525 Allison Lane Newberg OR United States;X-APPLE-RADIUS=500;X-TITLE=2525 Allison Lane:geo:-122.9454381,45.3189709
END:VEVENT
BEGIN:VEVENT
DTSTART;TZID=America/Los_Angeles:20241025T170000
DTEND;TZID=America/Los_Angeles:20241025T203000
DTSTAMP:20260422T013932
CREATED:20240314T182245Z
LAST-MODIFIED:20241101T232838Z
UID:10002911-1729875600-1729888200@tomgrant.com
SUMMARY:Tom Grant - Solo Piano at the Allison Inn
DESCRIPTION:
URL:https://tomgrant.com/event/tom-grant-solo-piano-at-the-alison-inn-2-2/2024-10-25/
LOCATION:Allison Inn & Spa\, 2525 Allison Lane\, Newberg\, OR\, United States
CATEGORIES:Concert,Free Concert,Live Jazz,Live Jazz,Live Music,Wine Country Live Music
ATTACH;FMTTYPE=image/jpeg:https://tomgrant.com/wp-content/uploads/2024/03/TG_AllisonInn2024_SQ-scaled.jpg
GEO:45.3189709;-122.9454381
X-APPLE-STRUCTURED-LOCATION;VALUE=URI;X-ADDRESS=Allison Inn & Spa 2525 Allison Lane Newberg OR United States;X-APPLE-RADIUS=500;X-TITLE=2525 Allison Lane:geo:-122.9454381,45.3189709
END:VEVENT
BEGIN:VEVENT
DTSTART;TZID=America/Los_Angeles:20241025T170000
DTEND;TZID=America/Los_Angeles:20241025T203000
DTSTAMP:20260422T013932
CREATED:20241125T224315Z
LAST-MODIFIED:20241125T224315Z
UID:10003143-1729875600-1729888200@tomgrant.com
SUMMARY:Tom Grant - Solo Piano at the Allison Inn
DESCRIPTION:
URL:https://tomgrant.com/event/tom-grant-solo-piano-at-the-allison-inn/2024-10-25/
LOCATION:Allison Inn & Spa\, 2525 Allison Lane\, Newberg\, OR\, United States
CATEGORIES:Concert,Free Concert,Live Jazz,Live Jazz,Live Music,Wine Country Live Music
ATTACH;FMTTYPE=image/jpeg:https://tomgrant.com/wp-content/uploads/2024/03/TG_AllisonInn2024_SQ-scaled.jpg
GEO:45.3189709;-122.9454381
X-APPLE-STRUCTURED-LOCATION;VALUE=URI;X-ADDRESS=Allison Inn & Spa 2525 Allison Lane Newberg OR United States;X-APPLE-RADIUS=500;X-TITLE=2525 Allison Lane:geo:-122.9454381,45.3189709
END:VEVENT
BEGIN:VEVENT
DTSTART;TZID=America/Los_Angeles:20241025T170000
DTEND;TZID=America/Los_Angeles:20241025T203000
DTSTAMP:20260422T013932
CREATED:20250414T184852Z
LAST-MODIFIED:20260331T235823Z
UID:10003168-1729875600-1729888200@tomgrant.com
SUMMARY:Solo Piano with Tom Grant at the Allison Inn
DESCRIPTION:Join Tom at the Allison Inn in Newberg for a lovely evening of music in wine country. You’ll find Tom at the piano between 5:00-8:00 PM.
URL:https://tomgrant.com/event/solo-piano-with-tom-grant-at-the-allison-inn/2024-10-25/
LOCATION:Allison Inn & Spa\, 2525 Allison Lane\, Newberg\, OR\, United States
CATEGORIES:Concert,Free Concert,Live Jazz,Live Jazz,Live Music,Wine Country Live Music
ATTACH;FMTTYPE=image/jpeg:https://tomgrant.com/wp-content/uploads/2024/03/TG_AllisonInn2024_SQ-scaled.jpg
GEO:45.3189709;-122.9454381
X-APPLE-STRUCTURED-LOCATION;VALUE=URI;X-ADDRESS=Allison Inn & Spa 2525 Allison Lane Newberg OR United States;X-APPLE-RADIUS=500;X-TITLE=2525 Allison Lane:geo:-122.9454381,45.3189709
END:VEVENT
END:VCALENDAR