BEGIN:VCALENDAR
VERSION:2.0
PRODID:-//Tom Grant - ECPv6.15.20//NONSGML v1.0//EN
CALSCALE:GREGORIAN
METHOD:PUBLISH
X-WR-CALNAME:Tom Grant
X-ORIGINAL-URL:https://tomgrant.com
X-WR-CALDESC:Events for Tom Grant
REFRESH-INTERVAL;VALUE=DURATION:PT1H
X-Robots-Tag:noindex
X-PUBLISHED-TTL:PT1H
BEGIN:VTIMEZONE
TZID:America/Los_Angeles
BEGIN:DAYLIGHT
TZOFFSETFROM:-0800
TZOFFSETTO:-0700
TZNAME:PDT
DTSTART:20250309T100000
END:DAYLIGHT
BEGIN:STANDARD
TZOFFSETFROM:-0700
TZOFFSETTO:-0800
TZNAME:PST
DTSTART:20251102T090000
END:STANDARD
BEGIN:DAYLIGHT
TZOFFSETFROM:-0800
TZOFFSETTO:-0700
TZNAME:PDT
DTSTART:20260308T100000
END:DAYLIGHT
BEGIN:STANDARD
TZOFFSETFROM:-0700
TZOFFSETTO:-0800
TZNAME:PST
DTSTART:20261101T090000
END:STANDARD
BEGIN:DAYLIGHT
TZOFFSETFROM:-0800
TZOFFSETTO:-0700
TZNAME:PDT
DTSTART:20270314T100000
END:DAYLIGHT
BEGIN:STANDARD
TZOFFSETFROM:-0700
TZOFFSETTO:-0800
TZNAME:PST
DTSTART:20271107T090000
END:STANDARD
END:VTIMEZONE
BEGIN:VEVENT
DTSTART;TZID=America/Los_Angeles:20260206T170000
DTEND;TZID=America/Los_Angeles:20260206T210000
DTSTAMP:20260421T054510
CREATED:20251020T203425Z
LAST-MODIFIED:20260210T234916Z
UID:10003335-1770397200-1770411600@tomgrant.com
SUMMARY:Solo Piano with Tom Grant at the Allison Inn
DESCRIPTION:The tranquil vibe of wine country awaits!  Join Tom at the Allison Inn in Newberg. Come cozy up to the piano between 5:00-9:00 PM.  See you there!
URL:https://tomgrant.com/event/solo-piano-with-tom-grant-at-the-allison-inn-4/2026-02-06/
LOCATION:Allison Inn & Spa\, 2525 Allison Lane\, Newberg\, OR\, United States
CATEGORIES:Concert,Free Concert,Live Jazz,Live Jazz,Live Music,Wine Country Live Music
ATTACH;FMTTYPE=image/png:https://tomgrant.com/wp-content/uploads/2025/04/TG_AllisonInn2025_SQ-.png
GEO:45.3189709;-122.9454381
X-APPLE-STRUCTURED-LOCATION;VALUE=URI;X-ADDRESS=Allison Inn & Spa 2525 Allison Lane Newberg OR United States;X-APPLE-RADIUS=500;X-TITLE=2525 Allison Lane:geo:-122.9454381,45.3189709
END:VEVENT
BEGIN:VEVENT
DTSTART;TZID=America/Los_Angeles:20260214T170000
DTEND;TZID=America/Los_Angeles:20260214T210000
DTSTAMP:20260421T054510
CREATED:20251020T203425Z
LAST-MODIFIED:20260210T234916Z
UID:10003336-1771088400-1771102800@tomgrant.com
SUMMARY:Solo Piano with Tom Grant at the Allison Inn
DESCRIPTION:The tranquil vibe of wine country awaits!  Join Tom at the Allison Inn in Newberg. Come cozy up to the piano between 5:00-9:00 PM.  See you there!
URL:https://tomgrant.com/event/solo-piano-with-tom-grant-at-the-allison-inn-4/2026-02-14/
LOCATION:Allison Inn & Spa\, 2525 Allison Lane\, Newberg\, OR\, United States
CATEGORIES:Concert,Free Concert,Live Jazz,Live Jazz,Live Music,Wine Country Live Music
ATTACH;FMTTYPE=image/png:https://tomgrant.com/wp-content/uploads/2025/04/TG_AllisonInn2025_SQ-.png
GEO:45.3189709;-122.9454381
X-APPLE-STRUCTURED-LOCATION;VALUE=URI;X-ADDRESS=Allison Inn & Spa 2525 Allison Lane Newberg OR United States;X-APPLE-RADIUS=500;X-TITLE=2525 Allison Lane:geo:-122.9454381,45.3189709
END:VEVENT
BEGIN:VEVENT
DTSTART;TZID=America/Los_Angeles:20260220T170000
DTEND;TZID=America/Los_Angeles:20260220T210000
DTSTAMP:20260421T054510
CREATED:20251020T203425Z
LAST-MODIFIED:20260210T234916Z
UID:10003337-1771606800-1771621200@tomgrant.com
SUMMARY:Solo Piano with Tom Grant at the Allison Inn
DESCRIPTION:The tranquil vibe of wine country awaits!  Join Tom at the Allison Inn in Newberg. Come cozy up to the piano between 5:00-9:00 PM.  See you there!
URL:https://tomgrant.com/event/solo-piano-with-tom-grant-at-the-allison-inn-4/2026-02-20/
LOCATION:Allison Inn & Spa\, 2525 Allison Lane\, Newberg\, OR\, United States
CATEGORIES:Concert,Free Concert,Live Jazz,Live Jazz,Live Music,Wine Country Live Music
ATTACH;FMTTYPE=image/png:https://tomgrant.com/wp-content/uploads/2025/04/TG_AllisonInn2025_SQ-.png
GEO:45.3189709;-122.9454381
X-APPLE-STRUCTURED-LOCATION;VALUE=URI;X-ADDRESS=Allison Inn & Spa 2525 Allison Lane Newberg OR United States;X-APPLE-RADIUS=500;X-TITLE=2525 Allison Lane:geo:-122.9454381,45.3189709
END:VEVENT
BEGIN:VEVENT
DTSTART;TZID=America/Los_Angeles:20260228T170000
DTEND;TZID=America/Los_Angeles:20260228T210000
DTSTAMP:20260421T054510
CREATED:20251020T203425Z
LAST-MODIFIED:20260210T234916Z
UID:10003338-1772298000-1772312400@tomgrant.com
SUMMARY:Solo Piano with Tom Grant at the Allison Inn
DESCRIPTION:The tranquil vibe of wine country awaits!  Join Tom at the Allison Inn in Newberg. Come cozy up to the piano between 5:00-9:00 PM.  See you there!
URL:https://tomgrant.com/event/solo-piano-with-tom-grant-at-the-allison-inn-4/2026-02-28/
LOCATION:Allison Inn & Spa\, 2525 Allison Lane\, Newberg\, OR\, United States
CATEGORIES:Concert,Free Concert,Live Jazz,Live Jazz,Live Music,Wine Country Live Music
ATTACH;FMTTYPE=image/png:https://tomgrant.com/wp-content/uploads/2025/04/TG_AllisonInn2025_SQ-.png
GEO:45.3189709;-122.9454381
X-APPLE-STRUCTURED-LOCATION;VALUE=URI;X-ADDRESS=Allison Inn & Spa 2525 Allison Lane Newberg OR United States;X-APPLE-RADIUS=500;X-TITLE=2525 Allison Lane:geo:-122.9454381,45.3189709
END:VEVENT
END:VCALENDAR