BEGIN:VCALENDAR
VERSION:2.0
PRODID:-//Tom Grant - ECPv6.15.20//NONSGML v1.0//EN
CALSCALE:GREGORIAN
METHOD:PUBLISH
X-ORIGINAL-URL:https://tomgrant.com
X-WR-CALDESC:Events for Tom Grant
REFRESH-INTERVAL;VALUE=DURATION:PT1H
X-Robots-Tag:noindex
X-PUBLISHED-TTL:PT1H
BEGIN:VTIMEZONE
TZID:America/Los_Angeles
BEGIN:DAYLIGHT
TZOFFSETFROM:-0800
TZOFFSETTO:-0700
TZNAME:PDT
DTSTART:20250309T100000
END:DAYLIGHT
BEGIN:STANDARD
TZOFFSETFROM:-0700
TZOFFSETTO:-0800
TZNAME:PST
DTSTART:20251102T090000
END:STANDARD
BEGIN:DAYLIGHT
TZOFFSETFROM:-0800
TZOFFSETTO:-0700
TZNAME:PDT
DTSTART:20260308T100000
END:DAYLIGHT
BEGIN:STANDARD
TZOFFSETFROM:-0700
TZOFFSETTO:-0800
TZNAME:PST
DTSTART:20261101T090000
END:STANDARD
BEGIN:DAYLIGHT
TZOFFSETFROM:-0800
TZOFFSETTO:-0700
TZNAME:PDT
DTSTART:20270314T100000
END:DAYLIGHT
BEGIN:STANDARD
TZOFFSETFROM:-0700
TZOFFSETTO:-0800
TZNAME:PST
DTSTART:20271107T090000
END:STANDARD
BEGIN:DAYLIGHT
TZOFFSETFROM:-0800
TZOFFSETTO:-0700
TZNAME:PDT
DTSTART:20280312T100000
END:DAYLIGHT
BEGIN:STANDARD
TZOFFSETFROM:-0700
TZOFFSETTO:-0800
TZNAME:PST
DTSTART:20281105T090000
END:STANDARD
BEGIN:DAYLIGHT
TZOFFSETFROM:-0800
TZOFFSETTO:-0700
TZNAME:PDT
DTSTART:20290311T100000
END:DAYLIGHT
BEGIN:STANDARD
TZOFFSETFROM:-0700
TZOFFSETTO:-0800
TZNAME:PST
DTSTART:20291104T090000
END:STANDARD
BEGIN:DAYLIGHT
TZOFFSETFROM:-0800
TZOFFSETTO:-0700
TZNAME:PDT
DTSTART:20300310T100000
END:DAYLIGHT
BEGIN:STANDARD
TZOFFSETFROM:-0700
TZOFFSETTO:-0800
TZNAME:PST
DTSTART:20301103T090000
END:STANDARD
BEGIN:DAYLIGHT
TZOFFSETFROM:-0800
TZOFFSETTO:-0700
TZNAME:PDT
DTSTART:20310309T100000
END:DAYLIGHT
BEGIN:STANDARD
TZOFFSETFROM:-0700
TZOFFSETTO:-0800
TZNAME:PST
DTSTART:20311102T090000
END:STANDARD
BEGIN:DAYLIGHT
TZOFFSETFROM:-0800
TZOFFSETTO:-0700
TZNAME:PDT
DTSTART:20320314T100000
END:DAYLIGHT
BEGIN:STANDARD
TZOFFSETFROM:-0700
TZOFFSETTO:-0800
TZNAME:PST
DTSTART:20321107T090000
END:STANDARD
END:VTIMEZONE
BEGIN:VEVENT
DTSTART;TZID=America/Los_Angeles:20260311T190000
DTEND;TZID=America/Los_Angeles:20260311T210000
DTSTAMP:20260421T095052
CREATED:20260303T182116Z
LAST-MODIFIED:20260303T182615Z
UID:10003342-1773255600-1773262800@tomgrant.com
SUMMARY:Arrivederci with Shelly Rudolph
DESCRIPTION:Make a reservation for dinner\, drinks\, or just a lovely night with Shelly and Tom.\nMusic starts at 7\, so come early for choice seating and a sweet night of Jazz. \nMORE INFO: https://www.arrivederciwine.com/music \n 
URL:https://tomgrant.com/event/arrivederci-with-shelly-rudolph/
LOCATION:Arrivederci Wine Bar\, 17023 SE McLoughlin Blvd.\, Milwaukie\, OR\, 97267
CATEGORIES:Arrivederci Wine & Jazz,Club gig,Jazz Vocals,Live Jazz,Live Music,Portland Eastside,Portland Eastside
ATTACH;FMTTYPE=image/png:https://tomgrant.com/wp-content/uploads/2026/03/Shelly-Tom-2020.png
GEO:45.3994964;-122.6200178
X-APPLE-STRUCTURED-LOCATION;VALUE=URI;X-ADDRESS=Arrivederci Wine Bar 17023 SE McLoughlin Blvd. Milwaukie OR 97267;X-APPLE-RADIUS=500;X-TITLE=17023 SE McLoughlin Blvd.:geo:-122.6200178,45.3994964
END:VEVENT
BEGIN:VEVENT
DTSTART;TZID=America/Los_Angeles:20260403T190000
DTEND;TZID=America/Los_Angeles:20260403T220000
DTSTAMP:20260421T095052
CREATED:20251231T181605Z
LAST-MODIFIED:20260324T192448Z
UID:10003344-1775242800-1775253600@tomgrant.com
SUMMARY:Conway's House of Jazz with Ron Steen
DESCRIPTION:
URL:https://tomgrant.com/event/conways-house-of-jazz-with-ron-steen-4/2026-04-03/
LOCATION:Conway’s House of Jazz\, 16100 SE 82nd Dr\, Clackamas\, OR\, United States
CATEGORIES:Club gig,Live Jazz,Live Music
ATTACH;FMTTYPE=image/png:https://tomgrant.com/wp-content/uploads/2025/05/LOGO-Conways-.png
END:VEVENT
BEGIN:VEVENT
DTSTART;TZID=America/Los_Angeles:20260404T170000
DTEND;TZID=America/Los_Angeles:20260404T200000
DTSTAMP:20260421T095052
CREATED:20250414T184852Z
LAST-MODIFIED:20260331T235823Z
UID:10003350-1775322000-1775332800@tomgrant.com
SUMMARY:Solo Piano with Tom Grant at the Allison Inn
DESCRIPTION:Join Tom at the Allison Inn in Newberg for a lovely evening of music in wine country. You’ll find Tom at the piano between 5:00-8:00 PM.
URL:https://tomgrant.com/event/solo-piano-with-tom-grant-at-the-allison-inn/2026-04-04/
LOCATION:Allison Inn & Spa\, 2525 Allison Lane\, Newberg\, OR\, United States
CATEGORIES:Concert,Free Concert,Live Jazz,Live Jazz,Live Music,Wine Country Live Music
ATTACH;FMTTYPE=image/jpeg:https://tomgrant.com/wp-content/uploads/2024/03/TG_AllisonInn2024_SQ-scaled.jpg
GEO:45.3189709;-122.9454381
X-APPLE-STRUCTURED-LOCATION;VALUE=URI;X-ADDRESS=Allison Inn & Spa 2525 Allison Lane Newberg OR United States;X-APPLE-RADIUS=500;X-TITLE=2525 Allison Lane:geo:-122.9454381,45.3189709
END:VEVENT
BEGIN:VEVENT
DTSTART;TZID=America/Los_Angeles:20260417T170000
DTEND;TZID=America/Los_Angeles:20260417T200000
DTSTAMP:20260421T095052
CREATED:20250414T184852Z
LAST-MODIFIED:20260331T235823Z
UID:10003351-1776445200-1776456000@tomgrant.com
SUMMARY:Solo Piano with Tom Grant at the Allison Inn
DESCRIPTION:Join Tom at the Allison Inn in Newberg for a lovely evening of music in wine country. You’ll find Tom at the piano between 5:00-8:00 PM.
URL:https://tomgrant.com/event/solo-piano-with-tom-grant-at-the-allison-inn/2026-04-17/
LOCATION:Allison Inn & Spa\, 2525 Allison Lane\, Newberg\, OR\, United States
CATEGORIES:Concert,Free Concert,Live Jazz,Live Jazz,Live Music,Wine Country Live Music
ATTACH;FMTTYPE=image/jpeg:https://tomgrant.com/wp-content/uploads/2024/03/TG_AllisonInn2024_SQ-scaled.jpg
GEO:45.3189709;-122.9454381
X-APPLE-STRUCTURED-LOCATION;VALUE=URI;X-ADDRESS=Allison Inn & Spa 2525 Allison Lane Newberg OR United States;X-APPLE-RADIUS=500;X-TITLE=2525 Allison Lane:geo:-122.9454381,45.3189709
END:VEVENT
BEGIN:VEVENT
DTSTART;TZID=America/Los_Angeles:20260424T170000
DTEND;TZID=America/Los_Angeles:20260424T200000
DTSTAMP:20260421T095052
CREATED:20250414T184852Z
LAST-MODIFIED:20260331T235823Z
UID:10003352-1777050000-1777060800@tomgrant.com
SUMMARY:Solo Piano with Tom Grant at the Allison Inn
DESCRIPTION:Join Tom at the Allison Inn in Newberg for a lovely evening of music in wine country. You’ll find Tom at the piano between 5:00-8:00 PM.
URL:https://tomgrant.com/event/solo-piano-with-tom-grant-at-the-allison-inn/2026-04-24/
LOCATION:Allison Inn & Spa\, 2525 Allison Lane\, Newberg\, OR\, United States
CATEGORIES:Concert,Free Concert,Live Jazz,Live Jazz,Live Music,Wine Country Live Music
ATTACH;FMTTYPE=image/jpeg:https://tomgrant.com/wp-content/uploads/2024/03/TG_AllisonInn2024_SQ-scaled.jpg
GEO:45.3189709;-122.9454381
X-APPLE-STRUCTURED-LOCATION;VALUE=URI;X-ADDRESS=Allison Inn & Spa 2525 Allison Lane Newberg OR United States;X-APPLE-RADIUS=500;X-TITLE=2525 Allison Lane:geo:-122.9454381,45.3189709
END:VEVENT
BEGIN:VEVENT
DTSTART;TZID=America/Los_Angeles:20260426T193000
DTEND;TZID=America/Los_Angeles:20260426T220000
DTSTAMP:20260421T095052
CREATED:20251231T184447Z
LAST-MODIFIED:20260324T192825Z
UID:10003346-1777231800-1777240800@tomgrant.com
SUMMARY:Ron Steen Trio @ Clydes
DESCRIPTION:Portland’s old-school-style steak house features live music and a great vibe.  Ron Steen’s Sunday night group  is the perfect way to close out the weekend.
URL:https://tomgrant.com/event/ron-steen-trio-clydes-5/2026-04-26/
LOCATION:Clyde’s  Prime Rib\, 5474 NE Sandy Blvd\, Ptld\, OR\, United States
CATEGORIES:Club gig,Live Jazz,Live Jazz,Live Music
ATTACH;FMTTYPE=image/png:https://tomgrant.com/wp-content/uploads/2022/07/clydes-prime-rib-logo.png
END:VEVENT
BEGIN:VEVENT
DTSTART;TZID=America/Los_Angeles:20311111T080000
DTEND;TZID=America/Los_Angeles:20311111T170000
DTSTAMP:20260421T095052
CREATED:20250414T184852Z
LAST-MODIFIED:20260331T235823Z
UID:10003353-1952150400-1952182800@tomgrant.com
SUMMARY:Solo Piano with Tom Grant at the Allison Inn
DESCRIPTION:Join Tom at the Allison Inn in Newberg for a lovely evening of music in wine country. You’ll find Tom at the piano between 5:00-8:00 PM.
URL:https://tomgrant.com/event/solo-piano-with-tom-grant-at-the-allison-inn/2031-11-11/1/
LOCATION:Allison Inn & Spa\, 2525 Allison Lane\, Newberg\, OR\, United States
CATEGORIES:Concert,Free Concert,Live Jazz,Live Jazz,Live Music,Wine Country Live Music
ATTACH;FMTTYPE=image/jpeg:https://tomgrant.com/wp-content/uploads/2024/03/TG_AllisonInn2024_SQ-scaled.jpg
GEO:45.3189709;-122.9454381
X-APPLE-STRUCTURED-LOCATION;VALUE=URI;X-ADDRESS=Allison Inn & Spa 2525 Allison Lane Newberg OR United States;X-APPLE-RADIUS=500;X-TITLE=2525 Allison Lane:geo:-122.9454381,45.3189709
END:VEVENT
BEGIN:VEVENT
DTSTART;TZID=America/Los_Angeles:20311111T170000
DTEND;TZID=America/Los_Angeles:20311111T183000
DTSTAMP:20260421T095052
CREATED:20250414T184852Z
LAST-MODIFIED:20260331T235823Z
UID:10003354-1952182800-1952188200@tomgrant.com
SUMMARY:Solo Piano with Tom Grant at the Allison Inn
DESCRIPTION:Join Tom at the Allison Inn in Newberg for a lovely evening of music in wine country. You’ll find Tom at the piano between 5:00-8:00 PM.
URL:https://tomgrant.com/event/solo-piano-with-tom-grant-at-the-allison-inn/2031-11-11/2/
LOCATION:Allison Inn & Spa\, 2525 Allison Lane\, Newberg\, OR\, United States
CATEGORIES:Concert,Free Concert,Live Jazz,Live Jazz,Live Music,Wine Country Live Music
ATTACH;FMTTYPE=image/jpeg:https://tomgrant.com/wp-content/uploads/2024/03/TG_AllisonInn2024_SQ-scaled.jpg
GEO:45.3189709;-122.9454381
X-APPLE-STRUCTURED-LOCATION;VALUE=URI;X-ADDRESS=Allison Inn & Spa 2525 Allison Lane Newberg OR United States;X-APPLE-RADIUS=500;X-TITLE=2525 Allison Lane:geo:-122.9454381,45.3189709
END:VEVENT
END:VCALENDAR