BEGIN:VCALENDAR
VERSION:2.0
PRODID:-//Tom Grant - ECPv6.15.20//NONSGML v1.0//EN
CALSCALE:GREGORIAN
METHOD:PUBLISH
X-ORIGINAL-URL:https://tomgrant.com
X-WR-CALDESC:Events for Tom Grant
REFRESH-INTERVAL;VALUE=DURATION:PT1H
X-Robots-Tag:noindex
X-PUBLISHED-TTL:PT1H
BEGIN:VTIMEZONE
TZID:America/Los_Angeles
BEGIN:DAYLIGHT
TZOFFSETFROM:-0800
TZOFFSETTO:-0700
TZNAME:PDT
DTSTART:20230312T100000
END:DAYLIGHT
BEGIN:STANDARD
TZOFFSETFROM:-0700
TZOFFSETTO:-0800
TZNAME:PST
DTSTART:20231105T090000
END:STANDARD
BEGIN:DAYLIGHT
TZOFFSETFROM:-0800
TZOFFSETTO:-0700
TZNAME:PDT
DTSTART:20240310T100000
END:DAYLIGHT
BEGIN:STANDARD
TZOFFSETFROM:-0700
TZOFFSETTO:-0800
TZNAME:PST
DTSTART:20241103T090000
END:STANDARD
BEGIN:DAYLIGHT
TZOFFSETFROM:-0800
TZOFFSETTO:-0700
TZNAME:PDT
DTSTART:20250309T100000
END:DAYLIGHT
BEGIN:STANDARD
TZOFFSETFROM:-0700
TZOFFSETTO:-0800
TZNAME:PST
DTSTART:20251102T090000
END:STANDARD
BEGIN:DAYLIGHT
TZOFFSETFROM:-0800
TZOFFSETTO:-0700
TZNAME:PDT
DTSTART:20260308T100000
END:DAYLIGHT
BEGIN:STANDARD
TZOFFSETFROM:-0700
TZOFFSETTO:-0800
TZNAME:PST
DTSTART:20261101T090000
END:STANDARD
END:VTIMEZONE
BEGIN:VEVENT
DTSTART;TZID=America/Los_Angeles:20241129T170000
DTEND;TZID=America/Los_Angeles:20241129T203000
DTSTAMP:20260422T155039
CREATED:20240314T182245Z
LAST-MODIFIED:20241101T232838Z
UID:10003111-1732899600-1732912200@tomgrant.com
SUMMARY:Tom Grant - Solo Piano at the Allison Inn
DESCRIPTION:
URL:https://tomgrant.com/event/tom-grant-solo-piano-at-the-alison-inn-2-2/2024-11-29/
LOCATION:Allison Inn & Spa\, 2525 Allison Lane\, Newberg\, OR\, United States
CATEGORIES:Concert,Free Concert,Live Jazz,Live Jazz,Live Music,Wine Country Live Music
ATTACH;FMTTYPE=image/jpeg:https://tomgrant.com/wp-content/uploads/2024/03/TG_AllisonInn2024_SQ-scaled.jpg
GEO:45.3189709;-122.9454381
X-APPLE-STRUCTURED-LOCATION;VALUE=URI;X-ADDRESS=Allison Inn & Spa 2525 Allison Lane Newberg OR United States;X-APPLE-RADIUS=500;X-TITLE=2525 Allison Lane:geo:-122.9454381,45.3189709
END:VEVENT
BEGIN:VEVENT
DTSTART;TZID=America/Los_Angeles:20241129T170000
DTEND;TZID=America/Los_Angeles:20241129T203000
DTSTAMP:20260422T155039
CREATED:20241125T224315Z
LAST-MODIFIED:20241125T224315Z
UID:10003147-1732899600-1732912200@tomgrant.com
SUMMARY:Tom Grant - Solo Piano at the Allison Inn
DESCRIPTION:
URL:https://tomgrant.com/event/tom-grant-solo-piano-at-the-allison-inn/2024-11-29/
LOCATION:Allison Inn & Spa\, 2525 Allison Lane\, Newberg\, OR\, United States
CATEGORIES:Concert,Free Concert,Live Jazz,Live Jazz,Live Music,Wine Country Live Music
ATTACH;FMTTYPE=image/jpeg:https://tomgrant.com/wp-content/uploads/2024/03/TG_AllisonInn2024_SQ-scaled.jpg
GEO:45.3189709;-122.9454381
X-APPLE-STRUCTURED-LOCATION;VALUE=URI;X-ADDRESS=Allison Inn & Spa 2525 Allison Lane Newberg OR United States;X-APPLE-RADIUS=500;X-TITLE=2525 Allison Lane:geo:-122.9454381,45.3189709
END:VEVENT
BEGIN:VEVENT
DTSTART;TZID=America/Los_Angeles:20241129T170000
DTEND;TZID=America/Los_Angeles:20241129T203000
DTSTAMP:20260422T155039
CREATED:20250414T184852Z
LAST-MODIFIED:20260331T235823Z
UID:10003172-1732899600-1732912200@tomgrant.com
SUMMARY:Solo Piano with Tom Grant at the Allison Inn
DESCRIPTION:Join Tom at the Allison Inn in Newberg for a lovely evening of music in wine country. You’ll find Tom at the piano between 5:00-8:00 PM.
URL:https://tomgrant.com/event/solo-piano-with-tom-grant-at-the-allison-inn/2024-11-29/
LOCATION:Allison Inn & Spa\, 2525 Allison Lane\, Newberg\, OR\, United States
CATEGORIES:Concert,Free Concert,Live Jazz,Live Jazz,Live Music,Wine Country Live Music
ATTACH;FMTTYPE=image/jpeg:https://tomgrant.com/wp-content/uploads/2024/03/TG_AllisonInn2024_SQ-scaled.jpg
GEO:45.3189709;-122.9454381
X-APPLE-STRUCTURED-LOCATION;VALUE=URI;X-ADDRESS=Allison Inn & Spa 2525 Allison Lane Newberg OR United States;X-APPLE-RADIUS=500;X-TITLE=2525 Allison Lane:geo:-122.9454381,45.3189709
END:VEVENT
BEGIN:VEVENT
DTSTART;TZID=America/Los_Angeles:20241213T170000
DTEND;TZID=America/Los_Angeles:20241213T203000
DTSTAMP:20260422T155039
CREATED:20241125T224315Z
LAST-MODIFIED:20241125T224315Z
UID:10003148-1734109200-1734121800@tomgrant.com
SUMMARY:Tom Grant - Solo Piano at the Allison Inn
DESCRIPTION:
URL:https://tomgrant.com/event/tom-grant-solo-piano-at-the-allison-inn/2024-12-13/
LOCATION:Allison Inn & Spa\, 2525 Allison Lane\, Newberg\, OR\, United States
CATEGORIES:Concert,Free Concert,Live Jazz,Live Jazz,Live Music,Wine Country Live Music
ATTACH;FMTTYPE=image/jpeg:https://tomgrant.com/wp-content/uploads/2024/03/TG_AllisonInn2024_SQ-scaled.jpg
GEO:45.3189709;-122.9454381
X-APPLE-STRUCTURED-LOCATION;VALUE=URI;X-ADDRESS=Allison Inn & Spa 2525 Allison Lane Newberg OR United States;X-APPLE-RADIUS=500;X-TITLE=2525 Allison Lane:geo:-122.9454381,45.3189709
END:VEVENT
BEGIN:VEVENT
DTSTART;TZID=America/Los_Angeles:20241213T170000
DTEND;TZID=America/Los_Angeles:20241213T203000
DTSTAMP:20260422T155039
CREATED:20250414T184852Z
LAST-MODIFIED:20260331T235823Z
UID:10003173-1734109200-1734121800@tomgrant.com
SUMMARY:Solo Piano with Tom Grant at the Allison Inn
DESCRIPTION:Join Tom at the Allison Inn in Newberg for a lovely evening of music in wine country. You’ll find Tom at the piano between 5:00-8:00 PM.
URL:https://tomgrant.com/event/solo-piano-with-tom-grant-at-the-allison-inn/2024-12-13/
LOCATION:Allison Inn & Spa\, 2525 Allison Lane\, Newberg\, OR\, United States
CATEGORIES:Concert,Free Concert,Live Jazz,Live Jazz,Live Music,Wine Country Live Music
ATTACH;FMTTYPE=image/jpeg:https://tomgrant.com/wp-content/uploads/2024/03/TG_AllisonInn2024_SQ-scaled.jpg
GEO:45.3189709;-122.9454381
X-APPLE-STRUCTURED-LOCATION;VALUE=URI;X-ADDRESS=Allison Inn & Spa 2525 Allison Lane Newberg OR United States;X-APPLE-RADIUS=500;X-TITLE=2525 Allison Lane:geo:-122.9454381,45.3189709
END:VEVENT
BEGIN:VEVENT
DTSTART;TZID=America/Los_Angeles:20241226T190000
DTEND;TZID=America/Los_Angeles:20241226T210000
DTSTAMP:20260422T155039
CREATED:20241124T214758Z
LAST-MODIFIED:20241124T214853Z
UID:10003117-1735239600-1735246800@tomgrant.com
SUMMARY:Arrivederci with Ron Steen
DESCRIPTION:Make a reservation for dinner\, drinks\, and a great night of music at Arrivederci in Milwaukie.   Ron’s band will feature Cheryl Alex\, Dennis Caiazza\, and yours truly!
URL:https://tomgrant.com/event/arrivederci-with-ron-steen/
LOCATION:Arrivederci Wine Bar\, 17023 SE McLoughlin Blvd.\, Milwaukie\, OR\, 97267
CATEGORIES:Arrivederci Wine & Jazz,Club gig,Live Jazz,Live Jazz,Portland Eastside
ATTACH;FMTTYPE=image/png:https://tomgrant.com/wp-content/uploads/2021/06/arrivederci-wine-bar.png
GEO:45.3994964;-122.6200178
X-APPLE-STRUCTURED-LOCATION;VALUE=URI;X-ADDRESS=Arrivederci Wine Bar 17023 SE McLoughlin Blvd. Milwaukie OR 97267;X-APPLE-RADIUS=500;X-TITLE=17023 SE McLoughlin Blvd.:geo:-122.6200178,45.3994964
END:VEVENT
BEGIN:VEVENT
DTSTART;TZID=America/Los_Angeles:20241227T170000
DTEND;TZID=America/Los_Angeles:20241227T203000
DTSTAMP:20260422T155039
CREATED:20241125T224315Z
LAST-MODIFIED:20241125T224315Z
UID:10003149-1735318800-1735331400@tomgrant.com
SUMMARY:Tom Grant - Solo Piano at the Allison Inn
DESCRIPTION:
URL:https://tomgrant.com/event/tom-grant-solo-piano-at-the-allison-inn/2024-12-27/
LOCATION:Allison Inn & Spa\, 2525 Allison Lane\, Newberg\, OR\, United States
CATEGORIES:Concert,Free Concert,Live Jazz,Live Jazz,Live Music,Wine Country Live Music
ATTACH;FMTTYPE=image/jpeg:https://tomgrant.com/wp-content/uploads/2024/03/TG_AllisonInn2024_SQ-scaled.jpg
GEO:45.3189709;-122.9454381
X-APPLE-STRUCTURED-LOCATION;VALUE=URI;X-ADDRESS=Allison Inn & Spa 2525 Allison Lane Newberg OR United States;X-APPLE-RADIUS=500;X-TITLE=2525 Allison Lane:geo:-122.9454381,45.3189709
END:VEVENT
BEGIN:VEVENT
DTSTART;TZID=America/Los_Angeles:20241227T170000
DTEND;TZID=America/Los_Angeles:20241227T203000
DTSTAMP:20260422T155039
CREATED:20250414T184852Z
LAST-MODIFIED:20260331T235823Z
UID:10003174-1735318800-1735331400@tomgrant.com
SUMMARY:Solo Piano with Tom Grant at the Allison Inn
DESCRIPTION:Join Tom at the Allison Inn in Newberg for a lovely evening of music in wine country. You’ll find Tom at the piano between 5:00-8:00 PM.
URL:https://tomgrant.com/event/solo-piano-with-tom-grant-at-the-allison-inn/2024-12-27/
LOCATION:Allison Inn & Spa\, 2525 Allison Lane\, Newberg\, OR\, United States
CATEGORIES:Concert,Free Concert,Live Jazz,Live Jazz,Live Music,Wine Country Live Music
ATTACH;FMTTYPE=image/jpeg:https://tomgrant.com/wp-content/uploads/2024/03/TG_AllisonInn2024_SQ-scaled.jpg
GEO:45.3189709;-122.9454381
X-APPLE-STRUCTURED-LOCATION;VALUE=URI;X-ADDRESS=Allison Inn & Spa 2525 Allison Lane Newberg OR United States;X-APPLE-RADIUS=500;X-TITLE=2525 Allison Lane:geo:-122.9454381,45.3189709
END:VEVENT
BEGIN:VEVENT
DTSTART;TZID=America/Los_Angeles:20241228T170000
DTEND;TZID=America/Los_Angeles:20241228T203000
DTSTAMP:20260422T155039
CREATED:20241125T224315Z
LAST-MODIFIED:20241125T224315Z
UID:10003150-1735405200-1735417800@tomgrant.com
SUMMARY:Tom Grant - Solo Piano at the Allison Inn
DESCRIPTION:
URL:https://tomgrant.com/event/tom-grant-solo-piano-at-the-allison-inn/2024-12-28/
LOCATION:Allison Inn & Spa\, 2525 Allison Lane\, Newberg\, OR\, United States
CATEGORIES:Concert,Free Concert,Live Jazz,Live Jazz,Live Music,Wine Country Live Music
ATTACH;FMTTYPE=image/jpeg:https://tomgrant.com/wp-content/uploads/2024/03/TG_AllisonInn2024_SQ-scaled.jpg
GEO:45.3189709;-122.9454381
X-APPLE-STRUCTURED-LOCATION;VALUE=URI;X-ADDRESS=Allison Inn & Spa 2525 Allison Lane Newberg OR United States;X-APPLE-RADIUS=500;X-TITLE=2525 Allison Lane:geo:-122.9454381,45.3189709
END:VEVENT
BEGIN:VEVENT
DTSTART;TZID=America/Los_Angeles:20241228T170000
DTEND;TZID=America/Los_Angeles:20241228T203000
DTSTAMP:20260422T155039
CREATED:20250414T184852Z
LAST-MODIFIED:20260331T235823Z
UID:10003175-1735405200-1735417800@tomgrant.com
SUMMARY:Solo Piano with Tom Grant at the Allison Inn
DESCRIPTION:Join Tom at the Allison Inn in Newberg for a lovely evening of music in wine country. You’ll find Tom at the piano between 5:00-8:00 PM.
URL:https://tomgrant.com/event/solo-piano-with-tom-grant-at-the-allison-inn/2024-12-28/
LOCATION:Allison Inn & Spa\, 2525 Allison Lane\, Newberg\, OR\, United States
CATEGORIES:Concert,Free Concert,Live Jazz,Live Jazz,Live Music,Wine Country Live Music
ATTACH;FMTTYPE=image/jpeg:https://tomgrant.com/wp-content/uploads/2024/03/TG_AllisonInn2024_SQ-scaled.jpg
GEO:45.3189709;-122.9454381
X-APPLE-STRUCTURED-LOCATION;VALUE=URI;X-ADDRESS=Allison Inn & Spa 2525 Allison Lane Newberg OR United States;X-APPLE-RADIUS=500;X-TITLE=2525 Allison Lane:geo:-122.9454381,45.3189709
END:VEVENT
BEGIN:VEVENT
DTSTART;TZID=America/Los_Angeles:20250131T190000
DTEND;TZID=America/Los_Angeles:20250131T220000
DTSTAMP:20260422T155039
CREATED:20250110T174944Z
LAST-MODIFIED:20250110T175423Z
UID:10003154-1738350000-1738360800@tomgrant.com
SUMMARY:Conway's House of Jazz w/ Ron Steen
DESCRIPTION:Conway’s House of Jazz in Clackamas is the area’s newest Jazz club.  Located just off  205\, it’s a perfect spot for great food\, live music and excellent company.  Make a reservation  and come check it out!
URL:https://tomgrant.com/event/conway-house-of-jazx-w-ron-steen/
LOCATION:Conway’s House of Jazz\, 16100 SE 82nd Dr\, Clackamas\, OR\, United States
CATEGORIES:Club gig,Live Jazz,Live Music,Portland Eastside
ATTACH;FMTTYPE=image/jpeg:https://tomgrant.com/wp-content/uploads/2025/01/Conways-House-of-Jazz-Clack.jpg
END:VEVENT
BEGIN:VEVENT
DTSTART;TZID=America/Los_Angeles:20250208T160000
DTEND;TZID=America/Los_Angeles:20250208T160000
DTSTAMP:20260422T155039
CREATED:20241230T013108Z
LAST-MODIFIED:20241230T021740Z
UID:10003151-1739030400-1739030400@tomgrant.com
SUMMARY:Tom & Shelly at Stoller Family Estate
DESCRIPTION:Warm up your winter Saturday with Tom and Shelly at Stoller Family Estate. Join us for a magical afternoon as you take in the sweet sounds of this soulful duo.  Bring your Valentine vibes for a few hours of live music paired with your favorite Stoller wines and enticing handcrafted pizzas.\nSeating and wine bar at 3:15 PM  | Concert starts at 4:00 PM\nFood and wine will be available for purchase at the event. \n\nhttps://bit.ly/TomShellyatStollerFeb25
URL:https://tomgrant.com/event/tom-shelly-at-stoller-family-estate/
LOCATION:OR
CATEGORIES:Concert,Live Jazz,Live Music,Valentine's Event,Wine Country Live Music,Wine Events
ATTACH;FMTTYPE=image/jpeg:https://tomgrant.com/wp-content/uploads/2024/12/TG-Shelly-at-Stoller-Feb-2025-scaled.jpg
END:VEVENT
BEGIN:VEVENT
DTSTART;TZID=America/Los_Angeles:20250222T190000
DTEND;TZID=America/Los_Angeles:20250222T220000
DTSTAMP:20260422T155039
CREATED:20250216T225025Z
LAST-MODIFIED:20250216T225428Z
UID:10003156-1740250800-1740261600@tomgrant.com
SUMMARY:Tom & Shelly @ Arrivederci
DESCRIPTION:Saturday evening at 7 PM with Shelly Rudolph and Tom (the birthday boy!)\nReservations:  Call (503) 659-1143
URL:https://tomgrant.com/event/tom-shelly-arrivederci/
LOCATION:Arrivederci Wine Bar\, 17023 SE McLoughlin Blvd.\, Milwaukie\, OR\, 97267
CATEGORIES:Club gig,Jazz Vocals,Live Jazz,Live Jazz,Portland Eastside
ATTACH;FMTTYPE=image/jpeg:https://tomgrant.com/wp-content/uploads/2017/11/Tom-and-Shelly-blue-dress-seated-.jpg
GEO:45.3994964;-122.6200178
X-APPLE-STRUCTURED-LOCATION;VALUE=URI;X-ADDRESS=Arrivederci Wine Bar 17023 SE McLoughlin Blvd. Milwaukie OR 97267;X-APPLE-RADIUS=500;X-TITLE=17023 SE McLoughlin Blvd.:geo:-122.6200178,45.3994964
END:VEVENT
BEGIN:VEVENT
DTSTART;TZID=America/Los_Angeles:20250222T190000
DTEND;TZID=America/Los_Angeles:20250222T220000
DTSTAMP:20260422T155039
CREATED:20250801T224325Z
LAST-MODIFIED:20250801T224356Z
UID:10003206-1740250800-1740261600@tomgrant.com
SUMMARY:Tom & Shelly @ Arrivederci
DESCRIPTION:Savor the summer vibe with Shelly Rudolph and Tom Grant at Arrivederci Wine & Jazz Bar.\nReservations:  (503) 659-1143
URL:https://tomgrant.com/event/tom-shelly-arrivederci-2/2025-02-22/
LOCATION:Arrivederci Wine Bar\, 17023 SE McLoughlin Blvd.\, Milwaukie\, OR\, 97267
CATEGORIES:Club gig,Jazz Vocals,Live Jazz,Live Jazz,Portland Eastside
ATTACH;FMTTYPE=image/jpeg:https://tomgrant.com/wp-content/uploads/2017/11/Tom-and-Shelly-blue-dress-seated-.jpg
GEO:45.3994964;-122.6200178
X-APPLE-STRUCTURED-LOCATION;VALUE=URI;X-ADDRESS=Arrivederci Wine Bar 17023 SE McLoughlin Blvd. Milwaukie OR 97267;X-APPLE-RADIUS=500;X-TITLE=17023 SE McLoughlin Blvd.:geo:-122.6200178,45.3994964
END:VEVENT
BEGIN:VEVENT
DTSTART;TZID=America/Los_Angeles:20250608T193000
DTEND;TZID=America/Los_Angeles:20250608T210000
DTSTAMP:20260422T155039
CREATED:20250605T181434Z
LAST-MODIFIED:20250605T181434Z
UID:10003204-1749411000-1749416400@tomgrant.com
SUMMARY:Ron Steen Trio @ Clydes
DESCRIPTION:Portland’s old-school-style steak house features live music and a great vibe.  Ron Steen’s Sunday night group  is the perfect way to close out the weekend.
URL:https://tomgrant.com/event/ron-steen-trio-clydes-3/
LOCATION:Clyde’s  Prime Rib\, 5474 NE Sandy Blvd\, Ptld\, OR\, United States
CATEGORIES:Club gig,Live Jazz,Live Jazz,Live Music
ATTACH;FMTTYPE=image/png:https://tomgrant.com/wp-content/uploads/2022/07/clydes-prime-rib-logo.png
END:VEVENT
BEGIN:VEVENT
DTSTART;TZID=America/Los_Angeles:20250806T190000
DTEND;TZID=America/Los_Angeles:20250806T210000
DTSTAMP:20260422T155039
CREATED:20250801T224325Z
LAST-MODIFIED:20250801T224356Z
UID:10003207-1754506800-1754514000@tomgrant.com
SUMMARY:Tom & Shelly @ Arrivederci
DESCRIPTION:Savor the summer vibe with Shelly Rudolph and Tom Grant at Arrivederci Wine & Jazz Bar.\nReservations:  (503) 659-1143
URL:https://tomgrant.com/event/tom-shelly-arrivederci-2/2025-08-06/
LOCATION:Arrivederci Wine Bar\, 17023 SE McLoughlin Blvd.\, Milwaukie\, OR\, 97267
CATEGORIES:Club gig,Jazz Vocals,Live Jazz,Live Jazz,Portland Eastside
ATTACH;FMTTYPE=image/jpeg:https://tomgrant.com/wp-content/uploads/2017/11/Tom-and-Shelly-blue-dress-seated-.jpg
GEO:45.3994964;-122.6200178
X-APPLE-STRUCTURED-LOCATION;VALUE=URI;X-ADDRESS=Arrivederci Wine Bar 17023 SE McLoughlin Blvd. Milwaukie OR 97267;X-APPLE-RADIUS=500;X-TITLE=17023 SE McLoughlin Blvd.:geo:-122.6200178,45.3994964
END:VEVENT
BEGIN:VEVENT
DTSTART;TZID=America/Los_Angeles:20250815T180000
DTEND;TZID=America/Los_Angeles:20250815T210000
DTSTAMP:20260422T155039
CREATED:20250801T231135Z
LAST-MODIFIED:20250802T000526Z
UID:10003215-1755280800-1755291600@tomgrant.com
SUMMARY:Gracie's Sea Hag in Depoe Bay With Shelly Rudolph
DESCRIPTION:Catch Tom Grant and Shelly Rudolph on Aug 15th & 16th at Gracie’s Sea Hag in Depoe Bay. Reservations recommended\, but not necessary. \n 
URL:https://tomgrant.com/event/gracies-sea-hag-in-depoe-bay-with-shelly-rudolph-2/2025-08-15/
LOCATION:Gracie’s Sea Hag\, 58 SE Highway 101\, Depoe Bay\,\, OR\, United States
CATEGORIES:Club gig,Live Jazz,Live Music
ATTACH;FMTTYPE=image/png:https://tomgrant.com/wp-content/uploads/2025/08/TG-and-Shelly-SEA-HAG-AUG-2025-SQ.png
END:VEVENT
BEGIN:VEVENT
DTSTART;TZID=America/Los_Angeles:20250816T180000
DTEND;TZID=America/Los_Angeles:20250816T210000
DTSTAMP:20260422T155039
CREATED:20250801T231135Z
LAST-MODIFIED:20250802T000526Z
UID:10003216-1755367200-1755378000@tomgrant.com
SUMMARY:Gracie's Sea Hag in Depoe Bay With Shelly Rudolph
DESCRIPTION:Catch Tom Grant and Shelly Rudolph on Aug 15th & 16th at Gracie’s Sea Hag in Depoe Bay. Reservations recommended\, but not necessary. \n 
URL:https://tomgrant.com/event/gracies-sea-hag-in-depoe-bay-with-shelly-rudolph-2/2025-08-16/
LOCATION:Gracie’s Sea Hag\, 58 SE Highway 101\, Depoe Bay\,\, OR\, United States
CATEGORIES:Club gig,Live Jazz,Live Music
ATTACH;FMTTYPE=image/png:https://tomgrant.com/wp-content/uploads/2025/08/TG-and-Shelly-SEA-HAG-AUG-2025-SQ.png
END:VEVENT
BEGIN:VEVENT
DTSTART;TZID=America/Los_Angeles:20250918T170000
DTEND;TZID=America/Los_Angeles:20250918T210000
DTSTAMP:20260422T155039
CREATED:20251020T204254Z
LAST-MODIFIED:20251020T204254Z
UID:10003218-1758214800-1758229200@tomgrant.com
SUMMARY:Solo Piano with Tom Grant at the Allison Inn
DESCRIPTION:The tranquil vibe of wine country awaits!  Join Tom at the Allison Inn in Newberg. Come cozy up to the piano between 5:00-8:00 PM.  See you there!
URL:https://tomgrant.com/event/solo-piano-with-tom-grant-at-the-allison-inn-5/
LOCATION:Allison Inn & Spa\, 2525 Allison Lane\, Newberg\, OR\, United States
CATEGORIES:Concert,Free Concert,Live Jazz,Live Jazz,Live Music,Wine Country Live Music
ATTACH;FMTTYPE=image/jpeg:https://tomgrant.com/wp-content/uploads/2024/03/TG_AllisonInn2024_SQ-scaled.jpg
GEO:45.3189709;-122.9454381
X-APPLE-STRUCTURED-LOCATION;VALUE=URI;X-ADDRESS=Allison Inn & Spa 2525 Allison Lane Newberg OR United States;X-APPLE-RADIUS=500;X-TITLE=2525 Allison Lane:geo:-122.9454381,45.3189709
END:VEVENT
BEGIN:VEVENT
DTSTART;TZID=America/Los_Angeles:20250920T170000
DTEND;TZID=America/Los_Angeles:20250920T210000
DTSTAMP:20260422T155039
CREATED:20251020T185433Z
LAST-MODIFIED:20251213T200003Z
UID:10003219-1758387600-1758402000@tomgrant.com
SUMMARY:Tom Grant Solo Piano at the Allison Inn
DESCRIPTION:The tranquil vibe of wine country awaits!  Join Tom at the Allison Inn in Newberg. Come cozy up to the piano between 5:00-9:00 PM.  See you there!
URL:https://tomgrant.com/event/solo-piano-with-tom-grant-at-the-allison-inn-3/2025-09-20/
LOCATION:Allison Inn & Spa\, 2525 Allison Lane\, Newberg\, OR\, United States
CATEGORIES:Concert,Free Concert,Live Jazz,Live Jazz,Live Music,Wine Country Live Music
ATTACH;FMTTYPE=image/png:https://tomgrant.com/wp-content/uploads/2025/04/TG_AllisonInn2025_SQ-.png
GEO:45.3189709;-122.9454381
X-APPLE-STRUCTURED-LOCATION;VALUE=URI;X-ADDRESS=Allison Inn & Spa 2525 Allison Lane Newberg OR United States;X-APPLE-RADIUS=500;X-TITLE=2525 Allison Lane:geo:-122.9454381,45.3189709
END:VEVENT
BEGIN:VEVENT
DTSTART;TZID=America/Los_Angeles:20250927T170000
DTEND;TZID=America/Los_Angeles:20250927T200000
DTSTAMP:20260422T155039
CREATED:20250414T184852Z
LAST-MODIFIED:20260331T235823Z
UID:10003220-1758992400-1759003200@tomgrant.com
SUMMARY:Solo Piano with Tom Grant at the Allison Inn
DESCRIPTION:Join Tom at the Allison Inn in Newberg for a lovely evening of music in wine country. You’ll find Tom at the piano between 5:00-8:00 PM.
URL:https://tomgrant.com/event/solo-piano-with-tom-grant-at-the-allison-inn/2025-09-27/
LOCATION:Allison Inn & Spa\, 2525 Allison Lane\, Newberg\, OR\, United States
CATEGORIES:Concert,Free Concert,Live Jazz,Live Jazz,Live Music,Wine Country Live Music
ATTACH;FMTTYPE=image/jpeg:https://tomgrant.com/wp-content/uploads/2024/03/TG_AllisonInn2024_SQ-scaled.jpg
GEO:45.3189709;-122.9454381
X-APPLE-STRUCTURED-LOCATION;VALUE=URI;X-ADDRESS=Allison Inn & Spa 2525 Allison Lane Newberg OR United States;X-APPLE-RADIUS=500;X-TITLE=2525 Allison Lane:geo:-122.9454381,45.3189709
END:VEVENT
BEGIN:VEVENT
DTSTART;TZID=America/Los_Angeles:20251002T170000
DTEND;TZID=America/Los_Angeles:20251002T210000
DTSTAMP:20260422T155039
CREATED:20250929T210121Z
LAST-MODIFIED:20251016T223439Z
UID:10003273-1759424400-1759438800@tomgrant.com
SUMMARY:Solo Piano at the Allison Inn
DESCRIPTION:The tranquil vibe of wine country awaits!  Join Tom at the Allison Inn in Newberg. Come cozy up to the piano between 5:00-9:00 PM.
URL:https://tomgrant.com/event/solo-piano-with-tom-grant-at-the-allison-inn-2-2/
LOCATION:Allison Inn & Spa\, 2525 Allison Lane\, Newberg\, OR\, United States
CATEGORIES:Concert,Free Concert,Live Jazz,Live Jazz,Live Music,Wine Country Live Music
ATTACH;FMTTYPE=image/jpeg:https://tomgrant.com/wp-content/uploads/2024/03/TG_AllisonInn2024_SQ-scaled.jpg
GEO:45.3189709;-122.9454381
X-APPLE-STRUCTURED-LOCATION;VALUE=URI;X-ADDRESS=Allison Inn & Spa 2525 Allison Lane Newberg OR United States;X-APPLE-RADIUS=500;X-TITLE=2525 Allison Lane:geo:-122.9454381,45.3189709
END:VEVENT
BEGIN:VEVENT
DTSTART;TZID=America/Los_Angeles:20251005T193000
DTEND;TZID=America/Los_Angeles:20251005T220000
DTSTAMP:20260422T155039
CREATED:20250929T211908Z
LAST-MODIFIED:20250929T211908Z
UID:10003284-1759692600-1759701600@tomgrant.com
SUMMARY:Ron Steen Trio @ Clydes
DESCRIPTION:Portland’s old-school-style steak house features live music and a great vibe.  Ron Steen’s Sunday night group  is the perfect way to close out the weekend.
URL:https://tomgrant.com/event/ron-steen-trio-clydes-4/
LOCATION:Clyde’s  Prime Rib\, 5474 NE Sandy Blvd\, Ptld\, OR\, United States
CATEGORIES:Club gig,Live Jazz,Live Jazz,Live Music
ATTACH;FMTTYPE=image/png:https://tomgrant.com/wp-content/uploads/2022/07/clydes-prime-rib-logo.png
END:VEVENT
BEGIN:VEVENT
DTSTART;TZID=America/Los_Angeles:20251010T170000
DTEND;TZID=America/Los_Angeles:20251010T200000
DTSTAMP:20260422T155039
CREATED:20250929T205641Z
LAST-MODIFIED:20250929T210041Z
UID:10003274-1760115600-1760126400@tomgrant.com
SUMMARY:Solo Piano at the Allison Inn
DESCRIPTION:The tranquil vibe of wine country awaits!  Join Tom at the Allison Inn in Newberg. Come cozy up to the piano between 5:00-8:00 PM.
URL:https://tomgrant.com/event/solo-piano-with-tom-grant-at-the-allison-inn-2/2025-10-10/
LOCATION:Allison Inn & Spa\, 2525 Allison Lane\, Newberg\, OR\, United States
CATEGORIES:Concert,Free Concert,Live Jazz,Live Jazz,Live Music,Wine Country Live Music
ATTACH;FMTTYPE=image/jpeg:https://tomgrant.com/wp-content/uploads/2024/03/TG_AllisonInn2024_SQ-scaled.jpg
GEO:45.3189709;-122.9454381
X-APPLE-STRUCTURED-LOCATION;VALUE=URI;X-ADDRESS=Allison Inn & Spa 2525 Allison Lane Newberg OR United States;X-APPLE-RADIUS=500;X-TITLE=2525 Allison Lane:geo:-122.9454381,45.3189709
END:VEVENT
BEGIN:VEVENT
DTSTART;TZID=America/Los_Angeles:20251024T170000
DTEND;TZID=America/Los_Angeles:20251024T210000
DTSTAMP:20260422T155039
CREATED:20251020T185433Z
LAST-MODIFIED:20251213T200003Z
UID:10003299-1761325200-1761339600@tomgrant.com
SUMMARY:Tom Grant Solo Piano at the Allison Inn
DESCRIPTION:The tranquil vibe of wine country awaits!  Join Tom at the Allison Inn in Newberg. Come cozy up to the piano between 5:00-9:00 PM.  See you there!
URL:https://tomgrant.com/event/solo-piano-with-tom-grant-at-the-allison-inn-3/2025-10-24/
LOCATION:Allison Inn & Spa\, 2525 Allison Lane\, Newberg\, OR\, United States
CATEGORIES:Concert,Free Concert,Live Jazz,Live Jazz,Live Music,Wine Country Live Music
ATTACH;FMTTYPE=image/png:https://tomgrant.com/wp-content/uploads/2025/04/TG_AllisonInn2025_SQ-.png
GEO:45.3189709;-122.9454381
X-APPLE-STRUCTURED-LOCATION;VALUE=URI;X-ADDRESS=Allison Inn & Spa 2525 Allison Lane Newberg OR United States;X-APPLE-RADIUS=500;X-TITLE=2525 Allison Lane:geo:-122.9454381,45.3189709
END:VEVENT
BEGIN:VEVENT
DTSTART;TZID=America/Los_Angeles:20251030T190000
DTEND;TZID=America/Los_Angeles:20251030T210000
DTSTAMP:20260422T155039
CREATED:20250929T212036Z
LAST-MODIFIED:20251009T175623Z
UID:10003285-1761850800-1761858000@tomgrant.com
SUMMARY:Arrivederci with Ron Steen
DESCRIPTION:Make a reservation for dinner\, drinks\, and a great night of music at Arrivederci in Milwaukie.
URL:https://tomgrant.com/event/arrivederci-with-ron-steen-2/
LOCATION:Arrivederci Wine Bar\, 17023 SE McLoughlin Blvd.\, Milwaukie\, OR\, 97267
CATEGORIES:Arrivederci Wine & Jazz,Club gig,Live Jazz,Live Jazz,Portland Eastside
ATTACH;FMTTYPE=image/png:https://tomgrant.com/wp-content/uploads/2021/06/arrivederci-wine-bar.png
GEO:45.3994964;-122.6200178
X-APPLE-STRUCTURED-LOCATION;VALUE=URI;X-ADDRESS=Arrivederci Wine Bar 17023 SE McLoughlin Blvd. Milwaukie OR 97267;X-APPLE-RADIUS=500;X-TITLE=17023 SE McLoughlin Blvd.:geo:-122.6200178,45.3994964
END:VEVENT
BEGIN:VEVENT
DTSTART;TZID=America/Los_Angeles:20251031T170000
DTEND;TZID=America/Los_Angeles:20251031T210000
DTSTAMP:20260422T155039
CREATED:20251020T185433Z
LAST-MODIFIED:20251213T200003Z
UID:10003300-1761930000-1761944400@tomgrant.com
SUMMARY:Tom Grant Solo Piano at the Allison Inn
DESCRIPTION:The tranquil vibe of wine country awaits!  Join Tom at the Allison Inn in Newberg. Come cozy up to the piano between 5:00-9:00 PM.  See you there!
URL:https://tomgrant.com/event/solo-piano-with-tom-grant-at-the-allison-inn-3/2025-10-31/
LOCATION:Allison Inn & Spa\, 2525 Allison Lane\, Newberg\, OR\, United States
CATEGORIES:Concert,Free Concert,Live Jazz,Live Jazz,Live Music,Wine Country Live Music
ATTACH;FMTTYPE=image/png:https://tomgrant.com/wp-content/uploads/2025/04/TG_AllisonInn2025_SQ-.png
GEO:45.3189709;-122.9454381
X-APPLE-STRUCTURED-LOCATION;VALUE=URI;X-ADDRESS=Allison Inn & Spa 2525 Allison Lane Newberg OR United States;X-APPLE-RADIUS=500;X-TITLE=2525 Allison Lane:geo:-122.9454381,45.3189709
END:VEVENT
BEGIN:VEVENT
DTSTART;TZID=America/Los_Angeles:20251107T170000
DTEND;TZID=America/Los_Angeles:20251107T210000
DTSTAMP:20260422T155039
CREATED:20251020T185433Z
LAST-MODIFIED:20251213T200003Z
UID:10003311-1762534800-1762549200@tomgrant.com
SUMMARY:Tom Grant Solo Piano at the Allison Inn
DESCRIPTION:The tranquil vibe of wine country awaits!  Join Tom at the Allison Inn in Newberg. Come cozy up to the piano between 5:00-9:00 PM.  See you there!
URL:https://tomgrant.com/event/solo-piano-with-tom-grant-at-the-allison-inn-3/2025-11-07/
LOCATION:Allison Inn & Spa\, 2525 Allison Lane\, Newberg\, OR\, United States
CATEGORIES:Concert,Free Concert,Live Jazz,Live Jazz,Live Music,Wine Country Live Music
ATTACH;FMTTYPE=image/png:https://tomgrant.com/wp-content/uploads/2025/04/TG_AllisonInn2025_SQ-.png
GEO:45.3189709;-122.9454381
X-APPLE-STRUCTURED-LOCATION;VALUE=URI;X-ADDRESS=Allison Inn & Spa 2525 Allison Lane Newberg OR United States;X-APPLE-RADIUS=500;X-TITLE=2525 Allison Lane:geo:-122.9454381,45.3189709
END:VEVENT
BEGIN:VEVENT
DTSTART;TZID=America/Los_Angeles:20251108T170000
DTEND;TZID=America/Los_Angeles:20251108T210000
DTSTAMP:20260422T155039
CREATED:20251020T185433Z
LAST-MODIFIED:20251213T200003Z
UID:10003312-1762621200-1762635600@tomgrant.com
SUMMARY:Tom Grant Solo Piano at the Allison Inn
DESCRIPTION:The tranquil vibe of wine country awaits!  Join Tom at the Allison Inn in Newberg. Come cozy up to the piano between 5:00-9:00 PM.  See you there!
URL:https://tomgrant.com/event/solo-piano-with-tom-grant-at-the-allison-inn-3/2025-11-08/
LOCATION:Allison Inn & Spa\, 2525 Allison Lane\, Newberg\, OR\, United States
CATEGORIES:Concert,Free Concert,Live Jazz,Live Jazz,Live Music,Wine Country Live Music
ATTACH;FMTTYPE=image/png:https://tomgrant.com/wp-content/uploads/2025/04/TG_AllisonInn2025_SQ-.png
GEO:45.3189709;-122.9454381
X-APPLE-STRUCTURED-LOCATION;VALUE=URI;X-ADDRESS=Allison Inn & Spa 2525 Allison Lane Newberg OR United States;X-APPLE-RADIUS=500;X-TITLE=2525 Allison Lane:geo:-122.9454381,45.3189709
END:VEVENT
BEGIN:VEVENT
DTSTART;TZID=America/Los_Angeles:20251115T170000
DTEND;TZID=America/Los_Angeles:20251115T210000
DTSTAMP:20260422T155039
CREATED:20251020T185433Z
LAST-MODIFIED:20251213T200003Z
UID:10003313-1763226000-1763240400@tomgrant.com
SUMMARY:Tom Grant Solo Piano at the Allison Inn
DESCRIPTION:The tranquil vibe of wine country awaits!  Join Tom at the Allison Inn in Newberg. Come cozy up to the piano between 5:00-9:00 PM.  See you there!
URL:https://tomgrant.com/event/solo-piano-with-tom-grant-at-the-allison-inn-3/2025-11-15/
LOCATION:Allison Inn & Spa\, 2525 Allison Lane\, Newberg\, OR\, United States
CATEGORIES:Concert,Free Concert,Live Jazz,Live Jazz,Live Music,Wine Country Live Music
ATTACH;FMTTYPE=image/png:https://tomgrant.com/wp-content/uploads/2025/04/TG_AllisonInn2025_SQ-.png
GEO:45.3189709;-122.9454381
X-APPLE-STRUCTURED-LOCATION;VALUE=URI;X-ADDRESS=Allison Inn & Spa 2525 Allison Lane Newberg OR United States;X-APPLE-RADIUS=500;X-TITLE=2525 Allison Lane:geo:-122.9454381,45.3189709
END:VEVENT
END:VCALENDAR