BEGIN:VCALENDAR
VERSION:2.0
PRODID:-//Tom Grant - ECPv6.15.20//NONSGML v1.0//EN
CALSCALE:GREGORIAN
METHOD:PUBLISH
X-ORIGINAL-URL:https://tomgrant.com
X-WR-CALDESC:Events for Tom Grant
REFRESH-INTERVAL;VALUE=DURATION:PT1H
X-Robots-Tag:noindex
X-PUBLISHED-TTL:PT1H
BEGIN:VTIMEZONE
TZID:America/Los_Angeles
BEGIN:DAYLIGHT
TZOFFSETFROM:-0800
TZOFFSETTO:-0700
TZNAME:PDT
DTSTART:20200308T100000
END:DAYLIGHT
BEGIN:STANDARD
TZOFFSETFROM:-0700
TZOFFSETTO:-0800
TZNAME:PST
DTSTART:20201101T090000
END:STANDARD
BEGIN:DAYLIGHT
TZOFFSETFROM:-0800
TZOFFSETTO:-0700
TZNAME:PDT
DTSTART:20210314T100000
END:DAYLIGHT
BEGIN:STANDARD
TZOFFSETFROM:-0700
TZOFFSETTO:-0800
TZNAME:PST
DTSTART:20211107T090000
END:STANDARD
BEGIN:DAYLIGHT
TZOFFSETFROM:-0800
TZOFFSETTO:-0700
TZNAME:PDT
DTSTART:20220313T100000
END:DAYLIGHT
BEGIN:STANDARD
TZOFFSETFROM:-0700
TZOFFSETTO:-0800
TZNAME:PST
DTSTART:20221106T090000
END:STANDARD
END:VTIMEZONE
BEGIN:VEVENT
DTSTART;TZID=America/Los_Angeles:20210825T190000
DTEND;TZID=America/Los_Angeles:20210825T213000
DTSTAMP:20260422T190043
CREATED:20210805T162724Z
LAST-MODIFIED:20210811T171817Z
UID:10001404-1629918000-1629927000@tomgrant.com
SUMMARY:Ron Steen | Vocal Jam @ Wilf's
DESCRIPTION:Ron Steen’s Vocal Jazz Jam! Bring your own mic. Reserve at 503.223.0070. Proof of vax for inside seating. Doors open at 4pm\, minors welcome.
URL:https://tomgrant.com/event/ron-steen-vocal-jam-2/
LOCATION:Wilfs at Union Station\, 800 NW 6th Ave at Union Station \, Portland\, OR\, United States
CATEGORIES:Club gig,Concert,Dinner Concert,Jam,Live Jazz,Live Jazz,Live Music
ATTACH;FMTTYPE=image/jpeg:https://tomgrant.com/wp-content/uploads/2021/06/RON-STEEN.jpg
GEO:45.5288249;-122.6766007
X-APPLE-STRUCTURED-LOCATION;VALUE=URI;X-ADDRESS=Wilfs at Union Station 800 NW 6th Ave at Union Station  Portland OR United States;X-APPLE-RADIUS=500;X-TITLE=800 NW 6th Ave at Union Station:geo:-122.6766007,45.5288249
END:VEVENT
END:VCALENDAR