BEGIN:VCALENDAR
VERSION:2.0
PRODID:-//Tom Grant - ECPv6.15.20//NONSGML v1.0//EN
CALSCALE:GREGORIAN
METHOD:PUBLISH
X-ORIGINAL-URL:https://tomgrant.com
X-WR-CALDESC:Events for Tom Grant
REFRESH-INTERVAL;VALUE=DURATION:PT1H
X-Robots-Tag:noindex
X-PUBLISHED-TTL:PT1H
BEGIN:VTIMEZONE
TZID:America/Los_Angeles
BEGIN:DAYLIGHT
TZOFFSETFROM:-0800
TZOFFSETTO:-0700
TZNAME:PDT
DTSTART:20220313T100000
END:DAYLIGHT
BEGIN:STANDARD
TZOFFSETFROM:-0700
TZOFFSETTO:-0800
TZNAME:PST
DTSTART:20221106T090000
END:STANDARD
BEGIN:DAYLIGHT
TZOFFSETFROM:-0800
TZOFFSETTO:-0700
TZNAME:PDT
DTSTART:20230312T100000
END:DAYLIGHT
BEGIN:STANDARD
TZOFFSETFROM:-0700
TZOFFSETTO:-0800
TZNAME:PST
DTSTART:20231105T090000
END:STANDARD
BEGIN:DAYLIGHT
TZOFFSETFROM:-0800
TZOFFSETTO:-0700
TZNAME:PDT
DTSTART:20240310T100000
END:DAYLIGHT
BEGIN:STANDARD
TZOFFSETFROM:-0700
TZOFFSETTO:-0800
TZNAME:PST
DTSTART:20241103T090000
END:STANDARD
END:VTIMEZONE
BEGIN:VEVENT
DTSTART;TZID=America/Los_Angeles:20230928T190000
DTEND;TZID=America/Los_Angeles:20230928T210000
DTSTAMP:20260421T120759
CREATED:20230927T171021Z
LAST-MODIFIED:20230929T221148Z
UID:10002110-1695927600-1695934800@tomgrant.com
SUMMARY:Ron Steen Jam at Arrivederci
DESCRIPTION:Tom will be joining the Ron Steen jam with Kym Hampton. The music starts at 7 PM.
URL:https://tomgrant.com/event/ron-steen-jam-at-arrivederci/
LOCATION:Arrivederci Wine Bar\, 17023 SE McLoughlin Blvd.\, Milwaukie\, OR\, 97267
CATEGORIES:Club gig,Jam,Jazz Vocals,Live Jazz,Live Jazz,Live Music,Portland Eastside,Portland Eastside
ATTACH;FMTTYPE=image/png:https://tomgrant.com/wp-content/uploads/2021/06/arrivederci-wine-bar.png
GEO:45.3994964;-122.6200178
X-APPLE-STRUCTURED-LOCATION;VALUE=URI;X-ADDRESS=Arrivederci Wine Bar 17023 SE McLoughlin Blvd. Milwaukie OR 97267;X-APPLE-RADIUS=500;X-TITLE=17023 SE McLoughlin Blvd.:geo:-122.6200178,45.3994964
END:VEVENT
END:VCALENDAR