BEGIN:VCALENDAR
VERSION:2.0
PRODID:-//Tom Grant - ECPv6.15.20//NONSGML v1.0//EN
CALSCALE:GREGORIAN
METHOD:PUBLISH
X-WR-CALNAME:Tom Grant
X-ORIGINAL-URL:https://tomgrant.com
X-WR-CALDESC:Events for Tom Grant
REFRESH-INTERVAL;VALUE=DURATION:PT1H
X-Robots-Tag:noindex
X-PUBLISHED-TTL:PT1H
BEGIN:VTIMEZONE
TZID:America/Los_Angeles
BEGIN:DAYLIGHT
TZOFFSETFROM:-0800
TZOFFSETTO:-0700
TZNAME:PDT
DTSTART:20180311T100000
END:DAYLIGHT
BEGIN:STANDARD
TZOFFSETFROM:-0700
TZOFFSETTO:-0800
TZNAME:PST
DTSTART:20181104T090000
END:STANDARD
BEGIN:DAYLIGHT
TZOFFSETFROM:-0800
TZOFFSETTO:-0700
TZNAME:PDT
DTSTART:20190310T100000
END:DAYLIGHT
BEGIN:STANDARD
TZOFFSETFROM:-0700
TZOFFSETTO:-0800
TZNAME:PST
DTSTART:20191103T090000
END:STANDARD
BEGIN:DAYLIGHT
TZOFFSETFROM:-0800
TZOFFSETTO:-0700
TZNAME:PDT
DTSTART:20200308T100000
END:DAYLIGHT
BEGIN:STANDARD
TZOFFSETFROM:-0700
TZOFFSETTO:-0800
TZNAME:PST
DTSTART:20201101T090000
END:STANDARD
END:VTIMEZONE
BEGIN:VEVENT
DTSTART;TZID=America/Los_Angeles:20190421T180000
DTEND;TZID=America/Los_Angeles:20190421T210000
DTSTAMP:20260419T214244
CREATED:20170303T090032Z
LAST-MODIFIED:20191231T021831Z
UID:10001272-1555869600-1555880400@tomgrant.com
SUMMARY:Tommy O's Sunday Night Jazz Jam
DESCRIPTION:Head to Tommy O’s\, home of Vancouver’s favorite Sunday Night Jazz Jam with the Tom Grant Band. Catch special musical guests each week\, and enjoy fabulous food and drink.\nThe music starts at 6:00 in the lounge\, 801 Washington St.\, Vancouver. Call (360) 694-5107 for reservations or more info.
URL:https://tomgrant.com/event/sunday-night-jazz-jam-at-tommy-os-2018-01-28/2019-04-21/
LOCATION:Tommy O’s\, 801 Washington St.\, Vancouver\, WA\, United States
CATEGORIES:Club gig,Dinner Concert,Jam,Live Jazz,Live Jazz
ATTACH;FMTTYPE=image/jpeg:https://tomgrant.com/wp-content/uploads/2017/03/TG_Tommy-Os-2019-IG-e1568478112449.jpg
GEO:45.6274756;-122.6724955
X-APPLE-STRUCTURED-LOCATION;VALUE=URI;X-ADDRESS=Tommy O’s 801 Washington St. Vancouver WA United States;X-APPLE-RADIUS=500;X-TITLE=801 Washington St.:geo:-122.6724955,45.6274756
END:VEVENT
BEGIN:VEVENT
DTSTART;TZID=America/Los_Angeles:20190414T180000
DTEND;TZID=America/Los_Angeles:20190414T210000
DTSTAMP:20260419T214244
CREATED:20170303T090032Z
LAST-MODIFIED:20191231T021831Z
UID:10001271-1555264800-1555275600@tomgrant.com
SUMMARY:Tommy O's Sunday Night Jazz Jam
DESCRIPTION:Head to Tommy O’s\, home of Vancouver’s favorite Sunday Night Jazz Jam with the Tom Grant Band. Catch special musical guests each week\, and enjoy fabulous food and drink.\nThe music starts at 6:00 in the lounge\, 801 Washington St.\, Vancouver. Call (360) 694-5107 for reservations or more info.
URL:https://tomgrant.com/event/sunday-night-jazz-jam-at-tommy-os-2018-01-28/2019-04-14/
LOCATION:Tommy O’s\, 801 Washington St.\, Vancouver\, WA\, United States
CATEGORIES:Club gig,Dinner Concert,Jam,Live Jazz,Live Jazz
ATTACH;FMTTYPE=image/jpeg:https://tomgrant.com/wp-content/uploads/2017/03/TG_Tommy-Os-2019-IG-e1568478112449.jpg
GEO:45.6274756;-122.6724955
X-APPLE-STRUCTURED-LOCATION;VALUE=URI;X-ADDRESS=Tommy O’s 801 Washington St. Vancouver WA United States;X-APPLE-RADIUS=500;X-TITLE=801 Washington St.:geo:-122.6724955,45.6274756
END:VEVENT
BEGIN:VEVENT
DTSTART;TZID=America/Los_Angeles:20190407T180000
DTEND;TZID=America/Los_Angeles:20190407T210000
DTSTAMP:20260419T214244
CREATED:20170303T090032Z
LAST-MODIFIED:20191231T021831Z
UID:10001270-1554660000-1554670800@tomgrant.com
SUMMARY:Tommy O's Sunday Night Jazz Jam
DESCRIPTION:Head to Tommy O’s\, home of Vancouver’s favorite Sunday Night Jazz Jam with the Tom Grant Band. Catch special musical guests each week\, and enjoy fabulous food and drink.\nThe music starts at 6:00 in the lounge\, 801 Washington St.\, Vancouver. Call (360) 694-5107 for reservations or more info.
URL:https://tomgrant.com/event/sunday-night-jazz-jam-at-tommy-os-2018-01-28/2019-04-07/
LOCATION:Tommy O’s\, 801 Washington St.\, Vancouver\, WA\, United States
CATEGORIES:Club gig,Dinner Concert,Jam,Live Jazz,Live Jazz
ATTACH;FMTTYPE=image/jpeg:https://tomgrant.com/wp-content/uploads/2017/03/TG_Tommy-Os-2019-IG-e1568478112449.jpg
GEO:45.6274756;-122.6724955
X-APPLE-STRUCTURED-LOCATION;VALUE=URI;X-ADDRESS=Tommy O’s 801 Washington St. Vancouver WA United States;X-APPLE-RADIUS=500;X-TITLE=801 Washington St.:geo:-122.6724955,45.6274756
END:VEVENT
BEGIN:VEVENT
DTSTART;TZID=America/Los_Angeles:20190331T180000
DTEND;TZID=America/Los_Angeles:20190331T210000
DTSTAMP:20260419T214244
CREATED:20170303T090032Z
LAST-MODIFIED:20191231T021831Z
UID:10001269-1554055200-1554066000@tomgrant.com
SUMMARY:Tommy O's Sunday Night Jazz Jam
DESCRIPTION:Head to Tommy O’s\, home of Vancouver’s favorite Sunday Night Jazz Jam with the Tom Grant Band. Catch special musical guests each week\, and enjoy fabulous food and drink.\nThe music starts at 6:00 in the lounge\, 801 Washington St.\, Vancouver. Call (360) 694-5107 for reservations or more info.
URL:https://tomgrant.com/event/sunday-night-jazz-jam-at-tommy-os-2018-01-28/2019-03-31/
LOCATION:Tommy O’s\, 801 Washington St.\, Vancouver\, WA\, United States
CATEGORIES:Club gig,Dinner Concert,Jam,Live Jazz,Live Jazz
ATTACH;FMTTYPE=image/jpeg:https://tomgrant.com/wp-content/uploads/2017/03/TG_Tommy-Os-2019-IG-e1568478112449.jpg
GEO:45.6274756;-122.6724955
X-APPLE-STRUCTURED-LOCATION;VALUE=URI;X-ADDRESS=Tommy O’s 801 Washington St. Vancouver WA United States;X-APPLE-RADIUS=500;X-TITLE=801 Washington St.:geo:-122.6724955,45.6274756
END:VEVENT
BEGIN:VEVENT
DTSTART;TZID=America/Los_Angeles:20190324T180000
DTEND;TZID=America/Los_Angeles:20190324T210000
DTSTAMP:20260419T214244
CREATED:20170303T090032Z
LAST-MODIFIED:20191231T021831Z
UID:10001268-1553450400-1553461200@tomgrant.com
SUMMARY:Tommy O's Sunday Night Jazz Jam
DESCRIPTION:Head to Tommy O’s\, home of Vancouver’s favorite Sunday Night Jazz Jam with the Tom Grant Band. Catch special musical guests each week\, and enjoy fabulous food and drink.\nThe music starts at 6:00 in the lounge\, 801 Washington St.\, Vancouver. Call (360) 694-5107 for reservations or more info.
URL:https://tomgrant.com/event/sunday-night-jazz-jam-at-tommy-os-2018-01-28/2019-03-24/
LOCATION:Tommy O’s\, 801 Washington St.\, Vancouver\, WA\, United States
CATEGORIES:Club gig,Dinner Concert,Jam,Live Jazz,Live Jazz
ATTACH;FMTTYPE=image/jpeg:https://tomgrant.com/wp-content/uploads/2017/03/TG_Tommy-Os-2019-IG-e1568478112449.jpg
GEO:45.6274756;-122.6724955
X-APPLE-STRUCTURED-LOCATION;VALUE=URI;X-ADDRESS=Tommy O’s 801 Washington St. Vancouver WA United States;X-APPLE-RADIUS=500;X-TITLE=801 Washington St.:geo:-122.6724955,45.6274756
END:VEVENT
BEGIN:VEVENT
DTSTART;TZID=America/Los_Angeles:20190317T180000
DTEND;TZID=America/Los_Angeles:20190317T210000
DTSTAMP:20260419T214244
CREATED:20170303T090032Z
LAST-MODIFIED:20191231T021831Z
UID:10001267-1552845600-1552856400@tomgrant.com
SUMMARY:Tommy O's Sunday Night Jazz Jam
DESCRIPTION:Head to Tommy O’s\, home of Vancouver’s favorite Sunday Night Jazz Jam with the Tom Grant Band. Catch special musical guests each week\, and enjoy fabulous food and drink.\nThe music starts at 6:00 in the lounge\, 801 Washington St.\, Vancouver. Call (360) 694-5107 for reservations or more info.
URL:https://tomgrant.com/event/sunday-night-jazz-jam-at-tommy-os-2018-01-28/2019-03-17/
LOCATION:Tommy O’s\, 801 Washington St.\, Vancouver\, WA\, United States
CATEGORIES:Club gig,Dinner Concert,Jam,Live Jazz,Live Jazz
ATTACH;FMTTYPE=image/jpeg:https://tomgrant.com/wp-content/uploads/2017/03/TG_Tommy-Os-2019-IG-e1568478112449.jpg
GEO:45.6274756;-122.6724955
X-APPLE-STRUCTURED-LOCATION;VALUE=URI;X-ADDRESS=Tommy O’s 801 Washington St. Vancouver WA United States;X-APPLE-RADIUS=500;X-TITLE=801 Washington St.:geo:-122.6724955,45.6274756
END:VEVENT
BEGIN:VEVENT
DTSTART;TZID=America/Los_Angeles:20190310T180000
DTEND;TZID=America/Los_Angeles:20190310T210000
DTSTAMP:20260419T214244
CREATED:20170303T090032Z
LAST-MODIFIED:20191231T021831Z
UID:10001266-1552240800-1552251600@tomgrant.com
SUMMARY:Tommy O's Sunday Night Jazz Jam
DESCRIPTION:Head to Tommy O’s\, home of Vancouver’s favorite Sunday Night Jazz Jam with the Tom Grant Band. Catch special musical guests each week\, and enjoy fabulous food and drink.\nThe music starts at 6:00 in the lounge\, 801 Washington St.\, Vancouver. Call (360) 694-5107 for reservations or more info.
URL:https://tomgrant.com/event/sunday-night-jazz-jam-at-tommy-os-2018-01-28/2019-03-10/
LOCATION:Tommy O’s\, 801 Washington St.\, Vancouver\, WA\, United States
CATEGORIES:Club gig,Dinner Concert,Jam,Live Jazz,Live Jazz
ATTACH;FMTTYPE=image/jpeg:https://tomgrant.com/wp-content/uploads/2017/03/TG_Tommy-Os-2019-IG-e1568478112449.jpg
GEO:45.6274756;-122.6724955
X-APPLE-STRUCTURED-LOCATION;VALUE=URI;X-ADDRESS=Tommy O’s 801 Washington St. Vancouver WA United States;X-APPLE-RADIUS=500;X-TITLE=801 Washington St.:geo:-122.6724955,45.6274756
END:VEVENT
BEGIN:VEVENT
DTSTART;TZID=America/Los_Angeles:20190303T180000
DTEND;TZID=America/Los_Angeles:20190303T210000
DTSTAMP:20260419T214244
CREATED:20170303T090032Z
LAST-MODIFIED:20191231T021831Z
UID:10001265-1551636000-1551646800@tomgrant.com
SUMMARY:Tommy O's Sunday Night Jazz Jam
DESCRIPTION:Head to Tommy O’s\, home of Vancouver’s favorite Sunday Night Jazz Jam with the Tom Grant Band. Catch special musical guests each week\, and enjoy fabulous food and drink.\nThe music starts at 6:00 in the lounge\, 801 Washington St.\, Vancouver. Call (360) 694-5107 for reservations or more info.
URL:https://tomgrant.com/event/sunday-night-jazz-jam-at-tommy-os-2018-01-28/2019-03-03/
LOCATION:Tommy O’s\, 801 Washington St.\, Vancouver\, WA\, United States
CATEGORIES:Club gig,Dinner Concert,Jam,Live Jazz,Live Jazz
ATTACH;FMTTYPE=image/jpeg:https://tomgrant.com/wp-content/uploads/2017/03/TG_Tommy-Os-2019-IG-e1568478112449.jpg
GEO:45.6274756;-122.6724955
X-APPLE-STRUCTURED-LOCATION;VALUE=URI;X-ADDRESS=Tommy O’s 801 Washington St. Vancouver WA United States;X-APPLE-RADIUS=500;X-TITLE=801 Washington St.:geo:-122.6724955,45.6274756
END:VEVENT
BEGIN:VEVENT
DTSTART;TZID=America/Los_Angeles:20190224T180000
DTEND;TZID=America/Los_Angeles:20190224T210000
DTSTAMP:20260419T214244
CREATED:20170303T090032Z
LAST-MODIFIED:20191231T021831Z
UID:10001264-1551031200-1551042000@tomgrant.com
SUMMARY:Tommy O's Sunday Night Jazz Jam
DESCRIPTION:Head to Tommy O’s\, home of Vancouver’s favorite Sunday Night Jazz Jam with the Tom Grant Band. Catch special musical guests each week\, and enjoy fabulous food and drink.\nThe music starts at 6:00 in the lounge\, 801 Washington St.\, Vancouver. Call (360) 694-5107 for reservations or more info.
URL:https://tomgrant.com/event/sunday-night-jazz-jam-at-tommy-os-2018-01-28/2019-02-24/
LOCATION:Tommy O’s\, 801 Washington St.\, Vancouver\, WA\, United States
CATEGORIES:Club gig,Dinner Concert,Jam,Live Jazz,Live Jazz
ATTACH;FMTTYPE=image/jpeg:https://tomgrant.com/wp-content/uploads/2017/03/TG_Tommy-Os-2019-IG-e1568478112449.jpg
GEO:45.6274756;-122.6724955
X-APPLE-STRUCTURED-LOCATION;VALUE=URI;X-ADDRESS=Tommy O’s 801 Washington St. Vancouver WA United States;X-APPLE-RADIUS=500;X-TITLE=801 Washington St.:geo:-122.6724955,45.6274756
END:VEVENT
BEGIN:VEVENT
DTSTART;TZID=America/Los_Angeles:20190217T180000
DTEND;TZID=America/Los_Angeles:20190217T210000
DTSTAMP:20260419T214244
CREATED:20170303T090032Z
LAST-MODIFIED:20191231T021831Z
UID:10001263-1550426400-1550437200@tomgrant.com
SUMMARY:Tommy O's Sunday Night Jazz Jam
DESCRIPTION:Head to Tommy O’s\, home of Vancouver’s favorite Sunday Night Jazz Jam with the Tom Grant Band. Catch special musical guests each week\, and enjoy fabulous food and drink.\nThe music starts at 6:00 in the lounge\, 801 Washington St.\, Vancouver. Call (360) 694-5107 for reservations or more info.
URL:https://tomgrant.com/event/sunday-night-jazz-jam-at-tommy-os-2018-01-28/2019-02-17/
LOCATION:Tommy O’s\, 801 Washington St.\, Vancouver\, WA\, United States
CATEGORIES:Club gig,Dinner Concert,Jam,Live Jazz,Live Jazz
ATTACH;FMTTYPE=image/jpeg:https://tomgrant.com/wp-content/uploads/2017/03/TG_Tommy-Os-2019-IG-e1568478112449.jpg
GEO:45.6274756;-122.6724955
X-APPLE-STRUCTURED-LOCATION;VALUE=URI;X-ADDRESS=Tommy O’s 801 Washington St. Vancouver WA United States;X-APPLE-RADIUS=500;X-TITLE=801 Washington St.:geo:-122.6724955,45.6274756
END:VEVENT
BEGIN:VEVENT
DTSTART;TZID=America/Los_Angeles:20190210T180000
DTEND;TZID=America/Los_Angeles:20190210T210000
DTSTAMP:20260419T214244
CREATED:20170303T090032Z
LAST-MODIFIED:20191231T021831Z
UID:10001262-1549821600-1549832400@tomgrant.com
SUMMARY:Tommy O's Sunday Night Jazz Jam
DESCRIPTION:Head to Tommy O’s\, home of Vancouver’s favorite Sunday Night Jazz Jam with the Tom Grant Band. Catch special musical guests each week\, and enjoy fabulous food and drink.\nThe music starts at 6:00 in the lounge\, 801 Washington St.\, Vancouver. Call (360) 694-5107 for reservations or more info.
URL:https://tomgrant.com/event/sunday-night-jazz-jam-at-tommy-os-2018-01-28/2019-02-10/
LOCATION:Tommy O’s\, 801 Washington St.\, Vancouver\, WA\, United States
CATEGORIES:Club gig,Dinner Concert,Jam,Live Jazz,Live Jazz
ATTACH;FMTTYPE=image/jpeg:https://tomgrant.com/wp-content/uploads/2017/03/TG_Tommy-Os-2019-IG-e1568478112449.jpg
GEO:45.6274756;-122.6724955
X-APPLE-STRUCTURED-LOCATION;VALUE=URI;X-ADDRESS=Tommy O’s 801 Washington St. Vancouver WA United States;X-APPLE-RADIUS=500;X-TITLE=801 Washington St.:geo:-122.6724955,45.6274756
END:VEVENT
BEGIN:VEVENT
DTSTART;TZID=America/Los_Angeles:20190203T180000
DTEND;TZID=America/Los_Angeles:20190203T210000
DTSTAMP:20260419T214244
CREATED:20170303T090032Z
LAST-MODIFIED:20191231T021831Z
UID:10001261-1549216800-1549227600@tomgrant.com
SUMMARY:Tommy O's Sunday Night Jazz Jam
DESCRIPTION:Head to Tommy O’s\, home of Vancouver’s favorite Sunday Night Jazz Jam with the Tom Grant Band. Catch special musical guests each week\, and enjoy fabulous food and drink.\nThe music starts at 6:00 in the lounge\, 801 Washington St.\, Vancouver. Call (360) 694-5107 for reservations or more info.
URL:https://tomgrant.com/event/sunday-night-jazz-jam-at-tommy-os-2018-01-28/2019-02-03/
LOCATION:Tommy O’s\, 801 Washington St.\, Vancouver\, WA\, United States
CATEGORIES:Club gig,Dinner Concert,Jam,Live Jazz,Live Jazz
ATTACH;FMTTYPE=image/jpeg:https://tomgrant.com/wp-content/uploads/2017/03/TG_Tommy-Os-2019-IG-e1568478112449.jpg
GEO:45.6274756;-122.6724955
X-APPLE-STRUCTURED-LOCATION;VALUE=URI;X-ADDRESS=Tommy O’s 801 Washington St. Vancouver WA United States;X-APPLE-RADIUS=500;X-TITLE=801 Washington St.:geo:-122.6724955,45.6274756
END:VEVENT
BEGIN:VEVENT
DTSTART;TZID=America/Los_Angeles:20190127T180000
DTEND;TZID=America/Los_Angeles:20190127T210000
DTSTAMP:20260419T214244
CREATED:20170303T090032Z
LAST-MODIFIED:20191231T021831Z
UID:10001260-1548612000-1548622800@tomgrant.com
SUMMARY:Tommy O's Sunday Night Jazz Jam
DESCRIPTION:Head to Tommy O’s\, home of Vancouver’s favorite Sunday Night Jazz Jam with the Tom Grant Band. Catch special musical guests each week\, and enjoy fabulous food and drink.\nThe music starts at 6:00 in the lounge\, 801 Washington St.\, Vancouver. Call (360) 694-5107 for reservations or more info.
URL:https://tomgrant.com/event/sunday-night-jazz-jam-at-tommy-os-2018-01-28/2019-01-27/
LOCATION:Tommy O’s\, 801 Washington St.\, Vancouver\, WA\, United States
CATEGORIES:Club gig,Dinner Concert,Jam,Live Jazz,Live Jazz
ATTACH;FMTTYPE=image/jpeg:https://tomgrant.com/wp-content/uploads/2017/03/TG_Tommy-Os-2019-IG-e1568478112449.jpg
GEO:45.6274756;-122.6724955
X-APPLE-STRUCTURED-LOCATION;VALUE=URI;X-ADDRESS=Tommy O’s 801 Washington St. Vancouver WA United States;X-APPLE-RADIUS=500;X-TITLE=801 Washington St.:geo:-122.6724955,45.6274756
END:VEVENT
BEGIN:VEVENT
DTSTART;TZID=America/Los_Angeles:20190120T180000
DTEND;TZID=America/Los_Angeles:20190120T210000
DTSTAMP:20260419T214244
CREATED:20170303T090032Z
LAST-MODIFIED:20191231T021831Z
UID:10001259-1548007200-1548018000@tomgrant.com
SUMMARY:Tommy O's Sunday Night Jazz Jam
DESCRIPTION:Head to Tommy O’s\, home of Vancouver’s favorite Sunday Night Jazz Jam with the Tom Grant Band. Catch special musical guests each week\, and enjoy fabulous food and drink.\nThe music starts at 6:00 in the lounge\, 801 Washington St.\, Vancouver. Call (360) 694-5107 for reservations or more info.
URL:https://tomgrant.com/event/sunday-night-jazz-jam-at-tommy-os-2018-01-28/2019-01-20/
LOCATION:Tommy O’s\, 801 Washington St.\, Vancouver\, WA\, United States
CATEGORIES:Club gig,Dinner Concert,Jam,Live Jazz,Live Jazz
ATTACH;FMTTYPE=image/jpeg:https://tomgrant.com/wp-content/uploads/2017/03/TG_Tommy-Os-2019-IG-e1568478112449.jpg
GEO:45.6274756;-122.6724955
X-APPLE-STRUCTURED-LOCATION;VALUE=URI;X-ADDRESS=Tommy O’s 801 Washington St. Vancouver WA United States;X-APPLE-RADIUS=500;X-TITLE=801 Washington St.:geo:-122.6724955,45.6274756
END:VEVENT
END:VCALENDAR