BEGIN:VCALENDAR
VERSION:2.0
PRODID:-//Tom Grant - ECPv6.15.20//NONSGML v1.0//EN
CALSCALE:GREGORIAN
METHOD:PUBLISH
X-ORIGINAL-URL:https://tomgrant.com
X-WR-CALDESC:Events for Tom Grant
REFRESH-INTERVAL;VALUE=DURATION:PT1H
X-Robots-Tag:noindex
X-PUBLISHED-TTL:PT1H
BEGIN:VTIMEZONE
TZID:America/Los_Angeles
BEGIN:DAYLIGHT
TZOFFSETFROM:-0800
TZOFFSETTO:-0700
TZNAME:PDT
DTSTART:20200308T100000
END:DAYLIGHT
BEGIN:STANDARD
TZOFFSETFROM:-0700
TZOFFSETTO:-0800
TZNAME:PST
DTSTART:20201101T090000
END:STANDARD
BEGIN:DAYLIGHT
TZOFFSETFROM:-0800
TZOFFSETTO:-0700
TZNAME:PDT
DTSTART:20210314T100000
END:DAYLIGHT
BEGIN:STANDARD
TZOFFSETFROM:-0700
TZOFFSETTO:-0800
TZNAME:PST
DTSTART:20211107T090000
END:STANDARD
BEGIN:DAYLIGHT
TZOFFSETFROM:-0800
TZOFFSETTO:-0700
TZNAME:PDT
DTSTART:20220313T100000
END:DAYLIGHT
BEGIN:STANDARD
TZOFFSETFROM:-0700
TZOFFSETTO:-0800
TZNAME:PST
DTSTART:20221106T090000
END:STANDARD
BEGIN:DAYLIGHT
TZOFFSETFROM:-0800
TZOFFSETTO:-0700
TZNAME:PDT
DTSTART:20230312T100000
END:DAYLIGHT
BEGIN:STANDARD
TZOFFSETFROM:-0700
TZOFFSETTO:-0800
TZNAME:PST
DTSTART:20231105T090000
END:STANDARD
END:VTIMEZONE
BEGIN:VEVENT
DTSTART;TZID=America/Los_Angeles:20221207T190000
DTEND;TZID=America/Los_Angeles:20221207T210000
DTSTAMP:20260419T200155
CREATED:20221207T162811Z
LAST-MODIFIED:20221207T162906Z
UID:10001491-1670439600-1670446800@tomgrant.com
SUMMARY:Wednesday Night Live ~ Holiday Livestream
DESCRIPTION:It’s been a while since we’ve seen you all\, and we miss you! Tune in at 7 PM for some Holiday favorites\, a few standards\, and of course\, Tom’s original tunes.  We’ll be LIVE on Facebook at 7 PM. You can catch the replay of the show anytime on my FB page:  https://www.facebook.com/TomGrantPDX
URL:https://tomgrant.com/event/wednesday-night-live-holiday-livestream/
CATEGORIES:Holiday Concert,Online Concert,Streaming Live Music,Studio Streaming
ATTACH;FMTTYPE=image/png:https://tomgrant.com/wp-content/uploads/2022/12/TG-Holiday-SQ-livestream-Dec-7-2022.png
END:VEVENT
BEGIN:VEVENT
DTSTART;TZID=America/Los_Angeles:20211020T193000
DTEND;TZID=America/Los_Angeles:20211020T203000
DTSTAMP:20260419T200155
CREATED:20211012T161114Z
LAST-MODIFIED:20211012T161114Z
UID:10001427-1634758200-1634761800@tomgrant.com
SUMMARY:Weds Night Live!
DESCRIPTION:
URL:https://tomgrant.com/event/weds-night-live-2/
LOCATION:Facebook LIVE\, United States
CATEGORIES:Free Concert,Online Concert,Social Distance Sessions,Streaming Live Music,Studio Streaming
ATTACH;FMTTYPE=image/jpeg:https://tomgrant.com/wp-content/uploads/2021/09/TG-Live-Weds-Night-Live-FB--scaled-e1634326577298.jpg
END:VEVENT
END:VCALENDAR