BEGIN:VCALENDAR
VERSION:2.0
PRODID:-//Tom Grant - ECPv6.15.20//NONSGML v1.0//EN
CALSCALE:GREGORIAN
METHOD:PUBLISH
X-ORIGINAL-URL:https://tomgrant.com
X-WR-CALDESC:Events for Tom Grant
REFRESH-INTERVAL;VALUE=DURATION:PT1H
X-Robots-Tag:noindex
X-PUBLISHED-TTL:PT1H
BEGIN:VTIMEZONE
TZID:America/Los_Angeles
BEGIN:DAYLIGHT
TZOFFSETFROM:-0800
TZOFFSETTO:-0700
TZNAME:PDT
DTSTART:20210314T100000
END:DAYLIGHT
BEGIN:STANDARD
TZOFFSETFROM:-0700
TZOFFSETTO:-0800
TZNAME:PST
DTSTART:20211107T090000
END:STANDARD
BEGIN:DAYLIGHT
TZOFFSETFROM:-0800
TZOFFSETTO:-0700
TZNAME:PDT
DTSTART:20220313T100000
END:DAYLIGHT
BEGIN:STANDARD
TZOFFSETFROM:-0700
TZOFFSETTO:-0800
TZNAME:PST
DTSTART:20221106T090000
END:STANDARD
BEGIN:DAYLIGHT
TZOFFSETFROM:-0800
TZOFFSETTO:-0700
TZNAME:PDT
DTSTART:20230312T100000
END:DAYLIGHT
BEGIN:STANDARD
TZOFFSETFROM:-0700
TZOFFSETTO:-0800
TZNAME:PST
DTSTART:20231105T090000
END:STANDARD
END:VTIMEZONE
BEGIN:VEVENT
DTSTART;TZID=America/Los_Angeles:20220214T173000
DTEND;TZID=America/Los_Angeles:20220214T204500
DTSTAMP:20260422T102236
CREATED:20220126T180458Z
LAST-MODIFIED:20220202T170807Z
UID:10001435-1644859800-1644871500@tomgrant.com
SUMMARY:VALENTINE'S at The 1905
DESCRIPTION:Shelly Rudolph\, Ron Steen\, Dave Captein\, and Tom Grant – live at The 1905 on Valentine’s Night.  Two Shows:  5:30 and 7:30. Stick around for the Ron Steen Jam at 9 P M.\nTICKETS ONLINE: Valentine’s at the 1905 \n  \n 
URL:https://tomgrant.com/event/valentines-at-the-1905/
LOCATION:The 1905\, 830 N Shaver\, Portland \, OR
CATEGORIES:Club gig,Holiday Concert,Holiday Event,Live Jazz,Live Jazz,Live Music,Portland Eastside,Ticketed Event,Valentine's Event
ATTACH;FMTTYPE=image/jpeg:https://tomgrant.com/wp-content/uploads/2022/01/TG_-Shelly-Valentines-SQ-2022.jpg
GEO:45.5519524;-122.6752814
X-APPLE-STRUCTURED-LOCATION;VALUE=URI;X-ADDRESS=The 1905 830 N Shaver Portland  OR;X-APPLE-RADIUS=500;X-TITLE=830 N Shaver:geo:-122.6752814,45.5519524
END:VEVENT
END:VCALENDAR