BEGIN:VCALENDAR
VERSION:2.0
PRODID:-//Tom Grant - ECPv6.15.20//NONSGML v1.0//EN
CALSCALE:GREGORIAN
METHOD:PUBLISH
X-WR-CALNAME:Tom Grant
X-ORIGINAL-URL:https://tomgrant.com
X-WR-CALDESC:Events for Tom Grant
REFRESH-INTERVAL;VALUE=DURATION:PT1H
X-Robots-Tag:noindex
X-PUBLISHED-TTL:PT1H
BEGIN:VTIMEZONE
TZID:America/Los_Angeles
BEGIN:DAYLIGHT
TZOFFSETFROM:-0800
TZOFFSETTO:-0700
TZNAME:PDT
DTSTART:20240310T100000
END:DAYLIGHT
BEGIN:STANDARD
TZOFFSETFROM:-0700
TZOFFSETTO:-0800
TZNAME:PST
DTSTART:20241103T090000
END:STANDARD
BEGIN:DAYLIGHT
TZOFFSETFROM:-0800
TZOFFSETTO:-0700
TZNAME:PDT
DTSTART:20250309T100000
END:DAYLIGHT
BEGIN:STANDARD
TZOFFSETFROM:-0700
TZOFFSETTO:-0800
TZNAME:PST
DTSTART:20251102T090000
END:STANDARD
BEGIN:DAYLIGHT
TZOFFSETFROM:-0800
TZOFFSETTO:-0700
TZNAME:PDT
DTSTART:20260308T100000
END:DAYLIGHT
BEGIN:STANDARD
TZOFFSETFROM:-0700
TZOFFSETTO:-0800
TZNAME:PST
DTSTART:20261101T090000
END:STANDARD
END:VTIMEZONE
BEGIN:VEVENT
DTSTART;TZID=America/Los_Angeles:20250208T160000
DTEND;TZID=America/Los_Angeles:20250208T160000
DTSTAMP:20260420T110409
CREATED:20241230T013108Z
LAST-MODIFIED:20241230T021740Z
UID:10003151-1739030400-1739030400@tomgrant.com
SUMMARY:Tom & Shelly at Stoller Family Estate
DESCRIPTION:Warm up your winter Saturday with Tom and Shelly at Stoller Family Estate. Join us for a magical afternoon as you take in the sweet sounds of this soulful duo.  Bring your Valentine vibes for a few hours of live music paired with your favorite Stoller wines and enticing handcrafted pizzas.\nSeating and wine bar at 3:15 PM  | Concert starts at 4:00 PM\nFood and wine will be available for purchase at the event. \n\nhttps://bit.ly/TomShellyatStollerFeb25
URL:https://tomgrant.com/event/tom-shelly-at-stoller-family-estate/
CATEGORIES:Concert,Live Jazz,Live Music,Valentine's Event,Wine Country Live Music,Wine Events
ATTACH;FMTTYPE=image/jpeg:https://tomgrant.com/wp-content/uploads/2024/12/TG-Shelly-at-Stoller-Feb-2025-scaled.jpg
END:VEVENT
END:VCALENDAR