BEGIN:VCALENDAR
VERSION:2.0
PRODID:-//Tom Grant - ECPv6.15.20//NONSGML v1.0//EN
CALSCALE:GREGORIAN
METHOD:PUBLISH
X-WR-CALNAME:Tom Grant
X-ORIGINAL-URL:https://tomgrant.com
X-WR-CALDESC:Events for Tom Grant
REFRESH-INTERVAL;VALUE=DURATION:PT1H
X-Robots-Tag:noindex
X-PUBLISHED-TTL:PT1H
BEGIN:VTIMEZONE
TZID:America/Los_Angeles
BEGIN:DAYLIGHT
TZOFFSETFROM:-0800
TZOFFSETTO:-0700
TZNAME:PDT
DTSTART:20210314T100000
END:DAYLIGHT
BEGIN:STANDARD
TZOFFSETFROM:-0700
TZOFFSETTO:-0800
TZNAME:PST
DTSTART:20211107T090000
END:STANDARD
BEGIN:DAYLIGHT
TZOFFSETFROM:-0800
TZOFFSETTO:-0700
TZNAME:PDT
DTSTART:20220313T100000
END:DAYLIGHT
BEGIN:STANDARD
TZOFFSETFROM:-0700
TZOFFSETTO:-0800
TZNAME:PST
DTSTART:20221106T090000
END:STANDARD
BEGIN:DAYLIGHT
TZOFFSETFROM:-0800
TZOFFSETTO:-0700
TZNAME:PDT
DTSTART:20230312T100000
END:DAYLIGHT
BEGIN:STANDARD
TZOFFSETFROM:-0700
TZOFFSETTO:-0800
TZNAME:PST
DTSTART:20231105T090000
END:STANDARD
BEGIN:DAYLIGHT
TZOFFSETFROM:-0800
TZOFFSETTO:-0700
TZNAME:PDT
DTSTART:20240310T100000
END:DAYLIGHT
BEGIN:STANDARD
TZOFFSETFROM:-0700
TZOFFSETTO:-0800
TZNAME:PST
DTSTART:20241103T090000
END:STANDARD
END:VTIMEZONE
BEGIN:VEVENT
DTSTART;TZID=America/Los_Angeles:20230225T173000
DTEND;TZID=America/Los_Angeles:20230225T200000
DTSTAMP:20260421T030252
CREATED:20230119T070557Z
LAST-MODIFIED:20230119T070800Z
UID:10001882-1677346200-1677355200@tomgrant.com
SUMMARY:The Benson Hotel | Grand Lobby
DESCRIPTION:Tom’s at the Benson every Fri & Sat evening\, 5:30-8 pm.  Drop by after work for a bite and a beverage\, or before a night on the town. It’s the perfectly-Portland place to be!
URL:https://tomgrant.com/event/back-at-the-benson-friday-and-saturday-evenings-530-800-3-2/2023-02-25/
LOCATION:OR
CATEGORIES:Club gig,Downtown Portland,Live Jazz,Live Jazz,Live Music,weekly appearances
ATTACH;FMTTYPE=image/jpeg:https://tomgrant.com/wp-content/uploads/2022/08/TG_Benson_SQ_Fall_22.jpg
END:VEVENT
BEGIN:VEVENT
DTSTART;TZID=America/Los_Angeles:20230224T173000
DTEND;TZID=America/Los_Angeles:20230224T200000
DTSTAMP:20260421T030252
CREATED:20230119T070557Z
LAST-MODIFIED:20230119T070800Z
UID:10001881-1677259800-1677268800@tomgrant.com
SUMMARY:The Benson Hotel | Grand Lobby
DESCRIPTION:Tom’s at the Benson every Fri & Sat evening\, 5:30-8 pm.  Drop by after work for a bite and a beverage\, or before a night on the town. It’s the perfectly-Portland place to be!
URL:https://tomgrant.com/event/back-at-the-benson-friday-and-saturday-evenings-530-800-3-2/2023-02-24/
LOCATION:OR
CATEGORIES:Club gig,Downtown Portland,Live Jazz,Live Jazz,Live Music,weekly appearances
ATTACH;FMTTYPE=image/jpeg:https://tomgrant.com/wp-content/uploads/2022/08/TG_Benson_SQ_Fall_22.jpg
END:VEVENT
BEGIN:VEVENT
DTSTART;TZID=America/Los_Angeles:20230221T180000
DTEND;TZID=America/Los_Angeles:20230221T200000
DTSTAMP:20260421T030252
CREATED:20230119T055127Z
LAST-MODIFIED:20240702T035026Z
UID:10001610-1677002400-1677009600@tomgrant.com
SUMMARY:Tuesdays at Nicoletta's
DESCRIPTION:Liven up your Tuesdays with Tom Grant. Live jazz\, delicious food\, and a relaxed atmosphere await you at Nicoletta’s Table in Lake Oswego.\nNO COVER. Reservations recommended: 503-699-2927.\n\n#PDXJazz #TomGrantJazzPDX #NicolettasTableLO #DateNight  #LOJazzSpot #PDXMusicScene #SupportLocalSpots #ShopLocal #SupporttheArts #TuesdayVibes #LakeOswegoLiveMusic
URL:https://tomgrant.com/event/tues-tunes-nicolettas-table-2022-02-01-2022-04-12-2-2/2023-02-21/
LOCATION:Nicoletta’s Table\, 333 South State Street\, Suite M\, Lake Oswego\, OR\, 97034\, United States
ATTACH;FMTTYPE=image/png:https://tomgrant.com/wp-content/uploads/2023/01/TG_Nicolettas-2024-SQ-3.png
END:VEVENT
BEGIN:VEVENT
DTSTART;TZID=America/Los_Angeles:20230218T173000
DTEND;TZID=America/Los_Angeles:20230218T200000
DTSTAMP:20260421T030252
CREATED:20230119T070557Z
LAST-MODIFIED:20230119T070800Z
UID:10001880-1676741400-1676750400@tomgrant.com
SUMMARY:The Benson Hotel | Grand Lobby
DESCRIPTION:Tom’s at the Benson every Fri & Sat evening\, 5:30-8 pm.  Drop by after work for a bite and a beverage\, or before a night on the town. It’s the perfectly-Portland place to be!
URL:https://tomgrant.com/event/back-at-the-benson-friday-and-saturday-evenings-530-800-3-2/2023-02-18/
LOCATION:OR
CATEGORIES:Club gig,Downtown Portland,Live Jazz,Live Jazz,Live Music,weekly appearances
ATTACH;FMTTYPE=image/jpeg:https://tomgrant.com/wp-content/uploads/2022/08/TG_Benson_SQ_Fall_22.jpg
END:VEVENT
BEGIN:VEVENT
DTSTART;TZID=America/Los_Angeles:20230217T173000
DTEND;TZID=America/Los_Angeles:20230217T200000
DTSTAMP:20260421T030252
CREATED:20230119T070557Z
LAST-MODIFIED:20230119T070800Z
UID:10001879-1676655000-1676664000@tomgrant.com
SUMMARY:The Benson Hotel | Grand Lobby
DESCRIPTION:Tom’s at the Benson every Fri & Sat evening\, 5:30-8 pm.  Drop by after work for a bite and a beverage\, or before a night on the town. It’s the perfectly-Portland place to be!
URL:https://tomgrant.com/event/back-at-the-benson-friday-and-saturday-evenings-530-800-3-2/2023-02-17/
LOCATION:OR
CATEGORIES:Club gig,Downtown Portland,Live Jazz,Live Jazz,Live Music,weekly appearances
ATTACH;FMTTYPE=image/jpeg:https://tomgrant.com/wp-content/uploads/2022/08/TG_Benson_SQ_Fall_22.jpg
END:VEVENT
BEGIN:VEVENT
DTSTART;TZID=America/Los_Angeles:20230214T180000
DTEND;TZID=America/Los_Angeles:20230214T200000
DTSTAMP:20260421T030252
CREATED:20230119T055127Z
LAST-MODIFIED:20240702T035026Z
UID:10001609-1676397600-1676404800@tomgrant.com
SUMMARY:Tuesdays at Nicoletta's
DESCRIPTION:Liven up your Tuesdays with Tom Grant. Live jazz\, delicious food\, and a relaxed atmosphere await you at Nicoletta’s Table in Lake Oswego.\nNO COVER. Reservations recommended: 503-699-2927.\n\n#PDXJazz #TomGrantJazzPDX #NicolettasTableLO #DateNight  #LOJazzSpot #PDXMusicScene #SupportLocalSpots #ShopLocal #SupporttheArts #TuesdayVibes #LakeOswegoLiveMusic
URL:https://tomgrant.com/event/tues-tunes-nicolettas-table-2022-02-01-2022-04-12-2-2/2023-02-14/
LOCATION:Nicoletta’s Table\, 333 South State Street\, Suite M\, Lake Oswego\, OR\, 97034\, United States
ATTACH;FMTTYPE=image/png:https://tomgrant.com/wp-content/uploads/2023/01/TG_Nicolettas-2024-SQ-3.png
END:VEVENT
BEGIN:VEVENT
DTSTART;TZID=America/Los_Angeles:20230211T173000
DTEND;TZID=America/Los_Angeles:20230211T200000
DTSTAMP:20260421T030252
CREATED:20230119T070557Z
LAST-MODIFIED:20230119T070800Z
UID:10001878-1676136600-1676145600@tomgrant.com
SUMMARY:The Benson Hotel | Grand Lobby
DESCRIPTION:Tom’s at the Benson every Fri & Sat evening\, 5:30-8 pm.  Drop by after work for a bite and a beverage\, or before a night on the town. It’s the perfectly-Portland place to be!
URL:https://tomgrant.com/event/back-at-the-benson-friday-and-saturday-evenings-530-800-3-2/2023-02-11/
LOCATION:OR
CATEGORIES:Club gig,Downtown Portland,Live Jazz,Live Jazz,Live Music,weekly appearances
ATTACH;FMTTYPE=image/jpeg:https://tomgrant.com/wp-content/uploads/2022/08/TG_Benson_SQ_Fall_22.jpg
END:VEVENT
BEGIN:VEVENT
DTSTART;TZID=America/Los_Angeles:20230210T173000
DTEND;TZID=America/Los_Angeles:20230210T200000
DTSTAMP:20260421T030252
CREATED:20230119T070557Z
LAST-MODIFIED:20230119T070800Z
UID:10001877-1676050200-1676059200@tomgrant.com
SUMMARY:The Benson Hotel | Grand Lobby
DESCRIPTION:Tom’s at the Benson every Fri & Sat evening\, 5:30-8 pm.  Drop by after work for a bite and a beverage\, or before a night on the town. It’s the perfectly-Portland place to be!
URL:https://tomgrant.com/event/back-at-the-benson-friday-and-saturday-evenings-530-800-3-2/2023-02-10/
LOCATION:OR
CATEGORIES:Club gig,Downtown Portland,Live Jazz,Live Jazz,Live Music,weekly appearances
ATTACH;FMTTYPE=image/jpeg:https://tomgrant.com/wp-content/uploads/2022/08/TG_Benson_SQ_Fall_22.jpg
END:VEVENT
BEGIN:VEVENT
DTSTART;TZID=America/Los_Angeles:20230208T190000
DTEND;TZID=America/Los_Angeles:20230208T220000
DTSTAMP:20260421T030252
CREATED:20230123T194442Z
LAST-MODIFIED:20230123T203908Z
UID:10001975-1675882800-1675893600@tomgrant.com
SUMMARY:Arrivederci | Tom & Shelly
DESCRIPTION:The always-fabulous Shelly Rudolph and I will be together for a few hours on Weds\, Feb 8.  Come join the fun.
URL:https://tomgrant.com/event/arrivederci-tom-shelly/
LOCATION:Arrivederci Wine Bar\, 17023 SE McLoughlin Blvd.\, Milwaukie\, OR\, 97267
ATTACH;FMTTYPE=image/jpeg:https://tomgrant.com/wp-content/uploads/2018/12/1C966822-7D52-47C0-8117-45847B017820.jpeg
GEO:45.3994964;-122.6200178
X-APPLE-STRUCTURED-LOCATION;VALUE=URI;X-ADDRESS=Arrivederci Wine Bar 17023 SE McLoughlin Blvd. Milwaukie OR 97267;X-APPLE-RADIUS=500;X-TITLE=17023 SE McLoughlin Blvd.:geo:-122.6200178,45.3994964
END:VEVENT
BEGIN:VEVENT
DTSTART;TZID=America/Los_Angeles:20230207T180000
DTEND;TZID=America/Los_Angeles:20230207T200000
DTSTAMP:20260421T030252
CREATED:20230119T055127Z
LAST-MODIFIED:20240702T035026Z
UID:10001608-1675792800-1675800000@tomgrant.com
SUMMARY:Tuesdays at Nicoletta's
DESCRIPTION:Liven up your Tuesdays with Tom Grant. Live jazz\, delicious food\, and a relaxed atmosphere await you at Nicoletta’s Table in Lake Oswego.\nNO COVER. Reservations recommended: 503-699-2927.\n\n#PDXJazz #TomGrantJazzPDX #NicolettasTableLO #DateNight  #LOJazzSpot #PDXMusicScene #SupportLocalSpots #ShopLocal #SupporttheArts #TuesdayVibes #LakeOswegoLiveMusic
URL:https://tomgrant.com/event/tues-tunes-nicolettas-table-2022-02-01-2022-04-12-2-2/2023-02-07/
LOCATION:Nicoletta’s Table\, 333 South State Street\, Suite M\, Lake Oswego\, OR\, 97034\, United States
ATTACH;FMTTYPE=image/png:https://tomgrant.com/wp-content/uploads/2023/01/TG_Nicolettas-2024-SQ-3.png
END:VEVENT
BEGIN:VEVENT
DTSTART;TZID=America/Los_Angeles:20230204T173000
DTEND;TZID=America/Los_Angeles:20230204T200000
DTSTAMP:20260421T030252
CREATED:20230119T070557Z
LAST-MODIFIED:20230119T070800Z
UID:10001876-1675531800-1675540800@tomgrant.com
SUMMARY:The Benson Hotel | Grand Lobby
DESCRIPTION:Tom’s at the Benson every Fri & Sat evening\, 5:30-8 pm.  Drop by after work for a bite and a beverage\, or before a night on the town. It’s the perfectly-Portland place to be!
URL:https://tomgrant.com/event/back-at-the-benson-friday-and-saturday-evenings-530-800-3-2/2023-02-04/
LOCATION:OR
CATEGORIES:Club gig,Downtown Portland,Live Jazz,Live Jazz,Live Music,weekly appearances
ATTACH;FMTTYPE=image/jpeg:https://tomgrant.com/wp-content/uploads/2022/08/TG_Benson_SQ_Fall_22.jpg
END:VEVENT
BEGIN:VEVENT
DTSTART;TZID=America/Los_Angeles:20230203T173000
DTEND;TZID=America/Los_Angeles:20230203T200000
DTSTAMP:20260421T030252
CREATED:20230119T070557Z
LAST-MODIFIED:20230119T070800Z
UID:10001875-1675445400-1675454400@tomgrant.com
SUMMARY:The Benson Hotel | Grand Lobby
DESCRIPTION:Tom’s at the Benson every Fri & Sat evening\, 5:30-8 pm.  Drop by after work for a bite and a beverage\, or before a night on the town. It’s the perfectly-Portland place to be!
URL:https://tomgrant.com/event/back-at-the-benson-friday-and-saturday-evenings-530-800-3-2/2023-02-03/
LOCATION:OR
CATEGORIES:Club gig,Downtown Portland,Live Jazz,Live Jazz,Live Music,weekly appearances
ATTACH;FMTTYPE=image/jpeg:https://tomgrant.com/wp-content/uploads/2022/08/TG_Benson_SQ_Fall_22.jpg
END:VEVENT
BEGIN:VEVENT
DTSTART;TZID=America/Los_Angeles:20230131T180000
DTEND;TZID=America/Los_Angeles:20230131T200000
DTSTAMP:20260421T030252
CREATED:20230119T055127Z
LAST-MODIFIED:20240702T035026Z
UID:10001607-1675188000-1675195200@tomgrant.com
SUMMARY:Tuesdays at Nicoletta's
DESCRIPTION:Liven up your Tuesdays with Tom Grant. Live jazz\, delicious food\, and a relaxed atmosphere await you at Nicoletta’s Table in Lake Oswego.\nNO COVER. Reservations recommended: 503-699-2927.\n\n#PDXJazz #TomGrantJazzPDX #NicolettasTableLO #DateNight  #LOJazzSpot #PDXMusicScene #SupportLocalSpots #ShopLocal #SupporttheArts #TuesdayVibes #LakeOswegoLiveMusic
URL:https://tomgrant.com/event/tues-tunes-nicolettas-table-2022-02-01-2022-04-12-2-2/2023-01-31/
LOCATION:Nicoletta’s Table\, 333 South State Street\, Suite M\, Lake Oswego\, OR\, 97034\, United States
ATTACH;FMTTYPE=image/png:https://tomgrant.com/wp-content/uploads/2023/01/TG_Nicolettas-2024-SQ-3.png
END:VEVENT
BEGIN:VEVENT
DTSTART;TZID=America/Los_Angeles:20230128T173000
DTEND;TZID=America/Los_Angeles:20230128T200000
DTSTAMP:20260421T030252
CREATED:20230119T070557Z
LAST-MODIFIED:20230119T070800Z
UID:10001874-1674927000-1674936000@tomgrant.com
SUMMARY:The Benson Hotel | Grand Lobby
DESCRIPTION:Tom’s at the Benson every Fri & Sat evening\, 5:30-8 pm.  Drop by after work for a bite and a beverage\, or before a night on the town. It’s the perfectly-Portland place to be!
URL:https://tomgrant.com/event/back-at-the-benson-friday-and-saturday-evenings-530-800-3-2/2023-01-28/
LOCATION:OR
CATEGORIES:Club gig,Downtown Portland,Live Jazz,Live Jazz,Live Music,weekly appearances
ATTACH;FMTTYPE=image/jpeg:https://tomgrant.com/wp-content/uploads/2022/08/TG_Benson_SQ_Fall_22.jpg
END:VEVENT
BEGIN:VEVENT
DTSTART;TZID=America/Los_Angeles:20230126T193000
DTEND;TZID=America/Los_Angeles:20230126T193000
DTSTAMP:20260421T030252
CREATED:20230119T060931Z
LAST-MODIFIED:20230314T001511Z
UID:10001659-1674761400-1674761400@tomgrant.com
SUMMARY:Vino Veritas | Brent Follis Trio
DESCRIPTION:I’m honored to be performing with Brent as part of the Winter Music Series at Vino Veritas.
URL:https://tomgrant.com/event/vino-veritas-brent-follis-trio-2/
LOCATION:Vino Veritas\, 7835 SE Stark St.\, Portland\, United States
ATTACH;FMTTYPE=application/pdf:https://tomgrant.com/wp-content/uploads/2023/01/TG-Vino-Veritas-Jan-2023.pdf
END:VEVENT
BEGIN:VEVENT
DTSTART;TZID=America/Los_Angeles:20230124T180000
DTEND;TZID=America/Los_Angeles:20230124T200000
DTSTAMP:20260421T030253
CREATED:20230119T055127Z
LAST-MODIFIED:20240702T035026Z
UID:10001606-1674583200-1674590400@tomgrant.com
SUMMARY:Tuesdays at Nicoletta's
DESCRIPTION:Liven up your Tuesdays with Tom Grant. Live jazz\, delicious food\, and a relaxed atmosphere await you at Nicoletta’s Table in Lake Oswego.\nNO COVER. Reservations recommended: 503-699-2927.\n\n#PDXJazz #TomGrantJazzPDX #NicolettasTableLO #DateNight  #LOJazzSpot #PDXMusicScene #SupportLocalSpots #ShopLocal #SupporttheArts #TuesdayVibes #LakeOswegoLiveMusic
URL:https://tomgrant.com/event/tues-tunes-nicolettas-table-2022-02-01-2022-04-12-2-2/2023-01-24/
LOCATION:Nicoletta’s Table\, 333 South State Street\, Suite M\, Lake Oswego\, OR\, 97034\, United States
ATTACH;FMTTYPE=image/png:https://tomgrant.com/wp-content/uploads/2023/01/TG_Nicolettas-2024-SQ-3.png
END:VEVENT
BEGIN:VEVENT
DTSTART;TZID=America/Los_Angeles:20230121T173000
DTEND;TZID=America/Los_Angeles:20230121T200000
DTSTAMP:20260421T030253
CREATED:20230119T070557Z
LAST-MODIFIED:20230119T070800Z
UID:10001873-1674322200-1674331200@tomgrant.com
SUMMARY:The Benson Hotel | Grand Lobby
DESCRIPTION:Tom’s at the Benson every Fri & Sat evening\, 5:30-8 pm.  Drop by after work for a bite and a beverage\, or before a night on the town. It’s the perfectly-Portland place to be!
URL:https://tomgrant.com/event/back-at-the-benson-friday-and-saturday-evenings-530-800-3-2/2023-01-21/
LOCATION:OR
CATEGORIES:Club gig,Downtown Portland,Live Jazz,Live Jazz,Live Music,weekly appearances
ATTACH;FMTTYPE=image/jpeg:https://tomgrant.com/wp-content/uploads/2022/08/TG_Benson_SQ_Fall_22.jpg
END:VEVENT
BEGIN:VEVENT
DTSTART;TZID=America/Los_Angeles:20230120T173000
DTEND;TZID=America/Los_Angeles:20230120T200000
DTSTAMP:20260421T030253
CREATED:20230119T070557Z
LAST-MODIFIED:20230119T070800Z
UID:10001872-1674235800-1674244800@tomgrant.com
SUMMARY:The Benson Hotel | Grand Lobby
DESCRIPTION:Tom’s at the Benson every Fri & Sat evening\, 5:30-8 pm.  Drop by after work for a bite and a beverage\, or before a night on the town. It’s the perfectly-Portland place to be!
URL:https://tomgrant.com/event/back-at-the-benson-friday-and-saturday-evenings-530-800-3-2/2023-01-20/
LOCATION:OR
CATEGORIES:Club gig,Downtown Portland,Live Jazz,Live Jazz,Live Music,weekly appearances
ATTACH;FMTTYPE=image/jpeg:https://tomgrant.com/wp-content/uploads/2022/08/TG_Benson_SQ_Fall_22.jpg
END:VEVENT
BEGIN:VEVENT
DTSTART;TZID=America/Los_Angeles:20230119T190000
DTEND;TZID=America/Los_Angeles:20230119T210000
DTSTAMP:20260421T030253
CREATED:20230119T060230Z
LAST-MODIFIED:20230119T060725Z
UID:10001658-1674154800-1674162000@tomgrant.com
SUMMARY:Arrivederci | Ron Steen Band!
DESCRIPTION:Ron Steen Band featuring vocalist Billie Eidson.
URL:https://tomgrant.com/event/arrivederci-ron-steen-band/
LOCATION:Arrivederci Wine Bar\, 17023 SE McLoughlin Blvd.\, Milwaukie\, OR\, 97267
ATTACH;FMTTYPE=image/png:https://tomgrant.com/wp-content/uploads/2021/06/arrivederci-wine-bar.png
GEO:45.3994964;-122.6200178
X-APPLE-STRUCTURED-LOCATION;VALUE=URI;X-ADDRESS=Arrivederci Wine Bar 17023 SE McLoughlin Blvd. Milwaukie OR 97267;X-APPLE-RADIUS=500;X-TITLE=17023 SE McLoughlin Blvd.:geo:-122.6200178,45.3994964
END:VEVENT
BEGIN:VEVENT
DTSTART;TZID=America/Los_Angeles:20230117T180000
DTEND;TZID=America/Los_Angeles:20230117T200000
DTSTAMP:20260421T030253
CREATED:20230119T055127Z
LAST-MODIFIED:20240702T035026Z
UID:10001605-1673978400-1673985600@tomgrant.com
SUMMARY:Tuesdays at Nicoletta's
DESCRIPTION:Liven up your Tuesdays with Tom Grant. Live jazz\, delicious food\, and a relaxed atmosphere await you at Nicoletta’s Table in Lake Oswego.\nNO COVER. Reservations recommended: 503-699-2927.\n\n#PDXJazz #TomGrantJazzPDX #NicolettasTableLO #DateNight  #LOJazzSpot #PDXMusicScene #SupportLocalSpots #ShopLocal #SupporttheArts #TuesdayVibes #LakeOswegoLiveMusic
URL:https://tomgrant.com/event/tues-tunes-nicolettas-table-2022-02-01-2022-04-12-2-2/2023-01-17/
LOCATION:Nicoletta’s Table\, 333 South State Street\, Suite M\, Lake Oswego\, OR\, 97034\, United States
ATTACH;FMTTYPE=image/png:https://tomgrant.com/wp-content/uploads/2023/01/TG_Nicolettas-2024-SQ-3.png
END:VEVENT
BEGIN:VEVENT
DTSTART;TZID=America/Los_Angeles:20230114T173000
DTEND;TZID=America/Los_Angeles:20230114T200000
DTSTAMP:20260421T030253
CREATED:20230119T070557Z
LAST-MODIFIED:20230119T070800Z
UID:10001871-1673717400-1673726400@tomgrant.com
SUMMARY:The Benson Hotel | Grand Lobby
DESCRIPTION:Tom’s at the Benson every Fri & Sat evening\, 5:30-8 pm.  Drop by after work for a bite and a beverage\, or before a night on the town. It’s the perfectly-Portland place to be!
URL:https://tomgrant.com/event/back-at-the-benson-friday-and-saturday-evenings-530-800-3-2/2023-01-14/
LOCATION:OR
CATEGORIES:Club gig,Downtown Portland,Live Jazz,Live Jazz,Live Music,weekly appearances
ATTACH;FMTTYPE=image/jpeg:https://tomgrant.com/wp-content/uploads/2022/08/TG_Benson_SQ_Fall_22.jpg
END:VEVENT
BEGIN:VEVENT
DTSTART;TZID=America/Los_Angeles:20230114T173000
DTEND;TZID=America/Los_Angeles:20230114T200000
DTSTAMP:20260421T030253
CREATED:20221127T001340Z
LAST-MODIFIED:20221130T051457Z
UID:10001487-1673717400-1673726400@tomgrant.com
SUMMARY:The Benson Hotel ~ Fri & Sat\, 5:30- 8:00 PM
DESCRIPTION:Tom’s  at the Benson every Fri & Sat evening\, 5:30-8 pm.  Drop by after work for a bite and a beverage\, or before a night on the town. It’s the perfectly-Portland place to be!
URL:https://tomgrant.com/event/back-at-the-benson-friday-and-saturday-evenings-530-800-2/2023-01-14/
LOCATION:OR
CATEGORIES:Club gig,Downtown Portland,Live Jazz,Live Jazz,Live Music,weekly appearances
ATTACH;FMTTYPE=image/jpeg:https://tomgrant.com/wp-content/uploads/2022/08/TG_Benson_SQ_Fall_22.jpg
END:VEVENT
BEGIN:VEVENT
DTSTART;TZID=America/Los_Angeles:20230113T173000
DTEND;TZID=America/Los_Angeles:20230113T200000
DTSTAMP:20260421T030253
CREATED:20230119T070557Z
LAST-MODIFIED:20230119T070800Z
UID:10001870-1673631000-1673640000@tomgrant.com
SUMMARY:The Benson Hotel | Grand Lobby
DESCRIPTION:Tom’s at the Benson every Fri & Sat evening\, 5:30-8 pm.  Drop by after work for a bite and a beverage\, or before a night on the town. It’s the perfectly-Portland place to be!
URL:https://tomgrant.com/event/back-at-the-benson-friday-and-saturday-evenings-530-800-3-2/2023-01-13/
LOCATION:OR
CATEGORIES:Club gig,Downtown Portland,Live Jazz,Live Jazz,Live Music,weekly appearances
ATTACH;FMTTYPE=image/jpeg:https://tomgrant.com/wp-content/uploads/2022/08/TG_Benson_SQ_Fall_22.jpg
END:VEVENT
BEGIN:VEVENT
DTSTART;TZID=America/Los_Angeles:20230110T180000
DTEND;TZID=America/Los_Angeles:20230110T200000
DTSTAMP:20260421T030253
CREATED:20230119T055127Z
LAST-MODIFIED:20240702T035026Z
UID:10001604-1673373600-1673380800@tomgrant.com
SUMMARY:Tuesdays at Nicoletta's
DESCRIPTION:Liven up your Tuesdays with Tom Grant. Live jazz\, delicious food\, and a relaxed atmosphere await you at Nicoletta’s Table in Lake Oswego.\nNO COVER. Reservations recommended: 503-699-2927.\n\n#PDXJazz #TomGrantJazzPDX #NicolettasTableLO #DateNight  #LOJazzSpot #PDXMusicScene #SupportLocalSpots #ShopLocal #SupporttheArts #TuesdayVibes #LakeOswegoLiveMusic
URL:https://tomgrant.com/event/tues-tunes-nicolettas-table-2022-02-01-2022-04-12-2-2/2023-01-10/
LOCATION:Nicoletta’s Table\, 333 South State Street\, Suite M\, Lake Oswego\, OR\, 97034\, United States
ATTACH;FMTTYPE=image/png:https://tomgrant.com/wp-content/uploads/2023/01/TG_Nicolettas-2024-SQ-3.png
END:VEVENT
BEGIN:VEVENT
DTSTART;TZID=America/Los_Angeles:20230107T173000
DTEND;TZID=America/Los_Angeles:20230107T200000
DTSTAMP:20260421T030253
CREATED:20230119T070557Z
LAST-MODIFIED:20230119T070800Z
UID:10001869-1673112600-1673121600@tomgrant.com
SUMMARY:The Benson Hotel | Grand Lobby
DESCRIPTION:Tom’s at the Benson every Fri & Sat evening\, 5:30-8 pm.  Drop by after work for a bite and a beverage\, or before a night on the town. It’s the perfectly-Portland place to be!
URL:https://tomgrant.com/event/back-at-the-benson-friday-and-saturday-evenings-530-800-3-2/2023-01-07/
LOCATION:OR
CATEGORIES:Club gig,Downtown Portland,Live Jazz,Live Jazz,Live Music,weekly appearances
ATTACH;FMTTYPE=image/jpeg:https://tomgrant.com/wp-content/uploads/2022/08/TG_Benson_SQ_Fall_22.jpg
END:VEVENT
BEGIN:VEVENT
DTSTART;TZID=America/Los_Angeles:20230107T173000
DTEND;TZID=America/Los_Angeles:20230107T200000
DTSTAMP:20260421T030253
CREATED:20221127T001340Z
LAST-MODIFIED:20221130T051457Z
UID:10001486-1673112600-1673121600@tomgrant.com
SUMMARY:The Benson Hotel ~ Fri & Sat\, 5:30- 8:00 PM
DESCRIPTION:Tom’s  at the Benson every Fri & Sat evening\, 5:30-8 pm.  Drop by after work for a bite and a beverage\, or before a night on the town. It’s the perfectly-Portland place to be!
URL:https://tomgrant.com/event/back-at-the-benson-friday-and-saturday-evenings-530-800-2/2023-01-07/
LOCATION:OR
CATEGORIES:Club gig,Downtown Portland,Live Jazz,Live Jazz,Live Music,weekly appearances
ATTACH;FMTTYPE=image/jpeg:https://tomgrant.com/wp-content/uploads/2022/08/TG_Benson_SQ_Fall_22.jpg
END:VEVENT
BEGIN:VEVENT
DTSTART;TZID=America/Los_Angeles:20230106T173000
DTEND;TZID=America/Los_Angeles:20230106T200000
DTSTAMP:20260421T030253
CREATED:20230119T070557Z
LAST-MODIFIED:20230119T070800Z
UID:10001868-1673026200-1673035200@tomgrant.com
SUMMARY:The Benson Hotel | Grand Lobby
DESCRIPTION:Tom’s at the Benson every Fri & Sat evening\, 5:30-8 pm.  Drop by after work for a bite and a beverage\, or before a night on the town. It’s the perfectly-Portland place to be!
URL:https://tomgrant.com/event/back-at-the-benson-friday-and-saturday-evenings-530-800-3-2/2023-01-06/
LOCATION:OR
CATEGORIES:Club gig,Downtown Portland,Live Jazz,Live Jazz,Live Music,weekly appearances
ATTACH;FMTTYPE=image/jpeg:https://tomgrant.com/wp-content/uploads/2022/08/TG_Benson_SQ_Fall_22.jpg
END:VEVENT
BEGIN:VEVENT
DTSTART;TZID=America/Los_Angeles:20230103T180000
DTEND;TZID=America/Los_Angeles:20230103T200000
DTSTAMP:20260421T030253
CREATED:20230119T055127Z
LAST-MODIFIED:20240702T035026Z
UID:10001603-1672768800-1672776000@tomgrant.com
SUMMARY:Tuesdays at Nicoletta's
DESCRIPTION:Liven up your Tuesdays with Tom Grant. Live jazz\, delicious food\, and a relaxed atmosphere await you at Nicoletta’s Table in Lake Oswego.\nNO COVER. Reservations recommended: 503-699-2927.\n\n#PDXJazz #TomGrantJazzPDX #NicolettasTableLO #DateNight  #LOJazzSpot #PDXMusicScene #SupportLocalSpots #ShopLocal #SupporttheArts #TuesdayVibes #LakeOswegoLiveMusic
URL:https://tomgrant.com/event/tues-tunes-nicolettas-table-2022-02-01-2022-04-12-2-2/2023-01-03/
LOCATION:Nicoletta’s Table\, 333 South State Street\, Suite M\, Lake Oswego\, OR\, 97034\, United States
ATTACH;FMTTYPE=image/png:https://tomgrant.com/wp-content/uploads/2023/01/TG_Nicolettas-2024-SQ-3.png
END:VEVENT
BEGIN:VEVENT
DTSTART;TZID=America/Los_Angeles:20221231T173000
DTEND;TZID=America/Los_Angeles:20221231T200000
DTSTAMP:20260421T030253
CREATED:20230119T070557Z
LAST-MODIFIED:20230119T070800Z
UID:10001867-1672507800-1672516800@tomgrant.com
SUMMARY:The Benson Hotel | Grand Lobby
DESCRIPTION:Tom’s at the Benson every Fri & Sat evening\, 5:30-8 pm.  Drop by after work for a bite and a beverage\, or before a night on the town. It’s the perfectly-Portland place to be!
URL:https://tomgrant.com/event/back-at-the-benson-friday-and-saturday-evenings-530-800-3-2/2022-12-31/
LOCATION:OR
CATEGORIES:Club gig,Downtown Portland,Live Jazz,Live Jazz,Live Music,weekly appearances
ATTACH;FMTTYPE=image/jpeg:https://tomgrant.com/wp-content/uploads/2022/08/TG_Benson_SQ_Fall_22.jpg
END:VEVENT
BEGIN:VEVENT
DTSTART;TZID=America/Los_Angeles:20221231T173000
DTEND;TZID=America/Los_Angeles:20221231T200000
DTSTAMP:20260421T030253
CREATED:20221127T001340Z
LAST-MODIFIED:20221130T051457Z
UID:10001485-1672507800-1672516800@tomgrant.com
SUMMARY:The Benson Hotel ~ Fri & Sat\, 5:30- 8:00 PM
DESCRIPTION:Tom’s  at the Benson every Fri & Sat evening\, 5:30-8 pm.  Drop by after work for a bite and a beverage\, or before a night on the town. It’s the perfectly-Portland place to be!
URL:https://tomgrant.com/event/back-at-the-benson-friday-and-saturday-evenings-530-800-2/2022-12-31/
LOCATION:OR
CATEGORIES:Club gig,Downtown Portland,Live Jazz,Live Jazz,Live Music,weekly appearances
ATTACH;FMTTYPE=image/jpeg:https://tomgrant.com/wp-content/uploads/2022/08/TG_Benson_SQ_Fall_22.jpg
END:VEVENT
END:VCALENDAR