BEGIN:VCALENDAR
VERSION:2.0
PRODID:-//Tom Grant - ECPv6.15.20//NONSGML v1.0//EN
CALSCALE:GREGORIAN
METHOD:PUBLISH
X-WR-CALNAME:Tom Grant
X-ORIGINAL-URL:https://tomgrant.com
X-WR-CALDESC:Events for Tom Grant
REFRESH-INTERVAL;VALUE=DURATION:PT1H
X-Robots-Tag:noindex
X-PUBLISHED-TTL:PT1H
BEGIN:VTIMEZONE
TZID:America/Los_Angeles
BEGIN:DAYLIGHT
TZOFFSETFROM:-0800
TZOFFSETTO:-0700
TZNAME:PDT
DTSTART:20210314T100000
END:DAYLIGHT
BEGIN:STANDARD
TZOFFSETFROM:-0700
TZOFFSETTO:-0800
TZNAME:PST
DTSTART:20211107T090000
END:STANDARD
BEGIN:DAYLIGHT
TZOFFSETFROM:-0800
TZOFFSETTO:-0700
TZNAME:PDT
DTSTART:20220313T100000
END:DAYLIGHT
BEGIN:STANDARD
TZOFFSETFROM:-0700
TZOFFSETTO:-0800
TZNAME:PST
DTSTART:20221106T090000
END:STANDARD
BEGIN:DAYLIGHT
TZOFFSETFROM:-0800
TZOFFSETTO:-0700
TZNAME:PDT
DTSTART:20230312T100000
END:DAYLIGHT
BEGIN:STANDARD
TZOFFSETFROM:-0700
TZOFFSETTO:-0800
TZNAME:PST
DTSTART:20231105T090000
END:STANDARD
END:VTIMEZONE
BEGIN:VEVENT
DTSTART;TZID=America/Los_Angeles:20220817T183000
DTEND;TZID=America/Los_Angeles:20220817T200000
DTSTAMP:20260421T150642
CREATED:20220721T182552Z
LAST-MODIFIED:20220721T183151Z
UID:10001209-1660761000-1660766400@tomgrant.com
SUMMARY:Solo Piano | Glenwood Place Senior Community
DESCRIPTION:Tom will perform for the residents and staff of Glenwood Place in Vancouver.  To book Tom for a special event\, please email Info@TomGrant.com.
URL:https://tomgrant.com/event/solo-piano-glenwood-place-senior-community/
LOCATION:OR
ATTACH;FMTTYPE=image/jpeg:https://tomgrant.com/wp-content/uploads/2022/07/Cogir_Glenwood_Wht_web-e1658428242115.jpeg
END:VEVENT
BEGIN:VEVENT
DTSTART;TZID=America/Los_Angeles:20220816T180000
DTEND;TZID=America/Los_Angeles:20220816T200000
DTSTAMP:20260421T150642
CREATED:20210917T162916Z
LAST-MODIFIED:20220406T232922Z
UID:10001149-1660672800-1660680000@tomgrant.com
SUMMARY:Tuesdays at Nicoletta's
DESCRIPTION:Liven up your Tuesdays with Tom Grant. Live jazz\, delicious food\, and a relaxed atmosphere await you at Nicoletta’s Table in Lake Oswego.\nNO COVER. Reservations recommended: 503-699-2927.\n\n#PDXJazz #TomGrantJazzPDX #NicolettasTableLO #DateNight  #LOJazzSpot #PDXMusicScene #SupportLocalSpots #ShopLocal #SupporttheArts #TuesdayVibes #LakeOswegoLiveMusic
URL:https://tomgrant.com/event/tues-tunes-nicolettas-table-2022-02-01-2022-04-12/2022-08-16/
LOCATION:Nicoletta’s Table\, 333 South State Street\, Suite M\, Lake Oswego\, OR\, 97034\, United States
ATTACH;FMTTYPE=image/jpeg:https://tomgrant.com/wp-content/uploads/2021/09/TG_Nicolettas-Tuesdays-FB-post-1.jpg
END:VEVENT
BEGIN:VEVENT
DTSTART;TZID=America/Los_Angeles:20220814T180000
DTEND;TZID=America/Los_Angeles:20220814T210000
DTSTAMP:20260421T150642
CREATED:20220721T181010Z
LAST-MODIFIED:20220721T182040Z
UID:10001443-1660500000-1660510800@tomgrant.com
SUMMARY:House Concert | Camus\, Washington
DESCRIPTION:Join us for s Sunday evening outdoor house concert in Camus\, Wa.\nFor details and reservations\, please email Jodi at musicisnm1@gmail.com.
URL:https://tomgrant.com/event/house-concert-camus-washington/
LOCATION:19512 SE 41st Circle\, 19512 SE 41st Circle\, Camas\, WA\, United States
END:VEVENT
BEGIN:VEVENT
DTSTART;TZID=America/Los_Angeles:20220813T173000
DTEND;TZID=America/Los_Angeles:20220813T200000
DTSTAMP:20260421T150642
CREATED:20220813T181225Z
LAST-MODIFIED:20221127T001542Z
UID:10001215-1660411800-1660420800@tomgrant.com
SUMMARY:The Benson Hotel ~ Fri & Sat\, 5:30- 8:00 PM
DESCRIPTION:Tom’s  at the Benson every Fri & Sat evening\, 5:30-8 pm.  Drop by after work for a bite and a beverage\, or before a night on the town. It’s the perfectly-Portland place to be!
URL:https://tomgrant.com/event/back-at-the-benson-friday-and-saturday-evenings-530-800/2022-08-13/
LOCATION:OR
CATEGORIES:Club gig,Downtown Portland,Live Jazz,Live Jazz,Live Music,weekly appearances
ATTACH;FMTTYPE=image/jpeg:https://tomgrant.com/wp-content/uploads/2022/08/TG_Benson_SQ_Fall_22.jpg
END:VEVENT
BEGIN:VEVENT
DTSTART;TZID=America/Los_Angeles:20220812T173000
DTEND;TZID=America/Los_Angeles:20220812T200000
DTSTAMP:20260421T150642
CREATED:20220813T181225Z
LAST-MODIFIED:20221127T001542Z
UID:10001214-1660325400-1660334400@tomgrant.com
SUMMARY:The Benson Hotel ~ Fri & Sat\, 5:30- 8:00 PM
DESCRIPTION:Tom’s  at the Benson every Fri & Sat evening\, 5:30-8 pm.  Drop by after work for a bite and a beverage\, or before a night on the town. It’s the perfectly-Portland place to be!
URL:https://tomgrant.com/event/back-at-the-benson-friday-and-saturday-evenings-530-800/2022-08-12/
LOCATION:OR
CATEGORIES:Club gig,Downtown Portland,Live Jazz,Live Jazz,Live Music,weekly appearances
ATTACH;FMTTYPE=image/jpeg:https://tomgrant.com/wp-content/uploads/2022/08/TG_Benson_SQ_Fall_22.jpg
END:VEVENT
BEGIN:VEVENT
DTSTART;TZID=America/Los_Angeles:20220811T180000
DTEND;TZID=America/Los_Angeles:20220811T210000
DTSTAMP:20260421T150642
CREATED:20220406T230140Z
LAST-MODIFIED:20220721T184020Z
UID:10001185-1660240800-1660251600@tomgrant.com
SUMMARY:De Fuego Grille  | Underground
DESCRIPTION:The newest eastside Jazz spot with a cool vibe and fabulous refreshments.  Catch Tom at the piano at the Underground at de Fuego Grille in Clackamas\, inside the Monarch Hotel. Reservations recommended.
URL:https://tomgrant.com/event/de-fuego-grille-underground-3-2022-05-05/2022-08-11/
LOCATION:de Fuego Grille  | Underground\, 12566 SE 93rd\, Clackamas\, OR\, United States
CATEGORIES:Club gig,Live Jazz,Live Music
ATTACH;FMTTYPE=image/jpeg:https://tomgrant.com/wp-content/uploads/2021/09/TG-de-Fuego-FB-post.jpg
END:VEVENT
BEGIN:VEVENT
DTSTART;TZID=America/Los_Angeles:20220811T180000
DTEND;TZID=America/Los_Angeles:20220811T210000
DTSTAMP:20260421T150642
CREATED:20220406T230140Z
LAST-MODIFIED:20220921T034524Z
UID:10001195-1660240800-1660251600@tomgrant.com
SUMMARY:The Underground | de Fuego Grille
DESCRIPTION:The UNDERGROUND is one of the Eastside’s coolest Jazz spots\, nestled below the Monarch Hotel in Clackamas. Reservations recommended.  The Underground . 12566 SE 93rd Ave . Clackamas\, OR 97015 . PHONE 503-652-7505
URL:https://tomgrant.com/event/de-fuego-grille-underground-3-2022-05-05-2022-09-29/2022-08-11/
LOCATION:de Fuego Grille  | Underground\, 12566 SE 93rd\, Clackamas\, OR\, United States
CATEGORIES:Club gig,Live Jazz,Live Music
ATTACH;FMTTYPE=image/jpeg:https://tomgrant.com/wp-content/uploads/2021/09/TG-de-Fuego-FB-post.jpg
END:VEVENT
BEGIN:VEVENT
DTSTART;TZID=America/Los_Angeles:20220809T180000
DTEND;TZID=America/Los_Angeles:20220809T200000
DTSTAMP:20260421T150642
CREATED:20210917T162916Z
LAST-MODIFIED:20220406T232922Z
UID:10001148-1660068000-1660075200@tomgrant.com
SUMMARY:Tuesdays at Nicoletta's
DESCRIPTION:Liven up your Tuesdays with Tom Grant. Live jazz\, delicious food\, and a relaxed atmosphere await you at Nicoletta’s Table in Lake Oswego.\nNO COVER. Reservations recommended: 503-699-2927.\n\n#PDXJazz #TomGrantJazzPDX #NicolettasTableLO #DateNight  #LOJazzSpot #PDXMusicScene #SupportLocalSpots #ShopLocal #SupporttheArts #TuesdayVibes #LakeOswegoLiveMusic
URL:https://tomgrant.com/event/tues-tunes-nicolettas-table-2022-02-01-2022-04-12/2022-08-09/
LOCATION:Nicoletta’s Table\, 333 South State Street\, Suite M\, Lake Oswego\, OR\, 97034\, United States
ATTACH;FMTTYPE=image/jpeg:https://tomgrant.com/wp-content/uploads/2021/09/TG_Nicolettas-Tuesdays-FB-post-1.jpg
END:VEVENT
BEGIN:VEVENT
DTSTART;VALUE=DATE:20220804
DTEND;VALUE=DATE:20220806
DTSTAMP:20260421T150642
CREATED:20220721T040849Z
LAST-MODIFIED:20220721T040930Z
UID:10001442-1659574800-1659661199@tomgrant.com
SUMMARY:Private Event | Town Club
DESCRIPTION:If you are interested in booking Tom for a private dinner\, garden party\, or celebration\, please send an email to Info@TomGrant.com or call 503 550 9463.
URL:https://tomgrant.com/event/private-event-town-club/
LOCATION:OR
ATTACH;FMTTYPE=image/jpeg:https://tomgrant.com/wp-content/uploads/2020/02/TG-Blue-light-head-shot-web-version-scaled-e1582829699300.jpg
END:VEVENT
BEGIN:VEVENT
DTSTART;TZID=America/Los_Angeles:20220802T180000
DTEND;TZID=America/Los_Angeles:20220802T200000
DTSTAMP:20260421T150642
CREATED:20210917T162916Z
LAST-MODIFIED:20220406T232922Z
UID:10001147-1659463200-1659470400@tomgrant.com
SUMMARY:Tuesdays at Nicoletta's
DESCRIPTION:Liven up your Tuesdays with Tom Grant. Live jazz\, delicious food\, and a relaxed atmosphere await you at Nicoletta’s Table in Lake Oswego.\nNO COVER. Reservations recommended: 503-699-2927.\n\n#PDXJazz #TomGrantJazzPDX #NicolettasTableLO #DateNight  #LOJazzSpot #PDXMusicScene #SupportLocalSpots #ShopLocal #SupporttheArts #TuesdayVibes #LakeOswegoLiveMusic
URL:https://tomgrant.com/event/tues-tunes-nicolettas-table-2022-02-01-2022-04-12/2022-08-02/
LOCATION:Nicoletta’s Table\, 333 South State Street\, Suite M\, Lake Oswego\, OR\, 97034\, United States
ATTACH;FMTTYPE=image/jpeg:https://tomgrant.com/wp-content/uploads/2021/09/TG_Nicolettas-Tuesdays-FB-post-1.jpg
END:VEVENT
BEGIN:VEVENT
DTSTART;TZID=America/Los_Angeles:20220731T200000
DTEND;TZID=America/Los_Angeles:20220731T223000
DTSTAMP:20260421T150642
CREATED:20220721T184142Z
LAST-MODIFIED:20220721T184245Z
UID:10001211-1659297600-1659306600@tomgrant.com
SUMMARY:CLYDE'S | Ron Steen Trio
DESCRIPTION:
URL:https://tomgrant.com/event/clydes-ron-steen-trio-2/
LOCATION:Clyde’s  Prime Rib\, 5474 NE Sandy Blvd\, Ptld\, OR\, United States
ATTACH;FMTTYPE=image/png:https://tomgrant.com/wp-content/uploads/2022/07/clydes-prime-rib-logo.png
END:VEVENT
BEGIN:VEVENT
DTSTART;TZID=America/Los_Angeles:20220728T170000
DTEND;TZID=America/Los_Angeles:20220728T190000
DTSTAMP:20260421T150642
CREATED:20220721T040502Z
LAST-MODIFIED:20220721T040624Z
UID:10001441-1659027600-1659034800@tomgrant.com
SUMMARY:Private Event | Portland Golf Club
DESCRIPTION:If you are interested in booking Tom for a private dinner\, garden party\, or celebration\, please send an email to Info@TomGrant.com or call 503 550 9463.
URL:https://tomgrant.com/event/private-event-portland-golf-club/
LOCATION:OR
ATTACH;FMTTYPE=image/jpeg:https://tomgrant.com/wp-content/uploads/2020/02/TG-Blue-light-head-shot-web-version-scaled-e1582829699300.jpg
END:VEVENT
BEGIN:VEVENT
DTSTART;TZID=America/Los_Angeles:20220726T180000
DTEND;TZID=America/Los_Angeles:20220726T200000
DTSTAMP:20260421T150642
CREATED:20210917T162916Z
LAST-MODIFIED:20220406T232922Z
UID:10001146-1658858400-1658865600@tomgrant.com
SUMMARY:Tuesdays at Nicoletta's
DESCRIPTION:Liven up your Tuesdays with Tom Grant. Live jazz\, delicious food\, and a relaxed atmosphere await you at Nicoletta’s Table in Lake Oswego.\nNO COVER. Reservations recommended: 503-699-2927.\n\n#PDXJazz #TomGrantJazzPDX #NicolettasTableLO #DateNight  #LOJazzSpot #PDXMusicScene #SupportLocalSpots #ShopLocal #SupporttheArts #TuesdayVibes #LakeOswegoLiveMusic
URL:https://tomgrant.com/event/tues-tunes-nicolettas-table-2022-02-01-2022-04-12/2022-07-26/
LOCATION:Nicoletta’s Table\, 333 South State Street\, Suite M\, Lake Oswego\, OR\, 97034\, United States
ATTACH;FMTTYPE=image/jpeg:https://tomgrant.com/wp-content/uploads/2021/09/TG_Nicolettas-Tuesdays-FB-post-1.jpg
END:VEVENT
BEGIN:VEVENT
DTSTART;TZID=America/Los_Angeles:20220723T173000
DTEND;TZID=America/Los_Angeles:20220723T203000
DTSTAMP:20260421T150642
CREATED:20220407T000740Z
LAST-MODIFIED:20220721T040731Z
UID:10001208-1658597400-1658608200@tomgrant.com
SUMMARY:Private Event | Hoyt Arboretum
DESCRIPTION:If you are interested in booking Tom for a private dinner\, garden party\, or celebration\, please send an email to Info@TomGrant.com or call 503 550 9463.
URL:https://tomgrant.com/event/portland-private-party/2022-07-23/
LOCATION:OR
CATEGORIES:Dinner Concert,Private Event
ATTACH;FMTTYPE=image/jpeg:https://tomgrant.com/wp-content/uploads/2020/02/TG-Blue-light-head-shot-web-version-scaled-e1582829699300.jpg
END:VEVENT
BEGIN:VEVENT
DTSTART;TZID=America/Los_Angeles:20220719T180000
DTEND;TZID=America/Los_Angeles:20220719T200000
DTSTAMP:20260421T150642
CREATED:20210917T162916Z
LAST-MODIFIED:20220406T232922Z
UID:10001145-1658253600-1658260800@tomgrant.com
SUMMARY:Tuesdays at Nicoletta's
DESCRIPTION:Liven up your Tuesdays with Tom Grant. Live jazz\, delicious food\, and a relaxed atmosphere await you at Nicoletta’s Table in Lake Oswego.\nNO COVER. Reservations recommended: 503-699-2927.\n\n#PDXJazz #TomGrantJazzPDX #NicolettasTableLO #DateNight  #LOJazzSpot #PDXMusicScene #SupportLocalSpots #ShopLocal #SupporttheArts #TuesdayVibes #LakeOswegoLiveMusic
URL:https://tomgrant.com/event/tues-tunes-nicolettas-table-2022-02-01-2022-04-12/2022-07-19/
LOCATION:Nicoletta’s Table\, 333 South State Street\, Suite M\, Lake Oswego\, OR\, 97034\, United States
ATTACH;FMTTYPE=image/jpeg:https://tomgrant.com/wp-content/uploads/2021/09/TG_Nicolettas-Tuesdays-FB-post-1.jpg
END:VEVENT
BEGIN:VEVENT
DTSTART;TZID=America/Los_Angeles:20220712T180000
DTEND;TZID=America/Los_Angeles:20220712T200000
DTSTAMP:20260421T150642
CREATED:20210917T162916Z
LAST-MODIFIED:20220406T232922Z
UID:10001144-1657648800-1657656000@tomgrant.com
SUMMARY:Tuesdays at Nicoletta's
DESCRIPTION:Liven up your Tuesdays with Tom Grant. Live jazz\, delicious food\, and a relaxed atmosphere await you at Nicoletta’s Table in Lake Oswego.\nNO COVER. Reservations recommended: 503-699-2927.\n\n#PDXJazz #TomGrantJazzPDX #NicolettasTableLO #DateNight  #LOJazzSpot #PDXMusicScene #SupportLocalSpots #ShopLocal #SupporttheArts #TuesdayVibes #LakeOswegoLiveMusic
URL:https://tomgrant.com/event/tues-tunes-nicolettas-table-2022-02-01-2022-04-12/2022-07-12/
LOCATION:Nicoletta’s Table\, 333 South State Street\, Suite M\, Lake Oswego\, OR\, 97034\, United States
ATTACH;FMTTYPE=image/jpeg:https://tomgrant.com/wp-content/uploads/2021/09/TG_Nicolettas-Tuesdays-FB-post-1.jpg
END:VEVENT
BEGIN:VEVENT
DTSTART;TZID=America/Los_Angeles:20220705T180000
DTEND;TZID=America/Los_Angeles:20220705T200000
DTSTAMP:20260421T150642
CREATED:20210917T162916Z
LAST-MODIFIED:20220406T232922Z
UID:10001143-1657044000-1657051200@tomgrant.com
SUMMARY:Tuesdays at Nicoletta's
DESCRIPTION:Liven up your Tuesdays with Tom Grant. Live jazz\, delicious food\, and a relaxed atmosphere await you at Nicoletta’s Table in Lake Oswego.\nNO COVER. Reservations recommended: 503-699-2927.\n\n#PDXJazz #TomGrantJazzPDX #NicolettasTableLO #DateNight  #LOJazzSpot #PDXMusicScene #SupportLocalSpots #ShopLocal #SupporttheArts #TuesdayVibes #LakeOswegoLiveMusic
URL:https://tomgrant.com/event/tues-tunes-nicolettas-table-2022-02-01-2022-04-12/2022-07-05/
LOCATION:Nicoletta’s Table\, 333 South State Street\, Suite M\, Lake Oswego\, OR\, 97034\, United States
ATTACH;FMTTYPE=image/jpeg:https://tomgrant.com/wp-content/uploads/2021/09/TG_Nicolettas-Tuesdays-FB-post-1.jpg
END:VEVENT
BEGIN:VEVENT
DTSTART;TZID=America/Los_Angeles:20220630T180000
DTEND;TZID=America/Los_Angeles:20220630T210000
DTSTAMP:20260421T150642
CREATED:20220406T230140Z
LAST-MODIFIED:20220527T025453Z
UID:10001192-1656612000-1656622800@tomgrant.com
SUMMARY:De Fuego Grille  | Underground
DESCRIPTION:The newest eastside Jazz spot with a cool vibe and fabulous refreshments.  Catch Tom at the piano at the Underground at de Fuego Grille in Clackamas\, inside the Monarch Hotel. Reservations recommended.
URL:https://tomgrant.com/event/de-fuego-grille-underground-3-2022-05-05-2022-06-16/2022-06-30/
LOCATION:de Fuego Grille  | Underground\, 12566 SE 93rd\, Clackamas\, OR\, United States
CATEGORIES:Club gig,Live Jazz,Live Music
ATTACH;FMTTYPE=image/jpeg:https://tomgrant.com/wp-content/uploads/2021/09/TG-de-Fuego-FB-post.jpg
END:VEVENT
BEGIN:VEVENT
DTSTART;TZID=America/Los_Angeles:20220628T180000
DTEND;TZID=America/Los_Angeles:20220628T200000
DTSTAMP:20260421T150642
CREATED:20210917T162916Z
LAST-MODIFIED:20220406T232922Z
UID:10001142-1656439200-1656446400@tomgrant.com
SUMMARY:Tuesdays at Nicoletta's
DESCRIPTION:Liven up your Tuesdays with Tom Grant. Live jazz\, delicious food\, and a relaxed atmosphere await you at Nicoletta’s Table in Lake Oswego.\nNO COVER. Reservations recommended: 503-699-2927.\n\n#PDXJazz #TomGrantJazzPDX #NicolettasTableLO #DateNight  #LOJazzSpot #PDXMusicScene #SupportLocalSpots #ShopLocal #SupporttheArts #TuesdayVibes #LakeOswegoLiveMusic
URL:https://tomgrant.com/event/tues-tunes-nicolettas-table-2022-02-01-2022-04-12/2022-06-28/
LOCATION:Nicoletta’s Table\, 333 South State Street\, Suite M\, Lake Oswego\, OR\, 97034\, United States
ATTACH;FMTTYPE=image/jpeg:https://tomgrant.com/wp-content/uploads/2021/09/TG_Nicolettas-Tuesdays-FB-post-1.jpg
END:VEVENT
BEGIN:VEVENT
DTSTART;TZID=America/Los_Angeles:20220623T193000
DTEND;TZID=America/Los_Angeles:20220623T210000
DTSTAMP:20260421T150642
CREATED:20220620T181742Z
LAST-MODIFIED:20220620T182243Z
UID:10001440-1656012600-1656018000@tomgrant.com
SUMMARY:Tom Grant & Dan Balmer | Live from Classic Pianos
DESCRIPTION:Tune in Thursday at 7:30 PM on Youtube or Facebook. YouTube Link to video: HERE
URL:https://tomgrant.com/event/tom-grant-dan-balmer-live-from-classic-pianos/
LOCATION:OR
END:VEVENT
BEGIN:VEVENT
DTSTART;TZID=America/Los_Angeles:20220621T180000
DTEND;TZID=America/Los_Angeles:20220621T200000
DTSTAMP:20260421T150642
CREATED:20210917T162916Z
LAST-MODIFIED:20220406T232922Z
UID:10001141-1655834400-1655841600@tomgrant.com
SUMMARY:Tuesdays at Nicoletta's
DESCRIPTION:Liven up your Tuesdays with Tom Grant. Live jazz\, delicious food\, and a relaxed atmosphere await you at Nicoletta’s Table in Lake Oswego.\nNO COVER. Reservations recommended: 503-699-2927.\n\n#PDXJazz #TomGrantJazzPDX #NicolettasTableLO #DateNight  #LOJazzSpot #PDXMusicScene #SupportLocalSpots #ShopLocal #SupporttheArts #TuesdayVibes #LakeOswegoLiveMusic
URL:https://tomgrant.com/event/tues-tunes-nicolettas-table-2022-02-01-2022-04-12/2022-06-21/
LOCATION:Nicoletta’s Table\, 333 South State Street\, Suite M\, Lake Oswego\, OR\, 97034\, United States
ATTACH;FMTTYPE=image/jpeg:https://tomgrant.com/wp-content/uploads/2021/09/TG_Nicolettas-Tuesdays-FB-post-1.jpg
END:VEVENT
BEGIN:VEVENT
DTSTART;TZID=America/Los_Angeles:20220616T180000
DTEND;TZID=America/Los_Angeles:20220616T210000
DTSTAMP:20260421T150642
CREATED:20220406T230140Z
LAST-MODIFIED:20220527T025453Z
UID:10001191-1655402400-1655413200@tomgrant.com
SUMMARY:De Fuego Grille  | Underground
DESCRIPTION:The newest eastside Jazz spot with a cool vibe and fabulous refreshments.  Catch Tom at the piano at the Underground at de Fuego Grille in Clackamas\, inside the Monarch Hotel. Reservations recommended.
URL:https://tomgrant.com/event/de-fuego-grille-underground-3-2022-05-05-2022-06-16/2022-06-16/
LOCATION:de Fuego Grille  | Underground\, 12566 SE 93rd\, Clackamas\, OR\, United States
CATEGORIES:Club gig,Live Jazz,Live Music
ATTACH;FMTTYPE=image/jpeg:https://tomgrant.com/wp-content/uploads/2021/09/TG-de-Fuego-FB-post.jpg
END:VEVENT
BEGIN:VEVENT
DTSTART;TZID=America/Los_Angeles:20220614T180000
DTEND;TZID=America/Los_Angeles:20220614T200000
DTSTAMP:20260421T150642
CREATED:20210917T162916Z
LAST-MODIFIED:20220406T232922Z
UID:10001140-1655229600-1655236800@tomgrant.com
SUMMARY:Tuesdays at Nicoletta's
DESCRIPTION:Liven up your Tuesdays with Tom Grant. Live jazz\, delicious food\, and a relaxed atmosphere await you at Nicoletta’s Table in Lake Oswego.\nNO COVER. Reservations recommended: 503-699-2927.\n\n#PDXJazz #TomGrantJazzPDX #NicolettasTableLO #DateNight  #LOJazzSpot #PDXMusicScene #SupportLocalSpots #ShopLocal #SupporttheArts #TuesdayVibes #LakeOswegoLiveMusic
URL:https://tomgrant.com/event/tues-tunes-nicolettas-table-2022-02-01-2022-04-12/2022-06-14/
LOCATION:Nicoletta’s Table\, 333 South State Street\, Suite M\, Lake Oswego\, OR\, 97034\, United States
ATTACH;FMTTYPE=image/jpeg:https://tomgrant.com/wp-content/uploads/2021/09/TG_Nicolettas-Tuesdays-FB-post-1.jpg
END:VEVENT
BEGIN:VEVENT
DTSTART;TZID=America/Los_Angeles:20220607T180000
DTEND;TZID=America/Los_Angeles:20220607T200000
DTSTAMP:20260421T150642
CREATED:20210917T162916Z
LAST-MODIFIED:20220406T232922Z
UID:10001139-1654624800-1654632000@tomgrant.com
SUMMARY:Tuesdays at Nicoletta's
DESCRIPTION:Liven up your Tuesdays with Tom Grant. Live jazz\, delicious food\, and a relaxed atmosphere await you at Nicoletta’s Table in Lake Oswego.\nNO COVER. Reservations recommended: 503-699-2927.\n\n#PDXJazz #TomGrantJazzPDX #NicolettasTableLO #DateNight  #LOJazzSpot #PDXMusicScene #SupportLocalSpots #ShopLocal #SupporttheArts #TuesdayVibes #LakeOswegoLiveMusic
URL:https://tomgrant.com/event/tues-tunes-nicolettas-table-2022-02-01-2022-04-12/2022-06-07/
LOCATION:Nicoletta’s Table\, 333 South State Street\, Suite M\, Lake Oswego\, OR\, 97034\, United States
ATTACH;FMTTYPE=image/jpeg:https://tomgrant.com/wp-content/uploads/2021/09/TG_Nicolettas-Tuesdays-FB-post-1.jpg
END:VEVENT
BEGIN:VEVENT
DTSTART;TZID=America/Los_Angeles:20220531T180000
DTEND;TZID=America/Los_Angeles:20220531T200000
DTSTAMP:20260421T150642
CREATED:20210917T162916Z
LAST-MODIFIED:20220406T232922Z
UID:10001138-1654020000-1654027200@tomgrant.com
SUMMARY:Tuesdays at Nicoletta's
DESCRIPTION:Liven up your Tuesdays with Tom Grant. Live jazz\, delicious food\, and a relaxed atmosphere await you at Nicoletta’s Table in Lake Oswego.\nNO COVER. Reservations recommended: 503-699-2927.\n\n#PDXJazz #TomGrantJazzPDX #NicolettasTableLO #DateNight  #LOJazzSpot #PDXMusicScene #SupportLocalSpots #ShopLocal #SupporttheArts #TuesdayVibes #LakeOswegoLiveMusic
URL:https://tomgrant.com/event/tues-tunes-nicolettas-table-2022-02-01-2022-04-12/2022-05-31/
LOCATION:Nicoletta’s Table\, 333 South State Street\, Suite M\, Lake Oswego\, OR\, 97034\, United States
ATTACH;FMTTYPE=image/jpeg:https://tomgrant.com/wp-content/uploads/2021/09/TG_Nicolettas-Tuesdays-FB-post-1.jpg
END:VEVENT
BEGIN:VEVENT
DTSTART;TZID=America/Los_Angeles:20220528T180000
DTEND;TZID=America/Los_Angeles:20220528T210000
DTSTAMP:20260421T150642
CREATED:20220427T185143Z
LAST-MODIFIED:20220427T185507Z
UID:10001439-1653760800-1653771600@tomgrant.com
SUMMARY:Vino Veritas
DESCRIPTION:
URL:https://tomgrant.com/event/clydes-ron-steen-jam/
LOCATION:Vino Veritas\, 7835 SE Stark St.\, Portland\, United States
END:VEVENT
BEGIN:VEVENT
DTSTART;TZID=America/Los_Angeles:20220526T190000
DTEND;TZID=America/Los_Angeles:20220526T210000
DTSTAMP:20260421T150642
CREATED:20220427T184141Z
LAST-MODIFIED:20220427T184141Z
UID:10001446-1653591600-1653598800@tomgrant.com
SUMMARY:WILF'S with Shelly Rudolph
DESCRIPTION:
URL:https://tomgrant.com/event/wilfs-with-shelly-rudolph/
LOCATION:Wilfs at Union Station\, 800 NW 6th Ave at Union Station \, Portland\, OR\, United States
GEO:45.5288249;-122.6766007
X-APPLE-STRUCTURED-LOCATION;VALUE=URI;X-ADDRESS=Wilfs at Union Station 800 NW 6th Ave at Union Station  Portland OR United States;X-APPLE-RADIUS=500;X-TITLE=800 NW 6th Ave at Union Station:geo:-122.6766007,45.5288249
END:VEVENT
BEGIN:VEVENT
DTSTART;TZID=America/Los_Angeles:20220524T180000
DTEND;TZID=America/Los_Angeles:20220524T200000
DTSTAMP:20260421T150642
CREATED:20210917T162916Z
LAST-MODIFIED:20220406T232922Z
UID:10001137-1653415200-1653422400@tomgrant.com
SUMMARY:Tuesdays at Nicoletta's
DESCRIPTION:Liven up your Tuesdays with Tom Grant. Live jazz\, delicious food\, and a relaxed atmosphere await you at Nicoletta’s Table in Lake Oswego.\nNO COVER. Reservations recommended: 503-699-2927.\n\n#PDXJazz #TomGrantJazzPDX #NicolettasTableLO #DateNight  #LOJazzSpot #PDXMusicScene #SupportLocalSpots #ShopLocal #SupporttheArts #TuesdayVibes #LakeOswegoLiveMusic
URL:https://tomgrant.com/event/tues-tunes-nicolettas-table-2022-02-01-2022-04-12/2022-05-24/
LOCATION:Nicoletta’s Table\, 333 South State Street\, Suite M\, Lake Oswego\, OR\, 97034\, United States
ATTACH;FMTTYPE=image/jpeg:https://tomgrant.com/wp-content/uploads/2021/09/TG_Nicolettas-Tuesdays-FB-post-1.jpg
END:VEVENT
BEGIN:VEVENT
DTSTART;TZID=America/Los_Angeles:20220521T173000
DTEND;TZID=America/Los_Angeles:20220521T203000
DTSTAMP:20260421T150642
CREATED:20220407T000740Z
LAST-MODIFIED:20220721T040731Z
UID:10001207-1653154200-1653165000@tomgrant.com
SUMMARY:Private Event | Hoyt Arboretum
DESCRIPTION:If you are interested in booking Tom for a private dinner\, garden party\, or celebration\, please send an email to Info@TomGrant.com or call 503 550 9463.
URL:https://tomgrant.com/event/portland-private-party/2022-05-21/
LOCATION:OR
CATEGORIES:Dinner Concert,Private Event
ATTACH;FMTTYPE=image/jpeg:https://tomgrant.com/wp-content/uploads/2020/02/TG-Blue-light-head-shot-web-version-scaled-e1582829699300.jpg
END:VEVENT
BEGIN:VEVENT
DTSTART;TZID=America/Los_Angeles:20220519T180000
DTEND;TZID=America/Los_Angeles:20220519T210000
DTSTAMP:20260421T150642
CREATED:20220406T230140Z
LAST-MODIFIED:20220527T024434Z
UID:10001190-1652983200-1652994000@tomgrant.com
SUMMARY:De Fuego Grille  | Underground
DESCRIPTION:The newest eastside Jazz spot with a cool vibe and fabulous refreshments.  Catch Tom at the piano at the Underground at de Fuego Grille in Clackamas\, inside the Monarch Hotel. Reservations recommended.
URL:https://tomgrant.com/event/de-fuego-grille-underground-3-2022-05-19/2022-05-19/
LOCATION:de Fuego Grille  | Underground\, 12566 SE 93rd\, Clackamas\, OR\, United States
CATEGORIES:Club gig,Live Jazz,Live Music
ATTACH;FMTTYPE=image/jpeg:https://tomgrant.com/wp-content/uploads/2021/09/TG-de-Fuego-FB-post.jpg
END:VEVENT
END:VCALENDAR