BEGIN:VCALENDAR
VERSION:2.0
PRODID:-//Tom Grant - ECPv6.15.20//NONSGML v1.0//EN
CALSCALE:GREGORIAN
METHOD:PUBLISH
X-WR-CALNAME:Tom Grant
X-ORIGINAL-URL:https://tomgrant.com
X-WR-CALDESC:Events for Tom Grant
REFRESH-INTERVAL;VALUE=DURATION:PT1H
X-Robots-Tag:noindex
X-PUBLISHED-TTL:PT1H
BEGIN:VTIMEZONE
TZID:America/Los_Angeles
BEGIN:DAYLIGHT
TZOFFSETFROM:-0800
TZOFFSETTO:-0700
TZNAME:PDT
DTSTART:20230312T100000
END:DAYLIGHT
BEGIN:STANDARD
TZOFFSETFROM:-0700
TZOFFSETTO:-0800
TZNAME:PST
DTSTART:20231105T090000
END:STANDARD
BEGIN:DAYLIGHT
TZOFFSETFROM:-0800
TZOFFSETTO:-0700
TZNAME:PDT
DTSTART:20240310T100000
END:DAYLIGHT
BEGIN:STANDARD
TZOFFSETFROM:-0700
TZOFFSETTO:-0800
TZNAME:PST
DTSTART:20241103T090000
END:STANDARD
BEGIN:DAYLIGHT
TZOFFSETFROM:-0800
TZOFFSETTO:-0700
TZNAME:PDT
DTSTART:20250309T100000
END:DAYLIGHT
BEGIN:STANDARD
TZOFFSETFROM:-0700
TZOFFSETTO:-0800
TZNAME:PST
DTSTART:20251102T090000
END:STANDARD
END:VTIMEZONE
BEGIN:VEVENT
DTSTART;TZID=America/Los_Angeles:20240102T180000
DTEND;TZID=America/Los_Angeles:20240102T200000
DTSTAMP:20260421T155014
CREATED:20230119T055127Z
LAST-MODIFIED:20240702T035026Z
UID:10001655-1704218400-1704225600@tomgrant.com
SUMMARY:Tuesdays at Nicoletta's
DESCRIPTION:Liven up your Tuesdays with Tom Grant. Live jazz\, delicious food\, and a relaxed atmosphere await you at Nicoletta’s Table in Lake Oswego.\nNO COVER. Reservations recommended: 503-699-2927.\n\n#PDXJazz #TomGrantJazzPDX #NicolettasTableLO #DateNight  #LOJazzSpot #PDXMusicScene #SupportLocalSpots #ShopLocal #SupporttheArts #TuesdayVibes #LakeOswegoLiveMusic
URL:https://tomgrant.com/event/tues-tunes-nicolettas-table-2022-02-01-2022-04-12-2-2/2024-01-02/
LOCATION:Nicoletta’s Table\, 333 South State Street\, Suite M\, Lake Oswego\, OR\, 97034\, United States
ATTACH;FMTTYPE=image/png:https://tomgrant.com/wp-content/uploads/2023/01/TG_Nicolettas-2024-SQ-3.png
END:VEVENT
BEGIN:VEVENT
DTSTART;TZID=America/Los_Angeles:20240103T180000
DTEND;TZID=America/Los_Angeles:20240103T210000
DTSTAMP:20260421T155014
CREATED:20240103T232551Z
LAST-MODIFIED:20240410T210432Z
UID:10002127-1704304800-1704315600@tomgrant.com
SUMMARY:The Underground @ deFuego Grille in Clackamas
DESCRIPTION:The Underground transports you into an Art Nouveau-inspired Speakeasy with live jazz\, nightly. Reserve your table for dinner\, drinks\, or dessert.\nReservations: (503) 652-7505
URL:https://tomgrant.com/event/underground-in-clackamas-monarch-hotel/2024-01-03/
LOCATION:de Fuego Grille  | Underground\, 12566 SE 93rd\, Clackamas\, OR\, United States
ATTACH;FMTTYPE=image/jpeg:https://tomgrant.com/wp-content/uploads/2021/09/TG-de-Fuego-FB-post.jpg
END:VEVENT
BEGIN:VEVENT
DTSTART;TZID=America/Los_Angeles:20240109T180000
DTEND;TZID=America/Los_Angeles:20240109T200000
DTSTAMP:20260421T155014
CREATED:20230119T055127Z
LAST-MODIFIED:20240702T035026Z
UID:10001656-1704823200-1704830400@tomgrant.com
SUMMARY:Tuesdays at Nicoletta's
DESCRIPTION:Liven up your Tuesdays with Tom Grant. Live jazz\, delicious food\, and a relaxed atmosphere await you at Nicoletta’s Table in Lake Oswego.\nNO COVER. Reservations recommended: 503-699-2927.\n\n#PDXJazz #TomGrantJazzPDX #NicolettasTableLO #DateNight  #LOJazzSpot #PDXMusicScene #SupportLocalSpots #ShopLocal #SupporttheArts #TuesdayVibes #LakeOswegoLiveMusic
URL:https://tomgrant.com/event/tues-tunes-nicolettas-table-2022-02-01-2022-04-12-2-2/2024-01-09/
LOCATION:Nicoletta’s Table\, 333 South State Street\, Suite M\, Lake Oswego\, OR\, 97034\, United States
ATTACH;FMTTYPE=image/png:https://tomgrant.com/wp-content/uploads/2023/01/TG_Nicolettas-2024-SQ-3.png
END:VEVENT
BEGIN:VEVENT
DTSTART;TZID=America/Los_Angeles:20240116T180000
DTEND;TZID=America/Los_Angeles:20240116T200000
DTSTAMP:20260421T155014
CREATED:20230119T055127Z
LAST-MODIFIED:20240702T035026Z
UID:10002199-1705428000-1705435200@tomgrant.com
SUMMARY:Tuesdays at Nicoletta's
DESCRIPTION:Liven up your Tuesdays with Tom Grant. Live jazz\, delicious food\, and a relaxed atmosphere await you at Nicoletta’s Table in Lake Oswego.\nNO COVER. Reservations recommended: 503-699-2927.\n\n#PDXJazz #TomGrantJazzPDX #NicolettasTableLO #DateNight  #LOJazzSpot #PDXMusicScene #SupportLocalSpots #ShopLocal #SupporttheArts #TuesdayVibes #LakeOswegoLiveMusic
URL:https://tomgrant.com/event/tues-tunes-nicolettas-table-2022-02-01-2022-04-12-2-2/2024-01-16/
LOCATION:Nicoletta’s Table\, 333 South State Street\, Suite M\, Lake Oswego\, OR\, 97034\, United States
ATTACH;FMTTYPE=image/png:https://tomgrant.com/wp-content/uploads/2023/01/TG_Nicolettas-2024-SQ-3.png
END:VEVENT
BEGIN:VEVENT
DTSTART;TZID=America/Los_Angeles:20240116T180000
DTEND;TZID=America/Los_Angeles:20240116T200000
DTSTAMP:20260421T155014
CREATED:20240116T232439Z
LAST-MODIFIED:20240116T232446Z
UID:10001657-1705428000-1705435200@tomgrant.com
SUMMARY:CANCELLED - Tuesdays at Nicoletta's
DESCRIPTION:tom will not be at Nicoletta’s tonight\, but will return next week.  Thank you!\n\nLiven up your Tuesdays with Tom Grant. Live jazz\, delicious food\, and a relaxed atmosphere await you at Nicoletta’s Table in Lake Oswego.\nNO COVER. Reservations recommended: 503-699-2927.\n\n#PDXJazz #TomGrantJazzPDX #NicolettasTableLO #DateNight  #LOJazzSpot #PDXMusicScene #SupportLocalSpots #ShopLocal #SupporttheArts #TuesdayVibes #LakeOswegoLiveMusic
URL:https://tomgrant.com/event/tues-tunes-nicolettas-table-2022-02-01-2022-04-12-2-2-2/
LOCATION:Nicoletta’s Table\, 333 South State Street\, Suite M\, Lake Oswego\, OR\, 97034\, United States
ATTACH;FMTTYPE=image/jpeg:https://tomgrant.com/wp-content/uploads/2023/01/TG-PRofile-at-Nicolettas.jpg
END:VEVENT
BEGIN:VEVENT
DTSTART;TZID=America/Los_Angeles:20240117T180000
DTEND;TZID=America/Los_Angeles:20240117T210000
DTSTAMP:20260421T155014
CREATED:20240113T031211Z
LAST-MODIFIED:20240115T000123Z
UID:10002191-1705514400-1705525200@tomgrant.com
SUMMARY:Cancelled \n Solo Piano @ The Underground in Clackamas
DESCRIPTION:
URL:https://tomgrant.com/event/solo-piano-the-underground-in-clackamas/2024-01-17/
LOCATION:OR
ATTACH;FMTTYPE=image/jpeg:https://tomgrant.com/wp-content/uploads/2024/01/TH_Underground_Winter-24-SQ-scaled.jpg
END:VEVENT
BEGIN:VEVENT
DTSTART;TZID=America/Los_Angeles:20240117T180000
DTEND;TZID=America/Los_Angeles:20240117T210000
DTSTAMP:20260421T155014
CREATED:20240116T193005Z
LAST-MODIFIED:20240116T193655Z
UID:10002192-1705514400-1705525200@tomgrant.com
SUMMARY:CANCELLED     Solo Piano @ The Underground in Clackamas
DESCRIPTION:I’ll be back at the Underground soon. Please check my calendar for new dates and times. Thank you!
URL:https://tomgrant.com/event/solo-piano-the-underground-in-clackamas-2/
LOCATION:OR
ATTACH;FMTTYPE=image/jpeg:https://tomgrant.com/wp-content/uploads/2024/01/TH_Underground_Winter-24-SQ-scaled.jpg
END:VEVENT
BEGIN:VEVENT
DTSTART;TZID=America/Los_Angeles:20240119T170000
DTEND;TZID=America/Los_Angeles:20240119T203000
DTSTAMP:20260421T155014
CREATED:20240112T223930Z
LAST-MODIFIED:20240515T182333Z
UID:10002433-1705683600-1705696200@tomgrant.com
SUMMARY:Solo Piano at the Allison Inn
DESCRIPTION:Wine Country in Newberg is home to the Allison Inn and one of the loveliest views around.
URL:https://tomgrant.com/event/solo-piano-at-the-allison-inn-4/2024-01-19/
LOCATION:Allison Inn & Spa\, 2525 Allison Lane\, Newberg\, OR\, United States
CATEGORIES:Club gig,Live Jazz,Live Jazz,Live Music,Wine Country Live Music
ATTACH;FMTTYPE=image/jpeg:https://tomgrant.com/wp-content/uploads/2024/03/TG_AllisonInn2024_SQ-scaled.jpg
GEO:45.3189709;-122.9454381
X-APPLE-STRUCTURED-LOCATION;VALUE=URI;X-ADDRESS=Allison Inn & Spa 2525 Allison Lane Newberg OR United States;X-APPLE-RADIUS=500;X-TITLE=2525 Allison Lane:geo:-122.9454381,45.3189709
END:VEVENT
BEGIN:VEVENT
DTSTART;TZID=America/Los_Angeles:20240123T180000
DTEND;TZID=America/Los_Angeles:20240123T200000
DTSTAMP:20260421T155014
CREATED:20230119T055127Z
LAST-MODIFIED:20240702T035026Z
UID:10002128-1706032800-1706040000@tomgrant.com
SUMMARY:Tuesdays at Nicoletta's
DESCRIPTION:Liven up your Tuesdays with Tom Grant. Live jazz\, delicious food\, and a relaxed atmosphere await you at Nicoletta’s Table in Lake Oswego.\nNO COVER. Reservations recommended: 503-699-2927.\n\n#PDXJazz #TomGrantJazzPDX #NicolettasTableLO #DateNight  #LOJazzSpot #PDXMusicScene #SupportLocalSpots #ShopLocal #SupporttheArts #TuesdayVibes #LakeOswegoLiveMusic
URL:https://tomgrant.com/event/tues-tunes-nicolettas-table-2022-02-01-2022-04-12-2-2/2024-01-23/
LOCATION:Nicoletta’s Table\, 333 South State Street\, Suite M\, Lake Oswego\, OR\, 97034\, United States
ATTACH;FMTTYPE=image/png:https://tomgrant.com/wp-content/uploads/2023/01/TG_Nicolettas-2024-SQ-3.png
END:VEVENT
BEGIN:VEVENT
DTSTART;TZID=America/Los_Angeles:20240125T190000
DTEND;TZID=America/Los_Angeles:20240125T210000
DTSTAMP:20260421T155014
CREATED:20240112T223650Z
LAST-MODIFIED:20240112T223853Z
UID:10002182-1706209200-1706216400@tomgrant.com
SUMMARY:Ron Steen Band @ Arrivederci
DESCRIPTION:
URL:https://tomgrant.com/event/ron-steen-band-arrivederci-2/
LOCATION:OR
ATTACH;FMTTYPE=image/png:https://tomgrant.com/wp-content/uploads/2021/06/arrivederci-wine-bar.png
END:VEVENT
BEGIN:VEVENT
DTSTART;TZID=America/Los_Angeles:20240127T170000
DTEND;TZID=America/Los_Angeles:20240127T203000
DTSTAMP:20260421T155014
CREATED:20240313T000050Z
LAST-MODIFIED:20240530T182724Z
UID:10002190-1706374800-1706387400@tomgrant.com
SUMMARY:Solo Piano at the Allison Inn
DESCRIPTION:Cozy up at the Allison Inn and let Tom get you in the Holiday mood.  He’ll be at the piano from 5:00-8:30.
URL:https://tomgrant.com/event/solo-piano-at-the-allison-inn-4-2/2024-01-27/
LOCATION:Allison Inn & Spa\, 2525 Allison Lane\, Newberg\, OR\, United States
CATEGORIES:Club gig,Live Jazz,Live Jazz,Live Music,Wine Country Live Music
ATTACH;FMTTYPE=image/jpeg:https://tomgrant.com/wp-content/uploads/2024/03/TG_AllisonInn2024_SQ-scaled.jpg
GEO:45.3189709;-122.9454381
X-APPLE-STRUCTURED-LOCATION;VALUE=URI;X-ADDRESS=Allison Inn & Spa 2525 Allison Lane Newberg OR United States;X-APPLE-RADIUS=500;X-TITLE=2525 Allison Lane:geo:-122.9454381,45.3189709
END:VEVENT
BEGIN:VEVENT
DTSTART;TZID=America/Los_Angeles:20240130T180000
DTEND;TZID=America/Los_Angeles:20240130T200000
DTSTAMP:20260421T155014
CREATED:20230119T055127Z
LAST-MODIFIED:20240702T035026Z
UID:10002129-1706637600-1706644800@tomgrant.com
SUMMARY:Tuesdays at Nicoletta's
DESCRIPTION:Liven up your Tuesdays with Tom Grant. Live jazz\, delicious food\, and a relaxed atmosphere await you at Nicoletta’s Table in Lake Oswego.\nNO COVER. Reservations recommended: 503-699-2927.\n\n#PDXJazz #TomGrantJazzPDX #NicolettasTableLO #DateNight  #LOJazzSpot #PDXMusicScene #SupportLocalSpots #ShopLocal #SupporttheArts #TuesdayVibes #LakeOswegoLiveMusic
URL:https://tomgrant.com/event/tues-tunes-nicolettas-table-2022-02-01-2022-04-12-2-2/2024-01-30/
LOCATION:Nicoletta’s Table\, 333 South State Street\, Suite M\, Lake Oswego\, OR\, 97034\, United States
ATTACH;FMTTYPE=image/png:https://tomgrant.com/wp-content/uploads/2023/01/TG_Nicolettas-2024-SQ-3.png
END:VEVENT
BEGIN:VEVENT
DTSTART;TZID=America/Los_Angeles:20240204T150000
DTEND;TZID=America/Los_Angeles:20240204T170000
DTSTAMP:20260421T155014
CREATED:20240116T232311Z
LAST-MODIFIED:20240116T232311Z
UID:10002193-1707058800-1707066000@tomgrant.com
SUMMARY:Cannon Beach with Shelly Rudolph
DESCRIPTION:Tom & Shelly will appear at the Coaster Theatre in Cannon Beach for an afternoon of music and joy!  Tickets on sale online for the Feb 4 performance.
URL:https://tomgrant.com/event/cannon-beach-with-shelly-rudolph/
LOCATION:Coaster Theatre\, Cannon Beach\, 108 N Hemlock Street\, Cannon Beach\, OR\, United States
ATTACH;FMTTYPE=image/jpeg:https://tomgrant.com/wp-content/uploads/2024/01/TG-Coaster-w-Shelly_Feb2024-SQ-scaled.jpg
GEO:45.8967026;-123.9611788
X-APPLE-STRUCTURED-LOCATION;VALUE=URI;X-ADDRESS=Coaster Theatre Cannon Beach 108 N Hemlock Street Cannon Beach OR United States;X-APPLE-RADIUS=500;X-TITLE=108 N Hemlock Street:geo:-123.9611788,45.8967026
END:VEVENT
BEGIN:VEVENT
DTSTART;TZID=America/Los_Angeles:20240206T180000
DTEND;TZID=America/Los_Angeles:20240206T200000
DTSTAMP:20260421T155014
CREATED:20230119T055127Z
LAST-MODIFIED:20240702T035026Z
UID:10002130-1707242400-1707249600@tomgrant.com
SUMMARY:Tuesdays at Nicoletta's
DESCRIPTION:Liven up your Tuesdays with Tom Grant. Live jazz\, delicious food\, and a relaxed atmosphere await you at Nicoletta’s Table in Lake Oswego.\nNO COVER. Reservations recommended: 503-699-2927.\n\n#PDXJazz #TomGrantJazzPDX #NicolettasTableLO #DateNight  #LOJazzSpot #PDXMusicScene #SupportLocalSpots #ShopLocal #SupporttheArts #TuesdayVibes #LakeOswegoLiveMusic
URL:https://tomgrant.com/event/tues-tunes-nicolettas-table-2022-02-01-2022-04-12-2-2/2024-02-06/
LOCATION:Nicoletta’s Table\, 333 South State Street\, Suite M\, Lake Oswego\, OR\, 97034\, United States
ATTACH;FMTTYPE=image/png:https://tomgrant.com/wp-content/uploads/2023/01/TG_Nicolettas-2024-SQ-3.png
END:VEVENT
BEGIN:VEVENT
DTSTART;TZID=America/Los_Angeles:20240210T160000
DTEND;TZID=America/Los_Angeles:20240210T183000
DTSTAMP:20260421T155014
CREATED:20240112T221412Z
LAST-MODIFIED:20240116T201515Z
UID:10002125-1707580800-1707589800@tomgrant.com
SUMMARY:Valentine's Serenade at Stoller Family Estate
DESCRIPTION:Join us for a magical Valentine’s concert with Tom Grant and Shelly Rudolph at the Experience Center.  The Valentine’s menu will include a variety of Chef Becca’s delicious flatbreads and a special selection of wines and festive beverages. \nTICKETS: HERE 
URL:https://tomgrant.com/event/valentines-at-stoller-with-shelly-and-tom-2-2-2-2/
LOCATION:Stoller Family Estate\, 16161 N.E. McDougall Road\, Dayton\, OR\, United States
ATTACH;FMTTYPE=application/pdf:https://tomgrant.com/wp-content/uploads/2024/01/TG-Valentines-2023-SQ-Stoller.pdf
GEO:45.2414301;-123.0699526
X-APPLE-STRUCTURED-LOCATION;VALUE=URI;X-ADDRESS=Stoller Family Estate 16161 N.E. McDougall Road Dayton OR United States;X-APPLE-RADIUS=500;X-TITLE=16161 N.E. McDougall Road:geo:-123.0699526,45.2414301
END:VEVENT
BEGIN:VEVENT
DTSTART;TZID=America/Los_Angeles:20240213T180000
DTEND;TZID=America/Los_Angeles:20240213T200000
DTSTAMP:20260421T155014
CREATED:20230119T055127Z
LAST-MODIFIED:20240702T035026Z
UID:10002131-1707847200-1707854400@tomgrant.com
SUMMARY:Tuesdays at Nicoletta's
DESCRIPTION:Liven up your Tuesdays with Tom Grant. Live jazz\, delicious food\, and a relaxed atmosphere await you at Nicoletta’s Table in Lake Oswego.\nNO COVER. Reservations recommended: 503-699-2927.\n\n#PDXJazz #TomGrantJazzPDX #NicolettasTableLO #DateNight  #LOJazzSpot #PDXMusicScene #SupportLocalSpots #ShopLocal #SupporttheArts #TuesdayVibes #LakeOswegoLiveMusic
URL:https://tomgrant.com/event/tues-tunes-nicolettas-table-2022-02-01-2022-04-12-2-2/2024-02-13/
LOCATION:Nicoletta’s Table\, 333 South State Street\, Suite M\, Lake Oswego\, OR\, 97034\, United States
ATTACH;FMTTYPE=image/png:https://tomgrant.com/wp-content/uploads/2023/01/TG_Nicolettas-2024-SQ-3.png
END:VEVENT
BEGIN:VEVENT
DTSTART;TZID=America/Los_Angeles:20240214T190000
DTEND;TZID=America/Los_Angeles:20240214T210000
DTSTAMP:20260421T155014
CREATED:20240210T190847Z
LAST-MODIFIED:20240210T195104Z
UID:10002194-1707937200-1707944400@tomgrant.com
SUMMARY:VALENTINE'S  DAY @ Arrivederci
DESCRIPTION:
URL:https://tomgrant.com/event/valentines-day-arrivederci/
LOCATION:Arrivederci Wine Bar\, 17023 SE McLoughlin Blvd.\, Milwaukie\, OR\, 97267
ATTACH;FMTTYPE=image/jpeg:https://tomgrant.com/wp-content/uploads/2024/02/TG-Shelly_2024-Valentines_Arrivederci-SQ-scaled.jpg
GEO:45.3994964;-122.6200178
X-APPLE-STRUCTURED-LOCATION;VALUE=URI;X-ADDRESS=Arrivederci Wine Bar 17023 SE McLoughlin Blvd. Milwaukie OR 97267;X-APPLE-RADIUS=500;X-TITLE=17023 SE McLoughlin Blvd.:geo:-122.6200178,45.3994964
END:VEVENT
BEGIN:VEVENT
DTSTART;TZID=America/Los_Angeles:20240220T180000
DTEND;TZID=America/Los_Angeles:20240220T200000
DTSTAMP:20260421T155014
CREATED:20230119T055127Z
LAST-MODIFIED:20240702T035026Z
UID:10002132-1708452000-1708459200@tomgrant.com
SUMMARY:Tuesdays at Nicoletta's
DESCRIPTION:Liven up your Tuesdays with Tom Grant. Live jazz\, delicious food\, and a relaxed atmosphere await you at Nicoletta’s Table in Lake Oswego.\nNO COVER. Reservations recommended: 503-699-2927.\n\n#PDXJazz #TomGrantJazzPDX #NicolettasTableLO #DateNight  #LOJazzSpot #PDXMusicScene #SupportLocalSpots #ShopLocal #SupporttheArts #TuesdayVibes #LakeOswegoLiveMusic
URL:https://tomgrant.com/event/tues-tunes-nicolettas-table-2022-02-01-2022-04-12-2-2/2024-02-20/
LOCATION:Nicoletta’s Table\, 333 South State Street\, Suite M\, Lake Oswego\, OR\, 97034\, United States
ATTACH;FMTTYPE=image/png:https://tomgrant.com/wp-content/uploads/2023/01/TG_Nicolettas-2024-SQ-3.png
END:VEVENT
BEGIN:VEVENT
DTSTART;TZID=America/Los_Angeles:20240227T180000
DTEND;TZID=America/Los_Angeles:20240227T200000
DTSTAMP:20260421T155014
CREATED:20230119T055127Z
LAST-MODIFIED:20240702T035026Z
UID:10002133-1709056800-1709064000@tomgrant.com
SUMMARY:Tuesdays at Nicoletta's
DESCRIPTION:Liven up your Tuesdays with Tom Grant. Live jazz\, delicious food\, and a relaxed atmosphere await you at Nicoletta’s Table in Lake Oswego.\nNO COVER. Reservations recommended: 503-699-2927.\n\n#PDXJazz #TomGrantJazzPDX #NicolettasTableLO #DateNight  #LOJazzSpot #PDXMusicScene #SupportLocalSpots #ShopLocal #SupporttheArts #TuesdayVibes #LakeOswegoLiveMusic
URL:https://tomgrant.com/event/tues-tunes-nicolettas-table-2022-02-01-2022-04-12-2-2/2024-02-27/
LOCATION:Nicoletta’s Table\, 333 South State Street\, Suite M\, Lake Oswego\, OR\, 97034\, United States
ATTACH;FMTTYPE=image/png:https://tomgrant.com/wp-content/uploads/2023/01/TG_Nicolettas-2024-SQ-3.png
END:VEVENT
BEGIN:VEVENT
DTSTART;TZID=America/Los_Angeles:20240305T180000
DTEND;TZID=America/Los_Angeles:20240305T200000
DTSTAMP:20260421T155014
CREATED:20230119T055127Z
LAST-MODIFIED:20240702T035026Z
UID:10002134-1709661600-1709668800@tomgrant.com
SUMMARY:Tuesdays at Nicoletta's
DESCRIPTION:Liven up your Tuesdays with Tom Grant. Live jazz\, delicious food\, and a relaxed atmosphere await you at Nicoletta’s Table in Lake Oswego.\nNO COVER. Reservations recommended: 503-699-2927.\n\n#PDXJazz #TomGrantJazzPDX #NicolettasTableLO #DateNight  #LOJazzSpot #PDXMusicScene #SupportLocalSpots #ShopLocal #SupporttheArts #TuesdayVibes #LakeOswegoLiveMusic
URL:https://tomgrant.com/event/tues-tunes-nicolettas-table-2022-02-01-2022-04-12-2-2/2024-03-05/
LOCATION:Nicoletta’s Table\, 333 South State Street\, Suite M\, Lake Oswego\, OR\, 97034\, United States
ATTACH;FMTTYPE=image/png:https://tomgrant.com/wp-content/uploads/2023/01/TG_Nicolettas-2024-SQ-3.png
END:VEVENT
BEGIN:VEVENT
DTSTART;TZID=America/Los_Angeles:20240306T180000
DTEND;TZID=America/Los_Angeles:20240306T210000
DTSTAMP:20260421T155014
CREATED:20240103T232551Z
LAST-MODIFIED:20240410T210432Z
UID:10002195-1709748000-1709758800@tomgrant.com
SUMMARY:The Underground @ deFuego Grille in Clackamas
DESCRIPTION:The Underground transports you into an Art Nouveau-inspired Speakeasy with live jazz\, nightly. Reserve your table for dinner\, drinks\, or dessert.\nReservations: (503) 652-7505
URL:https://tomgrant.com/event/underground-in-clackamas-monarch-hotel/2024-03-06/
LOCATION:de Fuego Grille  | Underground\, 12566 SE 93rd\, Clackamas\, OR\, United States
ATTACH;FMTTYPE=image/jpeg:https://tomgrant.com/wp-content/uploads/2021/09/TG-de-Fuego-FB-post.jpg
END:VEVENT
BEGIN:VEVENT
DTSTART;TZID=America/Los_Angeles:20240308T170000
DTEND;TZID=America/Los_Angeles:20240308T210000
DTSTAMP:20260421T155014
CREATED:20240314T182245Z
LAST-MODIFIED:20241101T232838Z
UID:10002469-1709917200-1709931600@tomgrant.com
SUMMARY:Tom Grant - Solo Piano at the Allison Inn
DESCRIPTION:
URL:https://tomgrant.com/event/tom-grant-solo-piano-at-the-alison-inn-2-2/2024-03-08/
LOCATION:Allison Inn & Spa\, 2525 Allison Lane\, Newberg\, OR\, United States
CATEGORIES:Concert,Free Concert,Live Jazz,Live Jazz,Live Music,Wine Country Live Music
ATTACH;FMTTYPE=image/jpeg:https://tomgrant.com/wp-content/uploads/2024/03/TG_AllisonInn2024_SQ-scaled.jpg
GEO:45.3189709;-122.9454381
X-APPLE-STRUCTURED-LOCATION;VALUE=URI;X-ADDRESS=Allison Inn & Spa 2525 Allison Lane Newberg OR United States;X-APPLE-RADIUS=500;X-TITLE=2525 Allison Lane:geo:-122.9454381,45.3189709
END:VEVENT
BEGIN:VEVENT
DTSTART;TZID=America/Los_Angeles:20240308T170000
DTEND;TZID=America/Los_Angeles:20240308T210000
DTSTAMP:20260421T155014
CREATED:20241125T224315Z
LAST-MODIFIED:20241125T224315Z
UID:10003132-1709917200-1709931600@tomgrant.com
SUMMARY:Tom Grant - Solo Piano at the Allison Inn
DESCRIPTION:
URL:https://tomgrant.com/event/tom-grant-solo-piano-at-the-allison-inn/2024-03-08/
LOCATION:Allison Inn & Spa\, 2525 Allison Lane\, Newberg\, OR\, United States
CATEGORIES:Concert,Free Concert,Live Jazz,Live Jazz,Live Music,Wine Country Live Music
ATTACH;FMTTYPE=image/jpeg:https://tomgrant.com/wp-content/uploads/2024/03/TG_AllisonInn2024_SQ-scaled.jpg
GEO:45.3189709;-122.9454381
X-APPLE-STRUCTURED-LOCATION;VALUE=URI;X-ADDRESS=Allison Inn & Spa 2525 Allison Lane Newberg OR United States;X-APPLE-RADIUS=500;X-TITLE=2525 Allison Lane:geo:-122.9454381,45.3189709
END:VEVENT
BEGIN:VEVENT
DTSTART;TZID=America/Los_Angeles:20240312T180000
DTEND;TZID=America/Los_Angeles:20240312T200000
DTSTAMP:20260421T155014
CREATED:20230119T055127Z
LAST-MODIFIED:20240702T035026Z
UID:10002135-1710266400-1710273600@tomgrant.com
SUMMARY:Tuesdays at Nicoletta's
DESCRIPTION:Liven up your Tuesdays with Tom Grant. Live jazz\, delicious food\, and a relaxed atmosphere await you at Nicoletta’s Table in Lake Oswego.\nNO COVER. Reservations recommended: 503-699-2927.\n\n#PDXJazz #TomGrantJazzPDX #NicolettasTableLO #DateNight  #LOJazzSpot #PDXMusicScene #SupportLocalSpots #ShopLocal #SupporttheArts #TuesdayVibes #LakeOswegoLiveMusic
URL:https://tomgrant.com/event/tues-tunes-nicolettas-table-2022-02-01-2022-04-12-2-2/2024-03-12/
LOCATION:Nicoletta’s Table\, 333 South State Street\, Suite M\, Lake Oswego\, OR\, 97034\, United States
ATTACH;FMTTYPE=image/png:https://tomgrant.com/wp-content/uploads/2023/01/TG_Nicolettas-2024-SQ-3.png
END:VEVENT
BEGIN:VEVENT
DTSTART;TZID=America/Los_Angeles:20240316T150000
DTEND;TZID=America/Los_Angeles:20240316T173000
DTSTAMP:20260421T155014
CREATED:20240313T004037Z
LAST-MODIFIED:20240313T230400Z
UID:10002418-1710601200-1710610200@tomgrant.com
SUMMARY:Grant High Centennial Celebration - Tom Grant & Marilyn Keller at 4 PM
DESCRIPTION:I’m honored to be performing with the magical Marilyn Keller at Grant High School’s Centennial Celebration\, The event is free and open to the public.\n1-4 PM: OPEN HOUSE\, 3-4  PM: ALUMNI GATHERING\, 4-5:30 PM: TOM GRANT & MARILYN KELLER PERFORM!
URL:https://tomgrant.com/event/grant-high-centennial-celebration/
LOCATION:Grant High School\, 2245 NE 36th\, Portland\, OR
ATTACH;FMTTYPE=image/png:https://tomgrant.com/wp-content/uploads/2024/03/GHS-Open-House.png
END:VEVENT
BEGIN:VEVENT
DTSTART;TZID=America/Los_Angeles:20240319T180000
DTEND;TZID=America/Los_Angeles:20240319T200000
DTSTAMP:20260421T155014
CREATED:20230119T055127Z
LAST-MODIFIED:20240702T035026Z
UID:10002136-1710871200-1710878400@tomgrant.com
SUMMARY:Tuesdays at Nicoletta's
DESCRIPTION:Liven up your Tuesdays with Tom Grant. Live jazz\, delicious food\, and a relaxed atmosphere await you at Nicoletta’s Table in Lake Oswego.\nNO COVER. Reservations recommended: 503-699-2927.\n\n#PDXJazz #TomGrantJazzPDX #NicolettasTableLO #DateNight  #LOJazzSpot #PDXMusicScene #SupportLocalSpots #ShopLocal #SupporttheArts #TuesdayVibes #LakeOswegoLiveMusic
URL:https://tomgrant.com/event/tues-tunes-nicolettas-table-2022-02-01-2022-04-12-2-2/2024-03-19/
LOCATION:Nicoletta’s Table\, 333 South State Street\, Suite M\, Lake Oswego\, OR\, 97034\, United States
ATTACH;FMTTYPE=image/png:https://tomgrant.com/wp-content/uploads/2023/01/TG_Nicolettas-2024-SQ-3.png
END:VEVENT
BEGIN:VEVENT
DTSTART;TZID=America/Los_Angeles:20240320T180000
DTEND;TZID=America/Los_Angeles:20240320T210000
DTSTAMP:20260421T155014
CREATED:20240103T232551Z
LAST-MODIFIED:20240410T210432Z
UID:10002196-1710957600-1710968400@tomgrant.com
SUMMARY:The Underground @ deFuego Grille in Clackamas
DESCRIPTION:The Underground transports you into an Art Nouveau-inspired Speakeasy with live jazz\, nightly. Reserve your table for dinner\, drinks\, or dessert.\nReservations: (503) 652-7505
URL:https://tomgrant.com/event/underground-in-clackamas-monarch-hotel/2024-03-20/
LOCATION:de Fuego Grille  | Underground\, 12566 SE 93rd\, Clackamas\, OR\, United States
ATTACH;FMTTYPE=image/jpeg:https://tomgrant.com/wp-content/uploads/2021/09/TG-de-Fuego-FB-post.jpg
END:VEVENT
BEGIN:VEVENT
DTSTART;TZID=America/Los_Angeles:20240324T080000
DTEND;TZID=America/Los_Angeles:20240324T170000
DTSTAMP:20260421T155014
CREATED:20240702T035726Z
LAST-MODIFIED:20240702T040613Z
UID:10002465-1711267200-1711299600@tomgrant.com
SUMMARY:Ron Steen Jam | Tom Grant\, Phil Baker
DESCRIPTION:Ron Steen Jam at Clyde’s featuring Tom on piano and Phil Baker on bass! \n  \n 
URL:https://tomgrant.com/event/ron-steen-jam-with-phil-baker-tom-grant/
LOCATION:Clyde’s  Prime Rib\, 5474 NE Sandy Blvd\, Ptld\, OR\, United States
CATEGORIES:Club gig,Live Jazz
ATTACH;FMTTYPE=image/png:https://tomgrant.com/wp-content/uploads/2022/07/clydes-prime-rib-logo.png
END:VEVENT
BEGIN:VEVENT
DTSTART;TZID=America/Los_Angeles:20240324T200000
DTEND;TZID=America/Los_Angeles:20240324T223000
DTSTAMP:20260421T155014
CREATED:20240313T001017Z
LAST-MODIFIED:20240530T182447Z
UID:10002416-1711310400-1711319400@tomgrant.com
SUMMARY:Ron Steen Jam @ Clyde's
DESCRIPTION:Ron Steen Jam at Clyde’s featuring Tom on Piano and Dave Captein on bass.  \n  \n 
URL:https://tomgrant.com/event/ron-steen-jam-clydes-2/
LOCATION:Clyde’s  Prime Rib\, 5474 NE Sandy Blvd\, Ptld\, OR\, United States
CATEGORIES:Club gig,Live Jazz
ATTACH;FMTTYPE=image/png:https://tomgrant.com/wp-content/uploads/2022/07/clydes-prime-rib-logo.png
END:VEVENT
BEGIN:VEVENT
DTSTART;TZID=America/Los_Angeles:20240325T080000
DTEND;TZID=America/Los_Angeles:20240325T080000
DTSTAMP:20260421T155014
CREATED:20240702T035726Z
LAST-MODIFIED:20240702T040613Z
UID:10002466-1711353600-1711353600@tomgrant.com
SUMMARY:Ron Steen Jam | Tom Grant\, Phil Baker
DESCRIPTION:Ron Steen Jam at Clyde’s featuring Tom on piano and Phil Baker on bass! \n  \n 
URL:https://tomgrant.com/event/ron-steen-jam-with-phil-baker-tom-grant/
LOCATION:Clyde’s  Prime Rib\, 5474 NE Sandy Blvd\, Ptld\, OR\, United States
CATEGORIES:Club gig,Live Jazz
ATTACH;FMTTYPE=image/png:https://tomgrant.com/wp-content/uploads/2022/07/clydes-prime-rib-logo.png
END:VEVENT
END:VCALENDAR