BEGIN:VCALENDAR
VERSION:2.0
PRODID:-//Tom Grant - ECPv6.15.20//NONSGML v1.0//EN
CALSCALE:GREGORIAN
METHOD:PUBLISH
X-WR-CALNAME:Tom Grant
X-ORIGINAL-URL:https://tomgrant.com
X-WR-CALDESC:Events for Tom Grant
REFRESH-INTERVAL;VALUE=DURATION:PT1H
X-Robots-Tag:noindex
X-PUBLISHED-TTL:PT1H
BEGIN:VTIMEZONE
TZID:America/Los_Angeles
BEGIN:DAYLIGHT
TZOFFSETFROM:-0800
TZOFFSETTO:-0700
TZNAME:PDT
DTSTART:20210314T100000
END:DAYLIGHT
BEGIN:STANDARD
TZOFFSETFROM:-0700
TZOFFSETTO:-0800
TZNAME:PST
DTSTART:20211107T090000
END:STANDARD
BEGIN:DAYLIGHT
TZOFFSETFROM:-0800
TZOFFSETTO:-0700
TZNAME:PDT
DTSTART:20220313T100000
END:DAYLIGHT
BEGIN:STANDARD
TZOFFSETFROM:-0700
TZOFFSETTO:-0800
TZNAME:PST
DTSTART:20221106T090000
END:STANDARD
BEGIN:DAYLIGHT
TZOFFSETFROM:-0800
TZOFFSETTO:-0700
TZNAME:PDT
DTSTART:20230312T100000
END:DAYLIGHT
BEGIN:STANDARD
TZOFFSETFROM:-0700
TZOFFSETTO:-0800
TZNAME:PST
DTSTART:20231105T090000
END:STANDARD
END:VTIMEZONE
BEGIN:VEVENT
DTSTART;TZID=America/Los_Angeles:20220531T180000
DTEND;TZID=America/Los_Angeles:20220531T200000
DTSTAMP:20260421T174749
CREATED:20210917T162916Z
LAST-MODIFIED:20220406T232922Z
UID:10001138-1654020000-1654027200@tomgrant.com
SUMMARY:Tuesdays at Nicoletta's
DESCRIPTION:Liven up your Tuesdays with Tom Grant. Live jazz\, delicious food\, and a relaxed atmosphere await you at Nicoletta’s Table in Lake Oswego.\nNO COVER. Reservations recommended: 503-699-2927.\n\n#PDXJazz #TomGrantJazzPDX #NicolettasTableLO #DateNight  #LOJazzSpot #PDXMusicScene #SupportLocalSpots #ShopLocal #SupporttheArts #TuesdayVibes #LakeOswegoLiveMusic
URL:https://tomgrant.com/event/tues-tunes-nicolettas-table-2022-02-01-2022-04-12/2022-05-31/
LOCATION:Nicoletta’s Table\, 333 South State Street\, Suite M\, Lake Oswego\, OR\, 97034\, United States
ATTACH;FMTTYPE=image/jpeg:https://tomgrant.com/wp-content/uploads/2021/09/TG_Nicolettas-Tuesdays-FB-post-1.jpg
END:VEVENT
BEGIN:VEVENT
DTSTART;TZID=America/Los_Angeles:20220528T180000
DTEND;TZID=America/Los_Angeles:20220528T210000
DTSTAMP:20260421T174749
CREATED:20220427T185143Z
LAST-MODIFIED:20220427T185507Z
UID:10001439-1653760800-1653771600@tomgrant.com
SUMMARY:Vino Veritas
DESCRIPTION:
URL:https://tomgrant.com/event/clydes-ron-steen-jam/
LOCATION:Vino Veritas\, 7835 SE Stark St.\, Portland\, United States
END:VEVENT
BEGIN:VEVENT
DTSTART;TZID=America/Los_Angeles:20220526T190000
DTEND;TZID=America/Los_Angeles:20220526T210000
DTSTAMP:20260421T174749
CREATED:20220427T184141Z
LAST-MODIFIED:20220427T184141Z
UID:10001446-1653591600-1653598800@tomgrant.com
SUMMARY:WILF'S with Shelly Rudolph
DESCRIPTION:
URL:https://tomgrant.com/event/wilfs-with-shelly-rudolph/
LOCATION:Wilfs at Union Station\, 800 NW 6th Ave at Union Station \, Portland\, OR\, United States
GEO:45.5288249;-122.6766007
X-APPLE-STRUCTURED-LOCATION;VALUE=URI;X-ADDRESS=Wilfs at Union Station 800 NW 6th Ave at Union Station  Portland OR United States;X-APPLE-RADIUS=500;X-TITLE=800 NW 6th Ave at Union Station:geo:-122.6766007,45.5288249
END:VEVENT
BEGIN:VEVENT
DTSTART;TZID=America/Los_Angeles:20220524T180000
DTEND;TZID=America/Los_Angeles:20220524T200000
DTSTAMP:20260421T174749
CREATED:20210917T162916Z
LAST-MODIFIED:20220406T232922Z
UID:10001137-1653415200-1653422400@tomgrant.com
SUMMARY:Tuesdays at Nicoletta's
DESCRIPTION:Liven up your Tuesdays with Tom Grant. Live jazz\, delicious food\, and a relaxed atmosphere await you at Nicoletta’s Table in Lake Oswego.\nNO COVER. Reservations recommended: 503-699-2927.\n\n#PDXJazz #TomGrantJazzPDX #NicolettasTableLO #DateNight  #LOJazzSpot #PDXMusicScene #SupportLocalSpots #ShopLocal #SupporttheArts #TuesdayVibes #LakeOswegoLiveMusic
URL:https://tomgrant.com/event/tues-tunes-nicolettas-table-2022-02-01-2022-04-12/2022-05-24/
LOCATION:Nicoletta’s Table\, 333 South State Street\, Suite M\, Lake Oswego\, OR\, 97034\, United States
ATTACH;FMTTYPE=image/jpeg:https://tomgrant.com/wp-content/uploads/2021/09/TG_Nicolettas-Tuesdays-FB-post-1.jpg
END:VEVENT
BEGIN:VEVENT
DTSTART;TZID=America/Los_Angeles:20220521T173000
DTEND;TZID=America/Los_Angeles:20220521T203000
DTSTAMP:20260421T174749
CREATED:20220407T000740Z
LAST-MODIFIED:20220721T040731Z
UID:10001207-1653154200-1653165000@tomgrant.com
SUMMARY:Private Event | Hoyt Arboretum
DESCRIPTION:If you are interested in booking Tom for a private dinner\, garden party\, or celebration\, please send an email to Info@TomGrant.com or call 503 550 9463.
URL:https://tomgrant.com/event/portland-private-party/2022-05-21/
LOCATION:OR
CATEGORIES:Dinner Concert,Private Event
ATTACH;FMTTYPE=image/jpeg:https://tomgrant.com/wp-content/uploads/2020/02/TG-Blue-light-head-shot-web-version-scaled-e1582829699300.jpg
END:VEVENT
BEGIN:VEVENT
DTSTART;TZID=America/Los_Angeles:20220519T180000
DTEND;TZID=America/Los_Angeles:20220519T210000
DTSTAMP:20260421T174749
CREATED:20220406T230140Z
LAST-MODIFIED:20220527T024434Z
UID:10001190-1652983200-1652994000@tomgrant.com
SUMMARY:De Fuego Grille  | Underground
DESCRIPTION:The newest eastside Jazz spot with a cool vibe and fabulous refreshments.  Catch Tom at the piano at the Underground at de Fuego Grille in Clackamas\, inside the Monarch Hotel. Reservations recommended.
URL:https://tomgrant.com/event/de-fuego-grille-underground-3-2022-05-19/2022-05-19/
LOCATION:de Fuego Grille  | Underground\, 12566 SE 93rd\, Clackamas\, OR\, United States
CATEGORIES:Club gig,Live Jazz,Live Music
ATTACH;FMTTYPE=image/jpeg:https://tomgrant.com/wp-content/uploads/2021/09/TG-de-Fuego-FB-post.jpg
END:VEVENT
BEGIN:VEVENT
DTSTART;TZID=America/Los_Angeles:20220517T180000
DTEND;TZID=America/Los_Angeles:20220517T200000
DTSTAMP:20260421T174749
CREATED:20210917T162916Z
LAST-MODIFIED:20220406T232922Z
UID:10001136-1652810400-1652817600@tomgrant.com
SUMMARY:Tuesdays at Nicoletta's
DESCRIPTION:Liven up your Tuesdays with Tom Grant. Live jazz\, delicious food\, and a relaxed atmosphere await you at Nicoletta’s Table in Lake Oswego.\nNO COVER. Reservations recommended: 503-699-2927.\n\n#PDXJazz #TomGrantJazzPDX #NicolettasTableLO #DateNight  #LOJazzSpot #PDXMusicScene #SupportLocalSpots #ShopLocal #SupporttheArts #TuesdayVibes #LakeOswegoLiveMusic
URL:https://tomgrant.com/event/tues-tunes-nicolettas-table-2022-02-01-2022-04-12/2022-05-17/
LOCATION:Nicoletta’s Table\, 333 South State Street\, Suite M\, Lake Oswego\, OR\, 97034\, United States
ATTACH;FMTTYPE=image/jpeg:https://tomgrant.com/wp-content/uploads/2021/09/TG_Nicolettas-Tuesdays-FB-post-1.jpg
END:VEVENT
BEGIN:VEVENT
DTSTART;TZID=America/Los_Angeles:20220512T190000
DTEND;TZID=America/Los_Angeles:20220512T213000
DTSTAMP:20260421T174749
CREATED:20220406T230703Z
LAST-MODIFIED:20220510T234921Z
UID:10001205-1652382000-1652391000@tomgrant.com
SUMMARY:Arrivederci | Ron Steen Trio
DESCRIPTION:Catch the Ron Steen Trio featuring vocalist Billie Edison\, Dennis Caiazza on bass\, and Tom Grant at the piano.
URL:https://tomgrant.com/event/arrivederci-ron-steen-trio/
LOCATION:Arrivederci Wine Bar\, 17023 SE McLoughlin Blvd.\, Milwaukie\, OR\, 97267
ATTACH;FMTTYPE=image/jpeg:https://tomgrant.com/wp-content/uploads/2022/04/TG-_-Arrivederci-May-2022.jpeg
GEO:45.3994964;-122.6200178
X-APPLE-STRUCTURED-LOCATION;VALUE=URI;X-ADDRESS=Arrivederci Wine Bar 17023 SE McLoughlin Blvd. Milwaukie OR 97267;X-APPLE-RADIUS=500;X-TITLE=17023 SE McLoughlin Blvd.:geo:-122.6200178,45.3994964
END:VEVENT
BEGIN:VEVENT
DTSTART;TZID=America/Los_Angeles:20220511T170000
DTEND;TZID=America/Los_Angeles:20220511T190000
DTSTAMP:20260421T174749
CREATED:20220407T000940Z
LAST-MODIFIED:20220427T184053Z
UID:10001447-1652288400-1652295600@tomgrant.com
SUMMARY:VORTEX 1 ~ The Musical ~ LIVE at PSU\, one night only!
DESCRIPTION:VORTEX 1 is a musical production that brings to light the fascinating story of Oregon’s unexpected music festival in 1970. Join us on May 11 for a staged\, musical performance of Vortex 1\, a collaboration between Sue Mach and Bill Wadhams. Tickets and more info HERE
URL:https://tomgrant.com/event/vortex-the-musical-live-in-portland/
LOCATION:OR
ATTACH;FMTTYPE=image/png:https://tomgrant.com/wp-content/uploads/2022/04/TG_VORTEX1InstagramStoryTG.png
END:VEVENT
BEGIN:VEVENT
DTSTART;TZID=America/Los_Angeles:20220510T180000
DTEND;TZID=America/Los_Angeles:20220510T200000
DTSTAMP:20260421T174749
CREATED:20210917T162916Z
LAST-MODIFIED:20220406T232922Z
UID:10001135-1652205600-1652212800@tomgrant.com
SUMMARY:Tuesdays at Nicoletta's
DESCRIPTION:Liven up your Tuesdays with Tom Grant. Live jazz\, delicious food\, and a relaxed atmosphere await you at Nicoletta’s Table in Lake Oswego.\nNO COVER. Reservations recommended: 503-699-2927.\n\n#PDXJazz #TomGrantJazzPDX #NicolettasTableLO #DateNight  #LOJazzSpot #PDXMusicScene #SupportLocalSpots #ShopLocal #SupporttheArts #TuesdayVibes #LakeOswegoLiveMusic
URL:https://tomgrant.com/event/tues-tunes-nicolettas-table-2022-02-01-2022-04-12/2022-05-10/
LOCATION:Nicoletta’s Table\, 333 South State Street\, Suite M\, Lake Oswego\, OR\, 97034\, United States
ATTACH;FMTTYPE=image/jpeg:https://tomgrant.com/wp-content/uploads/2021/09/TG_Nicolettas-Tuesdays-FB-post-1.jpg
END:VEVENT
BEGIN:VEVENT
DTSTART;TZID=America/Los_Angeles:20220508T180000
DTEND;TZID=America/Los_Angeles:20220508T210000
DTSTAMP:20260421T174749
CREATED:20220427T184554Z
LAST-MODIFIED:20220427T184554Z
UID:10001437-1652032800-1652043600@tomgrant.com
SUMMARY:Mother's Day at UNDERGROUND
DESCRIPTION:
URL:https://tomgrant.com/event/mothers-day-at-underground/
LOCATION:de Fuego Grille  | Underground\, 12566 SE 93rd\, Clackamas\, OR\, United States
END:VEVENT
BEGIN:VEVENT
DTSTART;TZID=America/Los_Angeles:20220505T180000
DTEND;TZID=America/Los_Angeles:20220505T210000
DTSTAMP:20260421T174749
CREATED:20220406T230140Z
LAST-MODIFIED:20220527T024434Z
UID:10001189-1651773600-1651784400@tomgrant.com
SUMMARY:De Fuego Grille  | Underground
DESCRIPTION:The newest eastside Jazz spot with a cool vibe and fabulous refreshments.  Catch Tom at the piano at the Underground at de Fuego Grille in Clackamas\, inside the Monarch Hotel. Reservations recommended.
URL:https://tomgrant.com/event/de-fuego-grille-underground-3-2022-05-19/2022-05-05/
LOCATION:de Fuego Grille  | Underground\, 12566 SE 93rd\, Clackamas\, OR\, United States
CATEGORIES:Club gig,Live Jazz,Live Music
ATTACH;FMTTYPE=image/jpeg:https://tomgrant.com/wp-content/uploads/2021/09/TG-de-Fuego-FB-post.jpg
END:VEVENT
BEGIN:VEVENT
DTSTART;TZID=America/Los_Angeles:20220504T190000
DTEND;TZID=America/Los_Angeles:20220504T210000
DTSTAMP:20260421T174749
CREATED:20220427T184349Z
LAST-MODIFIED:20220427T184450Z
UID:10001436-1651690800-1651698000@tomgrant.com
SUMMARY:WILF's | Ron Steen Vocal Showcase
DESCRIPTION:
URL:https://tomgrant.com/event/wilfs-ron-steen-vocal-showcase/
LOCATION:Wilfs at Union Station\, 800 NW 6th Ave at Union Station \, Portland\, OR\, United States
GEO:45.5288249;-122.6766007
X-APPLE-STRUCTURED-LOCATION;VALUE=URI;X-ADDRESS=Wilfs at Union Station 800 NW 6th Ave at Union Station  Portland OR United States;X-APPLE-RADIUS=500;X-TITLE=800 NW 6th Ave at Union Station:geo:-122.6766007,45.5288249
END:VEVENT
BEGIN:VEVENT
DTSTART;TZID=America/Los_Angeles:20220503T180000
DTEND;TZID=America/Los_Angeles:20220503T200000
DTSTAMP:20260421T174749
CREATED:20210917T162916Z
LAST-MODIFIED:20220406T232922Z
UID:10001134-1651600800-1651608000@tomgrant.com
SUMMARY:Tuesdays at Nicoletta's
DESCRIPTION:Liven up your Tuesdays with Tom Grant. Live jazz\, delicious food\, and a relaxed atmosphere await you at Nicoletta’s Table in Lake Oswego.\nNO COVER. Reservations recommended: 503-699-2927.\n\n#PDXJazz #TomGrantJazzPDX #NicolettasTableLO #DateNight  #LOJazzSpot #PDXMusicScene #SupportLocalSpots #ShopLocal #SupporttheArts #TuesdayVibes #LakeOswegoLiveMusic
URL:https://tomgrant.com/event/tues-tunes-nicolettas-table-2022-02-01-2022-04-12/2022-05-03/
LOCATION:Nicoletta’s Table\, 333 South State Street\, Suite M\, Lake Oswego\, OR\, 97034\, United States
ATTACH;FMTTYPE=image/jpeg:https://tomgrant.com/wp-content/uploads/2021/09/TG_Nicolettas-Tuesdays-FB-post-1.jpg
END:VEVENT
BEGIN:VEVENT
DTSTART;TZID=America/Los_Angeles:20220502T190000
DTEND;TZID=America/Los_Angeles:20220502T220000
DTSTAMP:20260421T174749
CREATED:20220427T184716Z
LAST-MODIFIED:20220427T184716Z
UID:10001438-1651518000-1651528800@tomgrant.com
SUMMARY:1905  - Ron Steen Jazz
DESCRIPTION:
URL:https://tomgrant.com/event/1905-ron-steen-jazz/
LOCATION:The 1905\, 830 N Shaver\, Portland \, OR
GEO:45.5519524;-122.6752814
X-APPLE-STRUCTURED-LOCATION;VALUE=URI;X-ADDRESS=The 1905 830 N Shaver Portland  OR;X-APPLE-RADIUS=500;X-TITLE=830 N Shaver:geo:-122.6752814,45.5519524
END:VEVENT
BEGIN:VEVENT
DTSTART;TZID=America/Los_Angeles:20220426T180000
DTEND;TZID=America/Los_Angeles:20220426T200000
DTSTAMP:20260421T174749
CREATED:20210917T162916Z
LAST-MODIFIED:20220406T232922Z
UID:10001133-1650996000-1651003200@tomgrant.com
SUMMARY:Tuesdays at Nicoletta's
DESCRIPTION:Liven up your Tuesdays with Tom Grant. Live jazz\, delicious food\, and a relaxed atmosphere await you at Nicoletta’s Table in Lake Oswego.\nNO COVER. Reservations recommended: 503-699-2927.\n\n#PDXJazz #TomGrantJazzPDX #NicolettasTableLO #DateNight  #LOJazzSpot #PDXMusicScene #SupportLocalSpots #ShopLocal #SupporttheArts #TuesdayVibes #LakeOswegoLiveMusic
URL:https://tomgrant.com/event/tues-tunes-nicolettas-table-2022-02-01-2022-04-12/2022-04-26/
LOCATION:Nicoletta’s Table\, 333 South State Street\, Suite M\, Lake Oswego\, OR\, 97034\, United States
ATTACH;FMTTYPE=image/jpeg:https://tomgrant.com/wp-content/uploads/2021/09/TG_Nicolettas-Tuesdays-FB-post-1.jpg
END:VEVENT
BEGIN:VEVENT
DTSTART;TZID=America/Los_Angeles:20220423T190000
DTEND;TZID=America/Los_Angeles:20220423T220000
DTSTAMP:20260421T174749
CREATED:20220301T210452Z
LAST-MODIFIED:20220406T231429Z
UID:10001449-1650740400-1650751200@tomgrant.com
SUMMARY:Arrivederci Wine Bar with Ron Steen & Billie Eidson
DESCRIPTION:
URL:https://tomgrant.com/event/arrivederci-wine-bar-with-ron-steen-billie-eidson/
LOCATION:Arrivederci Wine Bar\, 17023 SE McLoughlin Blvd.\, Milwaukie\, OR\, 97267
ATTACH;FMTTYPE=image/png:https://tomgrant.com/wp-content/uploads/2021/06/arrivederci-wine-bar.png
GEO:45.3994964;-122.6200178
X-APPLE-STRUCTURED-LOCATION;VALUE=URI;X-ADDRESS=Arrivederci Wine Bar 17023 SE McLoughlin Blvd. Milwaukie OR 97267;X-APPLE-RADIUS=500;X-TITLE=17023 SE McLoughlin Blvd.:geo:-122.6200178,45.3994964
END:VEVENT
BEGIN:VEVENT
DTSTART;TZID=America/Los_Angeles:20220421T180000
DTEND;TZID=America/Los_Angeles:20220421T210000
DTSTAMP:20260421T174749
CREATED:20220406T230140Z
LAST-MODIFIED:20220407T000409Z
UID:10001184-1650564000-1650574800@tomgrant.com
SUMMARY:De Fuego Grille  | Underground
DESCRIPTION:The newest eastside Jazz spot with a cool vibe and fabulous refreshments.  Catch Tom at the piano at the Underground at de Fuego Grille in Clackamas\, inside the Monarch Hotel. Reservations recommended.
URL:https://tomgrant.com/event/de-fuego-grille-underground-3/
LOCATION:de Fuego Grille  | Underground\, 12566 SE 93rd\, Clackamas\, OR\, United States
CATEGORIES:Club gig,Live Jazz,Live Music
ATTACH;FMTTYPE=image/jpeg:https://tomgrant.com/wp-content/uploads/2021/09/TG-de-Fuego-FB-post.jpg
END:VEVENT
BEGIN:VEVENT
DTSTART;TZID=America/Los_Angeles:20220419T180000
DTEND;TZID=America/Los_Angeles:20220419T200000
DTSTAMP:20260421T174749
CREATED:20210917T162916Z
LAST-MODIFIED:20220406T232922Z
UID:10001132-1650391200-1650398400@tomgrant.com
SUMMARY:Tuesdays at Nicoletta's
DESCRIPTION:Liven up your Tuesdays with Tom Grant. Live jazz\, delicious food\, and a relaxed atmosphere await you at Nicoletta’s Table in Lake Oswego.\nNO COVER. Reservations recommended: 503-699-2927.\n\n#PDXJazz #TomGrantJazzPDX #NicolettasTableLO #DateNight  #LOJazzSpot #PDXMusicScene #SupportLocalSpots #ShopLocal #SupporttheArts #TuesdayVibes #LakeOswegoLiveMusic
URL:https://tomgrant.com/event/tues-tunes-nicolettas-table-2022-02-01-2022-04-12/2022-04-19/
LOCATION:Nicoletta’s Table\, 333 South State Street\, Suite M\, Lake Oswego\, OR\, 97034\, United States
ATTACH;FMTTYPE=image/jpeg:https://tomgrant.com/wp-content/uploads/2021/09/TG_Nicolettas-Tuesdays-FB-post-1.jpg
END:VEVENT
BEGIN:VEVENT
DTSTART;TZID=America/Los_Angeles:20220416T173000
DTEND;TZID=America/Los_Angeles:20220416T190000
DTSTAMP:20260421T174749
CREATED:20220301T205749Z
LAST-MODIFIED:20220406T232155Z
UID:10001451-1650130200-1650135600@tomgrant.com
SUMMARY:Michael Allen Harrison's TEN GRANDS!
DESCRIPTION:Michael Allen Harrison’s TEN GRANDS is a celebration of the beauty of the piano\, as demonstrated by some of the finest artists in the region. The event raises funds to support Play it Foward\, an organization offering instruments\, instruction\, and inspiration to young people throughout the Northwest.  For details\, click here: TEN GRANDS INFO & TKTS  \nTo join us at the VIP parts before the concert\, click here:  VIP PARTY
URL:https://tomgrant.com/event/michael-allen-harrisons-ten-grands/
LOCATION:Arlene Schnitzer Concert Hall\, Portland\, United States
CATEGORIES:Concert,Family Event,Fundraiser
ATTACH;FMTTYPE=image/png:https://tomgrant.com/wp-content/uploads/2021/03/Ten-Grands-2021-full-stage.png
GEO:45.5230622;-122.6764816
END:VEVENT
BEGIN:VEVENT
DTSTART;TZID=America/Los_Angeles:20220414T180000
DTEND;TZID=America/Los_Angeles:20220414T210000
DTSTAMP:20260421T174749
CREATED:20220406T225917Z
LAST-MODIFIED:20220406T230025Z
UID:10001183-1649959200-1649970000@tomgrant.com
SUMMARY:De Fuego Grille | Underground
DESCRIPTION:The newest eastside Jazz spot with a cool vibe and fabulous refreshments.  Catch Tom at the piano at the Underground at de Fuego Grille in Clackamas\, inside the Monarch Hotel. Reservations recommended.
URL:https://tomgrant.com/event/de-fuego-grille-underground-2/
LOCATION:de Fuego Grille  | Underground\, 12566 SE 93rd\, Clackamas\, OR\, United States
CATEGORIES:Club gig,Live Jazz,Live Music,No Minors,Portland Eastside
ATTACH;FMTTYPE=image/jpeg:https://tomgrant.com/wp-content/uploads/2021/09/TG-de-Fuego-FB-post.jpg
END:VEVENT
BEGIN:VEVENT
DTSTART;TZID=America/Los_Angeles:20220412T180000
DTEND;TZID=America/Los_Angeles:20220412T200000
DTSTAMP:20260421T174749
CREATED:20210917T162916Z
LAST-MODIFIED:20220406T232922Z
UID:10001131-1649786400-1649793600@tomgrant.com
SUMMARY:Tuesdays at Nicoletta's
DESCRIPTION:Liven up your Tuesdays with Tom Grant. Live jazz\, delicious food\, and a relaxed atmosphere await you at Nicoletta’s Table in Lake Oswego.\nNO COVER. Reservations recommended: 503-699-2927.\n\n#PDXJazz #TomGrantJazzPDX #NicolettasTableLO #DateNight  #LOJazzSpot #PDXMusicScene #SupportLocalSpots #ShopLocal #SupporttheArts #TuesdayVibes #LakeOswegoLiveMusic
URL:https://tomgrant.com/event/tues-tunes-nicolettas-table-2022-02-01-2022-04-12/2022-04-12/
LOCATION:Nicoletta’s Table\, 333 South State Street\, Suite M\, Lake Oswego\, OR\, 97034\, United States
ATTACH;FMTTYPE=image/jpeg:https://tomgrant.com/wp-content/uploads/2021/09/TG_Nicolettas-Tuesdays-FB-post-1.jpg
END:VEVENT
BEGIN:VEVENT
DTSTART;TZID=America/Los_Angeles:20220412T173000
DTEND;TZID=America/Los_Angeles:20220412T193000
DTSTAMP:20260421T174749
CREATED:20210917T162916Z
LAST-MODIFIED:20220201T045416Z
UID:10001130-1649784600-1649791800@tomgrant.com
SUMMARY:Tuesdays at Nicoletta's
DESCRIPTION:Liven up your Tuesdays with Tom Grant. Live jazz\, delicious food\, and a relaxed atmosphere await you at Nicoletta’s Table in Lake Oswego.\nNO COVER. Reservations recommended: 503-699-2927.\n\n#PDXJazz #TomGrantJazzPDX #NicolettasTableLO #DateNight  #LOJazzSpot #PDXMusicScene #SupportLocalSpots #ShopLocal #SupporttheArts #TuesdayVibes #LakeOswegoLiveMusic
URL:https://tomgrant.com/event/tues-tunes-nicolettas-table-2022-02-01/2022-04-12/
LOCATION:Nicoletta’s Table\, 333 South State Street\, Suite M\, Lake Oswego\, OR\, 97034\, United States
ATTACH;FMTTYPE=image/jpeg:https://tomgrant.com/wp-content/uploads/2021/09/TG_Nicolettas-JAN-2022-FB-post.jpg
END:VEVENT
BEGIN:VEVENT
DTSTART;TZID=America/Los_Angeles:20220407T180000
DTEND;TZID=America/Los_Angeles:20220407T210000
DTSTAMP:20260421T174749
CREATED:20220406T225729Z
LAST-MODIFIED:20220406T225729Z
UID:10001182-1649354400-1649365200@tomgrant.com
SUMMARY:De Fuego Grille | UNDERGROUND
DESCRIPTION:The newest eastside Jazz spot with a cool vibe and fabulous refreshments.  Catch Tom at the piano at the Underground at de Fuego Grille in Clackamas\, inside the Monarch Hotel. Reservations recommended.
URL:https://tomgrant.com/event/de-fuego-grille-underground/
LOCATION:de Fuego Grille  | Underground\, 12566 SE 93rd\, Clackamas\, OR\, United States
CATEGORIES:Club gig,Dinner Concert,Live Jazz,Live Music,No Minors,Portland Eastside
ATTACH;FMTTYPE=image/jpeg:https://tomgrant.com/wp-content/uploads/2021/09/TG-de-Fuego-FB-post.jpg
END:VEVENT
BEGIN:VEVENT
DTSTART;TZID=America/Los_Angeles:20220405T173000
DTEND;TZID=America/Los_Angeles:20220405T193000
DTSTAMP:20260421T174749
CREATED:20210917T162916Z
LAST-MODIFIED:20220201T045416Z
UID:10001129-1649179800-1649187000@tomgrant.com
SUMMARY:Tuesdays at Nicoletta's
DESCRIPTION:Liven up your Tuesdays with Tom Grant. Live jazz\, delicious food\, and a relaxed atmosphere await you at Nicoletta’s Table in Lake Oswego.\nNO COVER. Reservations recommended: 503-699-2927.\n\n#PDXJazz #TomGrantJazzPDX #NicolettasTableLO #DateNight  #LOJazzSpot #PDXMusicScene #SupportLocalSpots #ShopLocal #SupporttheArts #TuesdayVibes #LakeOswegoLiveMusic
URL:https://tomgrant.com/event/tues-tunes-nicolettas-table-2022-02-01/2022-04-05/
LOCATION:Nicoletta’s Table\, 333 South State Street\, Suite M\, Lake Oswego\, OR\, 97034\, United States
ATTACH;FMTTYPE=image/jpeg:https://tomgrant.com/wp-content/uploads/2021/09/TG_Nicolettas-JAN-2022-FB-post.jpg
END:VEVENT
BEGIN:VEVENT
DTSTART;TZID=America/Los_Angeles:20220403T200000
DTEND;TZID=America/Los_Angeles:20220403T223000
DTSTAMP:20260421T174749
CREATED:20220406T231706Z
LAST-MODIFIED:20220406T231810Z
UID:10001206-1649016000-1649025000@tomgrant.com
SUMMARY:Clyde's | Ron Steen Trio
DESCRIPTION:
URL:https://tomgrant.com/event/clydes-ron-steen-trio/
LOCATION:Clyde’s  Prime Rib\, 5474 NE Sandy Blvd\, Ptld\, OR\, United States
END:VEVENT
BEGIN:VEVENT
DTSTART;TZID=America/Los_Angeles:20220331T180000
DTEND;TZID=America/Los_Angeles:20220331T210000
DTSTAMP:20260421T174749
CREATED:20210917T180546Z
LAST-MODIFIED:20220105T205143Z
UID:10001425-1648749600-1648760400@tomgrant.com
SUMMARY:De Fuego Grille  | UNDERGROUND
DESCRIPTION:The newest eastside Jazz spot with a cool vibe and fabulous refreshments.  Catch Tom at the piano at the Underground at de Fuego Grille in Clackamas\, inside the Monarch Hotel. Reservations recommended.
URL:https://tomgrant.com/event/de-fuego-underground-solo/2022-03-31/
LOCATION:de Fuego Grille  | Underground\, 12566 SE 93rd\, Clackamas\, OR\, United States
CATEGORIES:Club gig,Live Jazz,Live Jazz,Live Music,Regular Gigs
ATTACH;FMTTYPE=image/jpeg:https://tomgrant.com/wp-content/uploads/2021/09/TG-de-Fuego-FB-post.jpg
END:VEVENT
BEGIN:VEVENT
DTSTART;TZID=America/Los_Angeles:20220329T173000
DTEND;TZID=America/Los_Angeles:20220329T193000
DTSTAMP:20260421T174749
CREATED:20210917T162916Z
LAST-MODIFIED:20220201T045416Z
UID:10001128-1648575000-1648582200@tomgrant.com
SUMMARY:Tuesdays at Nicoletta's
DESCRIPTION:Liven up your Tuesdays with Tom Grant. Live jazz\, delicious food\, and a relaxed atmosphere await you at Nicoletta’s Table in Lake Oswego.\nNO COVER. Reservations recommended: 503-699-2927.\n\n#PDXJazz #TomGrantJazzPDX #NicolettasTableLO #DateNight  #LOJazzSpot #PDXMusicScene #SupportLocalSpots #ShopLocal #SupporttheArts #TuesdayVibes #LakeOswegoLiveMusic
URL:https://tomgrant.com/event/tues-tunes-nicolettas-table-2022-02-01/2022-03-29/
LOCATION:Nicoletta’s Table\, 333 South State Street\, Suite M\, Lake Oswego\, OR\, 97034\, United States
ATTACH;FMTTYPE=image/jpeg:https://tomgrant.com/wp-content/uploads/2021/09/TG_Nicolettas-JAN-2022-FB-post.jpg
END:VEVENT
BEGIN:VEVENT
DTSTART;TZID=America/Los_Angeles:20220323T193000
DTEND;TZID=America/Los_Angeles:20220323T213000
DTSTAMP:20260421T174749
CREATED:20220320T174743Z
LAST-MODIFIED:20220321T032445Z
UID:10001448-1648063800-1648071000@tomgrant.com
SUMMARY:Tom Grant with Billie Eidson | Live from Classic Pianos
DESCRIPTION:Tune in this Wednesday on Tom’s YouTube channel to catch  Grant”s guest\, vocalist Billie Eidson.  Watch the show live\, or watch the replay at your convenience.\nWATCH HERE.or click on this link: https://youtu.be/N_IjBR7Svu8.
URL:https://tomgrant.com/event/tom-grant-with-billie-eidson-live-from-classic-pianos/
LOCATION:OR
ATTACH;FMTTYPE=image/jpeg:https://tomgrant.com/wp-content/uploads/2022/03/TG_-Billie_-Classic-Mar-2022.jpg
END:VEVENT
BEGIN:VEVENT
DTSTART;TZID=America/Los_Angeles:20220322T173000
DTEND;TZID=America/Los_Angeles:20220322T193000
DTSTAMP:20260421T174749
CREATED:20210917T162916Z
LAST-MODIFIED:20220201T045416Z
UID:10001127-1647970200-1647977400@tomgrant.com
SUMMARY:Tuesdays at Nicoletta's
DESCRIPTION:Liven up your Tuesdays with Tom Grant. Live jazz\, delicious food\, and a relaxed atmosphere await you at Nicoletta’s Table in Lake Oswego.\nNO COVER. Reservations recommended: 503-699-2927.\n\n#PDXJazz #TomGrantJazzPDX #NicolettasTableLO #DateNight  #LOJazzSpot #PDXMusicScene #SupportLocalSpots #ShopLocal #SupporttheArts #TuesdayVibes #LakeOswegoLiveMusic
URL:https://tomgrant.com/event/tues-tunes-nicolettas-table-2022-02-01/2022-03-22/
LOCATION:Nicoletta’s Table\, 333 South State Street\, Suite M\, Lake Oswego\, OR\, 97034\, United States
ATTACH;FMTTYPE=image/jpeg:https://tomgrant.com/wp-content/uploads/2021/09/TG_Nicolettas-JAN-2022-FB-post.jpg
END:VEVENT
END:VCALENDAR