BEGIN:VCALENDAR
VERSION:2.0
PRODID:-//Tom Grant - ECPv6.15.20//NONSGML v1.0//EN
CALSCALE:GREGORIAN
METHOD:PUBLISH
X-WR-CALNAME:Tom Grant
X-ORIGINAL-URL:https://tomgrant.com
X-WR-CALDESC:Events for Tom Grant
REFRESH-INTERVAL;VALUE=DURATION:PT1H
X-Robots-Tag:noindex
X-PUBLISHED-TTL:PT1H
BEGIN:VTIMEZONE
TZID:America/Los_Angeles
BEGIN:DAYLIGHT
TZOFFSETFROM:-0800
TZOFFSETTO:-0700
TZNAME:PDT
DTSTART:20200308T100000
END:DAYLIGHT
BEGIN:STANDARD
TZOFFSETFROM:-0700
TZOFFSETTO:-0800
TZNAME:PST
DTSTART:20201101T090000
END:STANDARD
BEGIN:DAYLIGHT
TZOFFSETFROM:-0800
TZOFFSETTO:-0700
TZNAME:PDT
DTSTART:20210314T100000
END:DAYLIGHT
BEGIN:STANDARD
TZOFFSETFROM:-0700
TZOFFSETTO:-0800
TZNAME:PST
DTSTART:20211107T090000
END:STANDARD
BEGIN:DAYLIGHT
TZOFFSETFROM:-0800
TZOFFSETTO:-0700
TZNAME:PDT
DTSTART:20220313T100000
END:DAYLIGHT
BEGIN:STANDARD
TZOFFSETFROM:-0700
TZOFFSETTO:-0800
TZNAME:PST
DTSTART:20221106T090000
END:STANDARD
END:VTIMEZONE
BEGIN:VEVENT
DTSTART;TZID=America/Los_Angeles:20211123T180000
DTEND;TZID=America/Los_Angeles:20211123T200000
DTSTAMP:20260422T011542
CREATED:20210917T162916Z
LAST-MODIFIED:20220102T200609Z
UID:10001109-1637690400-1637697600@tomgrant.com
SUMMARY:Tues Tunes @ Nicoletta's Table
DESCRIPTION:Tom will be appearing at Nicoletta’s Table in Lake Oswego on Tuesday nights! Come for great food\, wine\, and live music in LO’s favorite Italian restaurant and mercato!
URL:https://tomgrant.com/event/tues-tunes-nicolettas-table/2021-11-23/
LOCATION:Nicoletta’s Table\, 333 South State Street\, Suite M\, Lake Oswego\, OR\, 97034\, United States
ATTACH;FMTTYPE=image/jpeg:https://tomgrant.com/wp-content/uploads/2021/09/TG_Nicolettas-Tuesdays-FB-post-1.jpg
END:VEVENT
BEGIN:VEVENT
DTSTART;TZID=America/Los_Angeles:20211120T180000
DTEND;TZID=America/Los_Angeles:20211120T210000
DTSTAMP:20260422T011542
CREATED:20210917T180546Z
LAST-MODIFIED:20220105T205143Z
UID:10001416-1637431200-1637442000@tomgrant.com
SUMMARY:De Fuego Grille  | UNDERGROUND
DESCRIPTION:The newest eastside Jazz spot with a cool vibe and fabulous refreshments.  Catch Tom at the piano at the Underground at de Fuego Grille in Clackamas\, inside the Monarch Hotel. Reservations recommended.
URL:https://tomgrant.com/event/de-fuego-underground-solo/2021-11-20/
LOCATION:de Fuego Grille  | Underground\, 12566 SE 93rd\, Clackamas\, OR\, United States
CATEGORIES:Club gig,Live Jazz,Live Jazz,Live Music,Regular Gigs
ATTACH;FMTTYPE=image/jpeg:https://tomgrant.com/wp-content/uploads/2021/09/TG-de-Fuego-FB-post.jpg
END:VEVENT
BEGIN:VEVENT
DTSTART;TZID=America/Los_Angeles:20211119T180000
DTEND;TZID=America/Los_Angeles:20211119T200000
DTSTAMP:20260422T011542
CREATED:20211112T183824Z
LAST-MODIFIED:20211116T214011Z
UID:10001172-1637344800-1637352000@tomgrant.com
SUMMARY:Nicoletta's Table
DESCRIPTION:THIS WEEK ONLY! Tom will be adding two appearances this week\, playing Thursday and Friday from 6-8 PM.  Come hear Tom showcase the magical sounds of the new Yamaha baby grand from Classic Pianos.  It’s a beautiful thing!
URL:https://tomgrant.com/event/nicolettas-table/2021-11-19/
LOCATION:Nicoletta’s Table\, 333 South State Street\, Suite M\, Lake Oswego\, OR\, 97034\, United States
ATTACH;FMTTYPE=image/jpeg:https://tomgrant.com/wp-content/uploads/2021/11/TG_-Nicolettas-SQ-Nov-18-19.jpg
END:VEVENT
BEGIN:VEVENT
DTSTART;TZID=America/Los_Angeles:20211118T180000
DTEND;TZID=America/Los_Angeles:20211118T200000
DTSTAMP:20260422T011542
CREATED:20211112T183824Z
LAST-MODIFIED:20211116T214011Z
UID:10001171-1637258400-1637265600@tomgrant.com
SUMMARY:Nicoletta's Table
DESCRIPTION:THIS WEEK ONLY! Tom will be adding two appearances this week\, playing Thursday and Friday from 6-8 PM.  Come hear Tom showcase the magical sounds of the new Yamaha baby grand from Classic Pianos.  It’s a beautiful thing!
URL:https://tomgrant.com/event/nicolettas-table/2021-11-18/
LOCATION:Nicoletta’s Table\, 333 South State Street\, Suite M\, Lake Oswego\, OR\, 97034\, United States
ATTACH;FMTTYPE=image/jpeg:https://tomgrant.com/wp-content/uploads/2021/11/TG_-Nicolettas-SQ-Nov-18-19.jpg
END:VEVENT
BEGIN:VEVENT
DTSTART;TZID=America/Los_Angeles:20211117T193000
DTEND;TZID=America/Los_Angeles:20211117T210000
DTSTAMP:20260422T011542
CREATED:20211103T005535Z
LAST-MODIFIED:20211103T005535Z
UID:10001434-1637177400-1637182800@tomgrant.com
SUMMARY:WEDS NIGHT LIVE  with CURTIS CRAFT!
DESCRIPTION:
URL:https://tomgrant.com/event/weds-night-live-with-curtis-craft/
LOCATION:Tom’s Youtube Channel\, United States
ATTACH;FMTTYPE=image/jpeg:https://tomgrant.com/wp-content/uploads/2021/11/TG-Curtis-Craft-Nov-17-2021-FB-Post.jpg
END:VEVENT
BEGIN:VEVENT
DTSTART;TZID=America/Los_Angeles:20211116T180000
DTEND;TZID=America/Los_Angeles:20211116T200000
DTSTAMP:20260422T011542
CREATED:20210917T162916Z
LAST-MODIFIED:20220102T200609Z
UID:10001108-1637085600-1637092800@tomgrant.com
SUMMARY:Tues Tunes @ Nicoletta's Table
DESCRIPTION:Tom will be appearing at Nicoletta’s Table in Lake Oswego on Tuesday nights! Come for great food\, wine\, and live music in LO’s favorite Italian restaurant and mercato!
URL:https://tomgrant.com/event/tues-tunes-nicolettas-table/2021-11-16/
LOCATION:Nicoletta’s Table\, 333 South State Street\, Suite M\, Lake Oswego\, OR\, 97034\, United States
ATTACH;FMTTYPE=image/jpeg:https://tomgrant.com/wp-content/uploads/2021/09/TG_Nicolettas-Tuesdays-FB-post-1.jpg
END:VEVENT
BEGIN:VEVENT
DTSTART;TZID=America/Los_Angeles:20211111T180000
DTEND;TZID=America/Los_Angeles:20211111T210000
DTSTAMP:20260422T011542
CREATED:20210917T180546Z
LAST-MODIFIED:20220105T205143Z
UID:10001415-1636653600-1636664400@tomgrant.com
SUMMARY:De Fuego Grille  | UNDERGROUND
DESCRIPTION:The newest eastside Jazz spot with a cool vibe and fabulous refreshments.  Catch Tom at the piano at the Underground at de Fuego Grille in Clackamas\, inside the Monarch Hotel. Reservations recommended.
URL:https://tomgrant.com/event/de-fuego-underground-solo/2021-11-11/
LOCATION:de Fuego Grille  | Underground\, 12566 SE 93rd\, Clackamas\, OR\, United States
CATEGORIES:Club gig,Live Jazz,Live Jazz,Live Music,Regular Gigs
ATTACH;FMTTYPE=image/jpeg:https://tomgrant.com/wp-content/uploads/2021/09/TG-de-Fuego-FB-post.jpg
END:VEVENT
BEGIN:VEVENT
DTSTART;TZID=America/Los_Angeles:20211110T190000
DTEND;TZID=America/Los_Angeles:20211110T213000
DTSTAMP:20260422T011542
CREATED:20211020T215807Z
LAST-MODIFIED:20211020T215807Z
UID:10001430-1636570800-1636579800@tomgrant.com
SUMMARY:Ron Steen Jazz Jam at Wilf's
DESCRIPTION:800 N.W. 6th Ave. by Union Station 7:00 PM to 9:30 PM.. All ages and free parking available in lot. For more information call 503-223-0070.\nhttp://www.wilfsrestaurant.com/home
URL:https://tomgrant.com/event/ron-steen-jazz-jam-at-wilfs/
LOCATION:Wilfs at Union Station\, 800 NW 6th Ave at Union Station \, Portland\, OR\, United States
ATTACH;FMTTYPE=image/png:https://tomgrant.com/wp-content/uploads/2017/02/TG_-Wilfs-Logo-WHITE.png
GEO:45.5288249;-122.6766007
X-APPLE-STRUCTURED-LOCATION;VALUE=URI;X-ADDRESS=Wilfs at Union Station 800 NW 6th Ave at Union Station  Portland OR United States;X-APPLE-RADIUS=500;X-TITLE=800 NW 6th Ave at Union Station:geo:-122.6766007,45.5288249
END:VEVENT
BEGIN:VEVENT
DTSTART;TZID=America/Los_Angeles:20211109T180000
DTEND;TZID=America/Los_Angeles:20211109T200000
DTSTAMP:20260422T011542
CREATED:20210917T162916Z
LAST-MODIFIED:20220102T200609Z
UID:10001107-1636480800-1636488000@tomgrant.com
SUMMARY:Tues Tunes @ Nicoletta's Table
DESCRIPTION:Tom will be appearing at Nicoletta’s Table in Lake Oswego on Tuesday nights! Come for great food\, wine\, and live music in LO’s favorite Italian restaurant and mercato!
URL:https://tomgrant.com/event/tues-tunes-nicolettas-table/2021-11-09/
LOCATION:Nicoletta’s Table\, 333 South State Street\, Suite M\, Lake Oswego\, OR\, 97034\, United States
ATTACH;FMTTYPE=image/jpeg:https://tomgrant.com/wp-content/uploads/2021/09/TG_Nicolettas-Tuesdays-FB-post-1.jpg
END:VEVENT
BEGIN:VEVENT
DTSTART;TZID=America/Los_Angeles:20211106T180000
DTEND;TZID=America/Los_Angeles:20211106T210000
DTSTAMP:20260422T011542
CREATED:20210917T180546Z
LAST-MODIFIED:20220105T205143Z
UID:10001414-1636221600-1636232400@tomgrant.com
SUMMARY:De Fuego Grille  | UNDERGROUND
DESCRIPTION:The newest eastside Jazz spot with a cool vibe and fabulous refreshments.  Catch Tom at the piano at the Underground at de Fuego Grille in Clackamas\, inside the Monarch Hotel. Reservations recommended.
URL:https://tomgrant.com/event/de-fuego-underground-solo/2021-11-06/
LOCATION:de Fuego Grille  | Underground\, 12566 SE 93rd\, Clackamas\, OR\, United States
CATEGORIES:Club gig,Live Jazz,Live Jazz,Live Music,Regular Gigs
ATTACH;FMTTYPE=image/jpeg:https://tomgrant.com/wp-content/uploads/2021/09/TG-de-Fuego-FB-post.jpg
END:VEVENT
BEGIN:VEVENT
DTSTART;TZID=America/Los_Angeles:20211105T190000
DTEND;TZID=America/Los_Angeles:20211105T213000
DTSTAMP:20260422T011542
CREATED:20211020T220501Z
LAST-MODIFIED:20211029T023557Z
UID:10001431-1636138800-1636147800@tomgrant.com
SUMMARY:Billie Eidson Quartet | Arrivederci in Milwaukie
DESCRIPTION:Billie Eidson Band featuring Tom Grant\, Phil Baker & Ron Steen at Arrivederci 17023 S.E. McLoughlin Blvd. Milwaukie OR 97267 7:00 PM to 9:30 $5.00 cover charge and all ages until 9:30. For more information call 503-659-1143.\nhttp://www.arrivederciwine.com
URL:https://tomgrant.com/event/billie-eidson-trio-at-arrivederci-in-milwaukie/
LOCATION:Arrivederci Wine Bar\, 17023 SE McLoughlin Blvd.\, Milwaukie\, OR\, 97267
ATTACH;FMTTYPE=image/png:https://tomgrant.com/wp-content/uploads/2021/06/arrivederci-wine-bar.png
GEO:45.3994964;-122.6200178
X-APPLE-STRUCTURED-LOCATION;VALUE=URI;X-ADDRESS=Arrivederci Wine Bar 17023 SE McLoughlin Blvd. Milwaukie OR 97267;X-APPLE-RADIUS=500;X-TITLE=17023 SE McLoughlin Blvd.:geo:-122.6200178,45.3994964
END:VEVENT
BEGIN:VEVENT
DTSTART;TZID=America/Los_Angeles:20211103T193000
DTEND;TZID=America/Los_Angeles:20211103T203000
DTSTAMP:20260422T011542
CREATED:20211103T004916Z
LAST-MODIFIED:20211103T005235Z
UID:10001433-1635967800-1635971400@tomgrant.com
SUMMARY:Weds Night Live | Nov 3
DESCRIPTION:
URL:https://tomgrant.com/event/weds-night-live-nov-3/
LOCATION:https://www.facebook.com/TomGrantPDX\, United States
ATTACH;FMTTYPE=image/jpeg:https://tomgrant.com/wp-content/uploads/2021/11/TG-WedsNightLive-FBPost.jpg
END:VEVENT
BEGIN:VEVENT
DTSTART;TZID=America/Los_Angeles:20211102T180000
DTEND;TZID=America/Los_Angeles:20211102T200000
DTSTAMP:20260422T011542
CREATED:20210917T162916Z
LAST-MODIFIED:20220102T200609Z
UID:10001106-1635876000-1635883200@tomgrant.com
SUMMARY:Tues Tunes @ Nicoletta's Table
DESCRIPTION:Tom will be appearing at Nicoletta’s Table in Lake Oswego on Tuesday nights! Come for great food\, wine\, and live music in LO’s favorite Italian restaurant and mercato!
URL:https://tomgrant.com/event/tues-tunes-nicolettas-table/2021-11-02/
LOCATION:Nicoletta’s Table\, 333 South State Street\, Suite M\, Lake Oswego\, OR\, 97034\, United States
ATTACH;FMTTYPE=image/jpeg:https://tomgrant.com/wp-content/uploads/2021/09/TG_Nicolettas-Tuesdays-FB-post-1.jpg
END:VEVENT
BEGIN:VEVENT
DTSTART;TZID=America/Los_Angeles:20211101T200000
DTEND;TZID=America/Los_Angeles:20211101T230000
DTSTAMP:20260422T011542
CREATED:20211020T214916Z
LAST-MODIFIED:20211020T215358Z
UID:10001429-1635796800-1635807600@tomgrant.com
SUMMARY:Ron Steen Jam at the 1905
DESCRIPTION:Tom Grant\, Piano-VOX | Ron Steen\, Drums | Bass\, TBA
URL:https://tomgrant.com/event/ron-steen-jam-at-the-1905-3/
LOCATION:The 1905\, 830 N Shaver\, Portland \, OR
ATTACH;FMTTYPE=image/jpeg:https://tomgrant.com/wp-content/uploads/2021/07/TG-The-1905-logo.jpg
GEO:45.5519524;-122.6752814
X-APPLE-STRUCTURED-LOCATION;VALUE=URI;X-ADDRESS=The 1905 830 N Shaver Portland  OR;X-APPLE-RADIUS=500;X-TITLE=830 N Shaver:geo:-122.6752814,45.5519524
END:VEVENT
BEGIN:VEVENT
DTSTART;TZID=America/Los_Angeles:20211026T180000
DTEND;TZID=America/Los_Angeles:20211026T200000
DTSTAMP:20260422T011542
CREATED:20210917T162916Z
LAST-MODIFIED:20220102T200609Z
UID:10001105-1635271200-1635278400@tomgrant.com
SUMMARY:Tues Tunes @ Nicoletta's Table
DESCRIPTION:Tom will be appearing at Nicoletta’s Table in Lake Oswego on Tuesday nights! Come for great food\, wine\, and live music in LO’s favorite Italian restaurant and mercato!
URL:https://tomgrant.com/event/tues-tunes-nicolettas-table/2021-10-26/
LOCATION:Nicoletta’s Table\, 333 South State Street\, Suite M\, Lake Oswego\, OR\, 97034\, United States
ATTACH;FMTTYPE=image/jpeg:https://tomgrant.com/wp-content/uploads/2021/09/TG_Nicolettas-Tuesdays-FB-post-1.jpg
END:VEVENT
BEGIN:VEVENT
DTSTART;TZID=America/Los_Angeles:20211020T193000
DTEND;TZID=America/Los_Angeles:20211020T203000
DTSTAMP:20260422T011542
CREATED:20211012T161114Z
LAST-MODIFIED:20211012T161114Z
UID:10001427-1634758200-1634761800@tomgrant.com
SUMMARY:Weds Night Live!
DESCRIPTION:
URL:https://tomgrant.com/event/weds-night-live-2/
LOCATION:Facebook LIVE\, United States
CATEGORIES:Free Concert,Online Concert,Social Distance Sessions,Streaming Live Music,Studio Streaming
ATTACH;FMTTYPE=image/jpeg:https://tomgrant.com/wp-content/uploads/2021/09/TG-Live-Weds-Night-Live-FB--scaled-e1634326577298.jpg
END:VEVENT
BEGIN:VEVENT
DTSTART;TZID=America/Los_Angeles:20211019T180000
DTEND;TZID=America/Los_Angeles:20211019T200000
DTSTAMP:20260422T011542
CREATED:20210917T162916Z
LAST-MODIFIED:20220102T200609Z
UID:10001104-1634666400-1634673600@tomgrant.com
SUMMARY:Tues Tunes @ Nicoletta's Table
DESCRIPTION:Tom will be appearing at Nicoletta’s Table in Lake Oswego on Tuesday nights! Come for great food\, wine\, and live music in LO’s favorite Italian restaurant and mercato!
URL:https://tomgrant.com/event/tues-tunes-nicolettas-table/2021-10-19/
LOCATION:Nicoletta’s Table\, 333 South State Street\, Suite M\, Lake Oswego\, OR\, 97034\, United States
ATTACH;FMTTYPE=image/jpeg:https://tomgrant.com/wp-content/uploads/2021/09/TG_Nicolettas-Tuesdays-FB-post-1.jpg
END:VEVENT
BEGIN:VEVENT
DTSTART;TZID=America/Los_Angeles:20211018T200000
DTEND;TZID=America/Los_Angeles:20211018T230000
DTSTAMP:20260422T011542
CREATED:20211015T213233Z
LAST-MODIFIED:20211015T213422Z
UID:10001428-1634587200-1634598000@tomgrant.com
SUMMARY:Ron Steen Jam at the 1905
DESCRIPTION:Tom Grant\, Piano & Vocals  |  Ed Bennett\, Bass | Ron Steen\, Drums\nTwo shows: 8pm and 10pm
URL:https://tomgrant.com/event/ron-steen-jam-at-the-1905-2/
LOCATION:The 1905\, 830 N Shaver\, Portland \, OR
ATTACH;FMTTYPE=image/jpeg:https://tomgrant.com/wp-content/uploads/2021/07/TG-The-1905-logo.jpg
GEO:45.5519524;-122.6752814
X-APPLE-STRUCTURED-LOCATION;VALUE=URI;X-ADDRESS=The 1905 830 N Shaver Portland  OR;X-APPLE-RADIUS=500;X-TITLE=830 N Shaver:geo:-122.6752814,45.5519524
END:VEVENT
BEGIN:VEVENT
DTSTART;TZID=America/Los_Angeles:20211014T180000
DTEND;TZID=America/Los_Angeles:20211014T210000
DTSTAMP:20260422T011542
CREATED:20210917T180546Z
LAST-MODIFIED:20220105T205143Z
UID:10001413-1634234400-1634245200@tomgrant.com
SUMMARY:De Fuego Grille  | UNDERGROUND
DESCRIPTION:The newest eastside Jazz spot with a cool vibe and fabulous refreshments.  Catch Tom at the piano at the Underground at de Fuego Grille in Clackamas\, inside the Monarch Hotel. Reservations recommended.
URL:https://tomgrant.com/event/de-fuego-underground-solo/2021-10-14/
LOCATION:de Fuego Grille  | Underground\, 12566 SE 93rd\, Clackamas\, OR\, United States
CATEGORIES:Club gig,Live Jazz,Live Jazz,Live Music,Regular Gigs
ATTACH;FMTTYPE=image/jpeg:https://tomgrant.com/wp-content/uploads/2021/09/TG-de-Fuego-FB-post.jpg
END:VEVENT
BEGIN:VEVENT
DTSTART;TZID=America/Los_Angeles:20211012T180000
DTEND;TZID=America/Los_Angeles:20211012T200000
DTSTAMP:20260422T011542
CREATED:20210917T162916Z
LAST-MODIFIED:20220102T200609Z
UID:10001103-1634061600-1634068800@tomgrant.com
SUMMARY:Tues Tunes @ Nicoletta's Table
DESCRIPTION:Tom will be appearing at Nicoletta’s Table in Lake Oswego on Tuesday nights! Come for great food\, wine\, and live music in LO’s favorite Italian restaurant and mercato!
URL:https://tomgrant.com/event/tues-tunes-nicolettas-table/2021-10-12/
LOCATION:Nicoletta’s Table\, 333 South State Street\, Suite M\, Lake Oswego\, OR\, 97034\, United States
ATTACH;FMTTYPE=image/jpeg:https://tomgrant.com/wp-content/uploads/2021/09/TG_Nicolettas-Tuesdays-FB-post-1.jpg
END:VEVENT
BEGIN:VEVENT
DTSTART;TZID=America/Los_Angeles:20211006T193000
DTEND;TZID=America/Los_Angeles:20211006T210000
DTSTAMP:20260422T011542
CREATED:20210917T174923Z
LAST-MODIFIED:20210920T181055Z
UID:10001170-1633548600-1633554000@tomgrant.com
SUMMARY:Sounds of Brazil! LIVE with Nancy Curtin
DESCRIPTION:Join us for a soulful and rhythmic journey to Brazil with my guest vocalist\, Nancy Curtiin.
URL:https://tomgrant.com/event/sounds-of-brazil-live-with-nancy-curtain/
LOCATION:Tom’s Youtube Channel\, United States
CATEGORIES:Concert,Online Concert,Streaming Live Music
ATTACH;FMTTYPE=image/jpeg:https://tomgrant.com/wp-content/uploads/2021/09/TG_Nancy-Curtain-INSTA-Classic-Oct-2021.jpg
END:VEVENT
BEGIN:VEVENT
DTSTART;TZID=America/Los_Angeles:20211005T180000
DTEND;TZID=America/Los_Angeles:20211005T200000
DTSTAMP:20260422T011542
CREATED:20210917T162916Z
LAST-MODIFIED:20220102T200609Z
UID:10001102-1633456800-1633464000@tomgrant.com
SUMMARY:Tues Tunes @ Nicoletta's Table
DESCRIPTION:Tom will be appearing at Nicoletta’s Table in Lake Oswego on Tuesday nights! Come for great food\, wine\, and live music in LO’s favorite Italian restaurant and mercato!
URL:https://tomgrant.com/event/tues-tunes-nicolettas-table/2021-10-05/
LOCATION:Nicoletta’s Table\, 333 South State Street\, Suite M\, Lake Oswego\, OR\, 97034\, United States
ATTACH;FMTTYPE=image/jpeg:https://tomgrant.com/wp-content/uploads/2021/09/TG_Nicolettas-Tuesdays-FB-post-1.jpg
END:VEVENT
BEGIN:VEVENT
DTSTART;TZID=America/Los_Angeles:20211001T190000
DTEND;TZID=America/Los_Angeles:20211001T213000
DTSTAMP:20260422T011543
CREATED:20210920T181900Z
LAST-MODIFIED:20211002T003402Z
UID:10001426-1633114800-1633123800@tomgrant.com
SUMMARY:WILF'S at Union Station
DESCRIPTION:I’ll be accompanying my cousin\, jazz vocalist Sarah Saul.
URL:https://tomgrant.com/event/wilfs-at-union-station/
LOCATION:Wilfs at Union Station\, 800 NW 6th Ave at Union Station \, Portland\, OR\, United States
CATEGORIES:Club gig,Live Jazz,Live Music
ATTACH;FMTTYPE=image/jpeg:https://tomgrant.com/wp-content/uploads/2021/09/Sarah-Saul_-Wilfs-Oct-1_2021.jpg
GEO:45.5288249;-122.6766007
X-APPLE-STRUCTURED-LOCATION;VALUE=URI;X-ADDRESS=Wilfs at Union Station 800 NW 6th Ave at Union Station  Portland OR United States;X-APPLE-RADIUS=500;X-TITLE=800 NW 6th Ave at Union Station:geo:-122.6766007,45.5288249
END:VEVENT
BEGIN:VEVENT
DTSTART;TZID=America/Los_Angeles:20210929T180000
DTEND;TZID=America/Los_Angeles:20210929T210000
DTSTAMP:20260422T011543
CREATED:20210917T174320Z
LAST-MODIFIED:20210920T181553Z
UID:10001169-1632938400-1632949200@tomgrant.com
SUMMARY:The Underground | De Fuego Grille
DESCRIPTION:Join us for an evening with vocalist Billie Eidson at The Underground!
URL:https://tomgrant.com/event/de-fuegos-the-underground/
LOCATION:de Fuego Grille  | Underground\, 12566 SE 93rd\, Clackamas\, OR\, United States
ATTACH;FMTTYPE=image/jpeg:https://tomgrant.com/wp-content/uploads/2021/09/TG-_-Underground-Sept-29.jpeg
END:VEVENT
BEGIN:VEVENT
DTSTART;TZID=America/Los_Angeles:20210928T180000
DTEND;TZID=America/Los_Angeles:20210928T200000
DTSTAMP:20260422T011543
CREATED:20210917T162916Z
LAST-MODIFIED:20220102T200609Z
UID:10001101-1632852000-1632859200@tomgrant.com
SUMMARY:Tues Tunes @ Nicoletta's Table
DESCRIPTION:Tom will be appearing at Nicoletta’s Table in Lake Oswego on Tuesday nights! Come for great food\, wine\, and live music in LO’s favorite Italian restaurant and mercato!
URL:https://tomgrant.com/event/tues-tunes-nicolettas-table/2021-09-28/
LOCATION:Nicoletta’s Table\, 333 South State Street\, Suite M\, Lake Oswego\, OR\, 97034\, United States
ATTACH;FMTTYPE=image/jpeg:https://tomgrant.com/wp-content/uploads/2021/09/TG_Nicolettas-Tuesdays-FB-post-1.jpg
END:VEVENT
BEGIN:VEVENT
DTSTART;TZID=America/Los_Angeles:20210925T190000
DTEND;TZID=America/Los_Angeles:20210925T213000
DTSTAMP:20260422T011543
CREATED:20210917T155217Z
LAST-MODIFIED:20210917T161638Z
UID:10001099-1632596400-1632605400@tomgrant.com
SUMMARY:Vino Veritas
DESCRIPTION:Tom will be playing with Brent Follis (Drums) and Dave Captein (Bass) at this great spot in SE PDX. Come for drinks\, a bite\, and great live music!
URL:https://tomgrant.com/event/vino-veritas/
LOCATION:Vino Veritas\, 7835 SE Stark St.\, Portland\, United States
CATEGORIES:Club gig,Live Jazz,Live Music
END:VEVENT
BEGIN:VEVENT
DTSTART;TZID=America/Los_Angeles:20210922T193000
DTEND;TZID=America/Los_Angeles:20210922T203000
DTSTAMP:20260422T011543
CREATED:20210917T153835Z
LAST-MODIFIED:20210917T153857Z
UID:10001098-1632339000-1632342600@tomgrant.com
SUMMARY:WEDNESDAY NIGHT LIVE from Tom's studio
DESCRIPTION:Join us online on Tom’s Facebook page for an hour of live music.  Requests are welcome!  Check FB for event details.
URL:https://tomgrant.com/event/wednesday-night-live-from-toms-studio/
LOCATION:OR
ATTACH;FMTTYPE=image/jpeg:https://tomgrant.com/wp-content/uploads/2021/09/TG-Live-Weds-Night-Live-FB--scaled-e1634326577298.jpg
END:VEVENT
BEGIN:VEVENT
DTSTART;TZID=America/Los_Angeles:20210921T180000
DTEND;TZID=America/Los_Angeles:20210921T200000
DTSTAMP:20260422T011543
CREATED:20210917T162916Z
LAST-MODIFIED:20220102T200609Z
UID:10001100-1632247200-1632254400@tomgrant.com
SUMMARY:Tues Tunes @ Nicoletta's Table
DESCRIPTION:Tom will be appearing at Nicoletta’s Table in Lake Oswego on Tuesday nights! Come for great food\, wine\, and live music in LO’s favorite Italian restaurant and mercato!
URL:https://tomgrant.com/event/tues-tunes-nicolettas-table/2021-09-21/
LOCATION:Nicoletta’s Table\, 333 South State Street\, Suite M\, Lake Oswego\, OR\, 97034\, United States
ATTACH;FMTTYPE=image/jpeg:https://tomgrant.com/wp-content/uploads/2021/09/TG_Nicolettas-Tuesdays-FB-post-1.jpg
END:VEVENT
BEGIN:VEVENT
DTSTART;TZID=America/Los_Angeles:20210918T183000
DTEND;TZID=America/Los_Angeles:20210918T210000
DTSTAMP:20260422T011543
CREATED:20210917T152548Z
LAST-MODIFIED:20210917T152958Z
UID:10001097-1631989800-1631998800@tomgrant.com
SUMMARY:Gracie's Sea Hag in Depoe Bay
DESCRIPTION:Catch Tom Grant and Dave Captein at the Sea Hag in Depoe Bay. Reservations recommended\, but not necessary.
URL:https://tomgrant.com/event/gracies-sea-hag-in-depoe-bay-2/
LOCATION:Gracie’s Sea Hag\, 58 SE Highway 101\, Depoe Bay\,\, OR\, United States
ATTACH;FMTTYPE=image/jpeg:https://tomgrant.com/wp-content/uploads/2021/09/TG_INSTA-SEA-HAG-SEP-2021.jpg
END:VEVENT
BEGIN:VEVENT
DTSTART;TZID=America/Los_Angeles:20210917T183000
DTEND;TZID=America/Los_Angeles:20210917T210000
DTSTAMP:20260422T011543
CREATED:20240829T191642Z
LAST-MODIFIED:20240829T191642Z
UID:10002494-1631903400-1631912400@tomgrant.com
SUMMARY:Gracie's Sea Hag in Depoe Bay
DESCRIPTION:Catch Tom Grant with Marilyn Keller all weekend at Gracie’s Sea Hag in Depoe Bay. Reservations recommended\, but not necessary. \n 
URL:https://tomgrant.com/event/gracies-sea-hag-in-depoe-bay-3/
LOCATION:Gracie’s Sea Hag\, 58 SE Highway 101\, Depoe Bay\,\, OR\, United States
CATEGORIES:Club gig,Live Jazz,Live Music
ATTACH;FMTTYPE=image/jpeg:https://tomgrant.com/wp-content/uploads/2021/09/TG_INSTA-SEA-HAG-SEP-2021.jpg
END:VEVENT
END:VCALENDAR