BEGIN:VCALENDAR
VERSION:2.0
PRODID:-//Tom Grant - ECPv6.15.20//NONSGML v1.0//EN
CALSCALE:GREGORIAN
METHOD:PUBLISH
X-WR-CALNAME:Tom Grant
X-ORIGINAL-URL:https://tomgrant.com
X-WR-CALDESC:Events for Tom Grant
REFRESH-INTERVAL;VALUE=DURATION:PT1H
X-Robots-Tag:noindex
X-PUBLISHED-TTL:PT1H
BEGIN:VTIMEZONE
TZID:America/Los_Angeles
BEGIN:DAYLIGHT
TZOFFSETFROM:-0800
TZOFFSETTO:-0700
TZNAME:PDT
DTSTART:20230312T100000
END:DAYLIGHT
BEGIN:STANDARD
TZOFFSETFROM:-0700
TZOFFSETTO:-0800
TZNAME:PST
DTSTART:20231105T090000
END:STANDARD
BEGIN:DAYLIGHT
TZOFFSETFROM:-0800
TZOFFSETTO:-0700
TZNAME:PDT
DTSTART:20240310T100000
END:DAYLIGHT
BEGIN:STANDARD
TZOFFSETFROM:-0700
TZOFFSETTO:-0800
TZNAME:PST
DTSTART:20241103T090000
END:STANDARD
BEGIN:DAYLIGHT
TZOFFSETFROM:-0800
TZOFFSETTO:-0700
TZNAME:PDT
DTSTART:20250309T100000
END:DAYLIGHT
BEGIN:STANDARD
TZOFFSETFROM:-0700
TZOFFSETTO:-0800
TZNAME:PST
DTSTART:20251102T090000
END:STANDARD
END:VTIMEZONE
BEGIN:VEVENT
DTSTART;TZID=America/Los_Angeles:20240816T170000
DTEND;TZID=America/Los_Angeles:20240816T210000
DTSTAMP:20260421T235751
CREATED:20240314T182245Z
LAST-MODIFIED:20241101T232838Z
UID:10002470-1723827600-1723842000@tomgrant.com
SUMMARY:Tom Grant - Solo Piano at the Allison Inn
DESCRIPTION:
URL:https://tomgrant.com/event/tom-grant-solo-piano-at-the-alison-inn-2-2/2024-08-16/
LOCATION:Allison Inn & Spa\, 2525 Allison Lane\, Newberg\, OR\, United States
CATEGORIES:Concert,Free Concert,Live Jazz,Live Jazz,Live Music,Wine Country Live Music
ATTACH;FMTTYPE=image/jpeg:https://tomgrant.com/wp-content/uploads/2024/03/TG_AllisonInn2024_SQ-scaled.jpg
GEO:45.3189709;-122.9454381
X-APPLE-STRUCTURED-LOCATION;VALUE=URI;X-ADDRESS=Allison Inn & Spa 2525 Allison Lane Newberg OR United States;X-APPLE-RADIUS=500;X-TITLE=2525 Allison Lane:geo:-122.9454381,45.3189709
END:VEVENT
BEGIN:VEVENT
DTSTART;TZID=America/Los_Angeles:20240816T170000
DTEND;TZID=America/Los_Angeles:20240816T210000
DTSTAMP:20260421T235751
CREATED:20241125T224315Z
LAST-MODIFIED:20241125T224315Z
UID:10003136-1723827600-1723842000@tomgrant.com
SUMMARY:Tom Grant - Solo Piano at the Allison Inn
DESCRIPTION:
URL:https://tomgrant.com/event/tom-grant-solo-piano-at-the-allison-inn/2024-08-16/
LOCATION:Allison Inn & Spa\, 2525 Allison Lane\, Newberg\, OR\, United States
CATEGORIES:Concert,Free Concert,Live Jazz,Live Jazz,Live Music,Wine Country Live Music
ATTACH;FMTTYPE=image/jpeg:https://tomgrant.com/wp-content/uploads/2024/03/TG_AllisonInn2024_SQ-scaled.jpg
GEO:45.3189709;-122.9454381
X-APPLE-STRUCTURED-LOCATION;VALUE=URI;X-ADDRESS=Allison Inn & Spa 2525 Allison Lane Newberg OR United States;X-APPLE-RADIUS=500;X-TITLE=2525 Allison Lane:geo:-122.9454381,45.3189709
END:VEVENT
BEGIN:VEVENT
DTSTART;TZID=America/Los_Angeles:20240820T180000
DTEND;TZID=America/Los_Angeles:20240820T200000
DTSTAMP:20260421T235751
CREATED:20240702T035152Z
LAST-MODIFIED:20240702T035152Z
UID:10002158-1724176800-1724184000@tomgrant.com
SUMMARY:Tuesdays at Nicoletta's
DESCRIPTION:Liven up your Tuesdays with Tom Grant. Live jazz\, delicious food\, and a relaxed atmosphere await you at Nicoletta’s Table in Lake Oswego.\nNO COVER. Reservations recommended: 503-699-2927.\n\n#PDXJazz #TomGrantJazzPDX #NicolettasTableLO #DateNight  #LOJazzSpot #PDXMusicScene #SupportLocalSpots #ShopLocal #SupporttheArts #TuesdayVibes #LakeOswegoLiveMusic
URL:https://tomgrant.com/event/tues-tunes-nicolettas-table-2022-02-01-2022-04-12-2-2-4/2024-08-20/
LOCATION:Nicoletta’s Table\, 333 South State Street\, Suite M\, Lake Oswego\, OR\, 97034\, United States
ATTACH;FMTTYPE=image/png:https://tomgrant.com/wp-content/uploads/2023/01/TG_Nicolettas-Patio-summer-2024-1.png
END:VEVENT
BEGIN:VEVENT
DTSTART;TZID=America/Los_Angeles:20240821T180000
DTEND;TZID=America/Los_Angeles:20240821T210000
DTSTAMP:20260421T235751
CREATED:20240418T204517Z
LAST-MODIFIED:20240820T195459Z
UID:10002473-1724263200-1724274000@tomgrant.com
SUMMARY:The Underground @ deFuego Grille in Clackamas
DESCRIPTION:The Underground transports you into an Art Nouveau-inspired Speakeasy with live jazz\, nightly. Reserve your table for dinner\, drinks\, or dessert.\nReservations: (503) 652-7505
URL:https://tomgrant.com/event/underground-in-clackamas-monarch-hotel-2/2024-08-21/
LOCATION:de Fuego Grille  | Underground\, 12566 SE 93rd\, Clackamas\, OR\, United States
ATTACH;FMTTYPE=image/jpeg:https://tomgrant.com/wp-content/uploads/2021/09/TG-de-Fuego-FB-post.jpg
END:VEVENT
BEGIN:VEVENT
DTSTART;TZID=America/Los_Angeles:20240824T170000
DTEND;TZID=America/Los_Angeles:20240824T210000
DTSTAMP:20260421T235751
CREATED:20240314T182245Z
LAST-MODIFIED:20241101T232838Z
UID:10002471-1724518800-1724533200@tomgrant.com
SUMMARY:Tom Grant - Solo Piano at the Allison Inn
DESCRIPTION:
URL:https://tomgrant.com/event/tom-grant-solo-piano-at-the-alison-inn-2-2/2024-08-24/
LOCATION:Allison Inn & Spa\, 2525 Allison Lane\, Newberg\, OR\, United States
CATEGORIES:Concert,Free Concert,Live Jazz,Live Jazz,Live Music,Wine Country Live Music
ATTACH;FMTTYPE=image/jpeg:https://tomgrant.com/wp-content/uploads/2024/03/TG_AllisonInn2024_SQ-scaled.jpg
GEO:45.3189709;-122.9454381
X-APPLE-STRUCTURED-LOCATION;VALUE=URI;X-ADDRESS=Allison Inn & Spa 2525 Allison Lane Newberg OR United States;X-APPLE-RADIUS=500;X-TITLE=2525 Allison Lane:geo:-122.9454381,45.3189709
END:VEVENT
BEGIN:VEVENT
DTSTART;TZID=America/Los_Angeles:20240824T170000
DTEND;TZID=America/Los_Angeles:20240824T210000
DTSTAMP:20260421T235751
CREATED:20241125T224315Z
LAST-MODIFIED:20241125T224315Z
UID:10003137-1724518800-1724533200@tomgrant.com
SUMMARY:Tom Grant - Solo Piano at the Allison Inn
DESCRIPTION:
URL:https://tomgrant.com/event/tom-grant-solo-piano-at-the-allison-inn/2024-08-24/
LOCATION:Allison Inn & Spa\, 2525 Allison Lane\, Newberg\, OR\, United States
CATEGORIES:Concert,Free Concert,Live Jazz,Live Jazz,Live Music,Wine Country Live Music
ATTACH;FMTTYPE=image/jpeg:https://tomgrant.com/wp-content/uploads/2024/03/TG_AllisonInn2024_SQ-scaled.jpg
GEO:45.3189709;-122.9454381
X-APPLE-STRUCTURED-LOCATION;VALUE=URI;X-ADDRESS=Allison Inn & Spa 2525 Allison Lane Newberg OR United States;X-APPLE-RADIUS=500;X-TITLE=2525 Allison Lane:geo:-122.9454381,45.3189709
END:VEVENT
BEGIN:VEVENT
DTSTART;TZID=America/Los_Angeles:20240827T180000
DTEND;TZID=America/Los_Angeles:20240827T200000
DTSTAMP:20260421T235751
CREATED:20240702T035152Z
LAST-MODIFIED:20240702T035152Z
UID:10002159-1724781600-1724788800@tomgrant.com
SUMMARY:Tuesdays at Nicoletta's
DESCRIPTION:Liven up your Tuesdays with Tom Grant. Live jazz\, delicious food\, and a relaxed atmosphere await you at Nicoletta’s Table in Lake Oswego.\nNO COVER. Reservations recommended: 503-699-2927.\n\n#PDXJazz #TomGrantJazzPDX #NicolettasTableLO #DateNight  #LOJazzSpot #PDXMusicScene #SupportLocalSpots #ShopLocal #SupporttheArts #TuesdayVibes #LakeOswegoLiveMusic
URL:https://tomgrant.com/event/tues-tunes-nicolettas-table-2022-02-01-2022-04-12-2-2-4/2024-08-27/
LOCATION:Nicoletta’s Table\, 333 South State Street\, Suite M\, Lake Oswego\, OR\, 97034\, United States
ATTACH;FMTTYPE=image/png:https://tomgrant.com/wp-content/uploads/2023/01/TG_Nicolettas-Patio-summer-2024-1.png
END:VEVENT
BEGIN:VEVENT
DTSTART;TZID=America/Los_Angeles:20240830T170000
DTEND;TZID=America/Los_Angeles:20240830T210000
DTSTAMP:20260421T235751
CREATED:20240314T182245Z
LAST-MODIFIED:20241101T232838Z
UID:10002472-1725037200-1725051600@tomgrant.com
SUMMARY:Tom Grant - Solo Piano at the Allison Inn
DESCRIPTION:
URL:https://tomgrant.com/event/tom-grant-solo-piano-at-the-alison-inn-2-2/2024-08-30/
LOCATION:Allison Inn & Spa\, 2525 Allison Lane\, Newberg\, OR\, United States
CATEGORIES:Concert,Free Concert,Live Jazz,Live Jazz,Live Music,Wine Country Live Music
ATTACH;FMTTYPE=image/jpeg:https://tomgrant.com/wp-content/uploads/2024/03/TG_AllisonInn2024_SQ-scaled.jpg
GEO:45.3189709;-122.9454381
X-APPLE-STRUCTURED-LOCATION;VALUE=URI;X-ADDRESS=Allison Inn & Spa 2525 Allison Lane Newberg OR United States;X-APPLE-RADIUS=500;X-TITLE=2525 Allison Lane:geo:-122.9454381,45.3189709
END:VEVENT
BEGIN:VEVENT
DTSTART;TZID=America/Los_Angeles:20240830T170000
DTEND;TZID=America/Los_Angeles:20240830T210000
DTSTAMP:20260421T235751
CREATED:20241125T224315Z
LAST-MODIFIED:20241125T224315Z
UID:10003138-1725037200-1725051600@tomgrant.com
SUMMARY:Tom Grant - Solo Piano at the Allison Inn
DESCRIPTION:
URL:https://tomgrant.com/event/tom-grant-solo-piano-at-the-allison-inn/2024-08-30/
LOCATION:Allison Inn & Spa\, 2525 Allison Lane\, Newberg\, OR\, United States
CATEGORIES:Concert,Free Concert,Live Jazz,Live Jazz,Live Music,Wine Country Live Music
ATTACH;FMTTYPE=image/jpeg:https://tomgrant.com/wp-content/uploads/2024/03/TG_AllisonInn2024_SQ-scaled.jpg
GEO:45.3189709;-122.9454381
X-APPLE-STRUCTURED-LOCATION;VALUE=URI;X-ADDRESS=Allison Inn & Spa 2525 Allison Lane Newberg OR United States;X-APPLE-RADIUS=500;X-TITLE=2525 Allison Lane:geo:-122.9454381,45.3189709
END:VEVENT
BEGIN:VEVENT
DTSTART;TZID=America/Los_Angeles:20240901T100000
DTEND;TZID=America/Los_Angeles:20240901T113000
DTSTAMP:20260421T235751
CREATED:20240826T182928Z
LAST-MODIFIED:20240827T180033Z
UID:10002491-1725184800-1725190200@tomgrant.com
SUMMARY:AUGUSTANA Lutheran Church with Marilyn Keller  & Ron Steen
DESCRIPTION:Join us for a beautiful Sunday morning service at Augustana Church in NE Ptld.\nAll are welcome.
URL:https://tomgrant.com/event/augustana-lutheran-church-with-marilyn-keller-ron-steen/
LOCATION:AUGUSTANA Lutheran Church\, 2710 NE 14th Ave\, Portland\, OR\, 97212\, United States
END:VEVENT
BEGIN:VEVENT
DTSTART;TZID=America/Los_Angeles:20240901T193000
DTEND;TZID=America/Los_Angeles:20240901T220000
DTSTAMP:20260421T235751
CREATED:20240610T193309Z
LAST-MODIFIED:20240826T184353Z
UID:10002476-1725219000-1725228000@tomgrant.com
SUMMARY:Ron Steen Jam | Tom Grant
DESCRIPTION:Ron Steen Jam at Clyde’s Prime Rib  \n  \n 
URL:https://tomgrant.com/event/ron-steen-jam-clydes-2-2/2024-09-01/
LOCATION:Clyde’s  Prime Rib\, 5474 NE Sandy Blvd\, Ptld\, OR\, United States
CATEGORIES:Club gig,Live Jazz
ATTACH;FMTTYPE=image/png:https://tomgrant.com/wp-content/uploads/2022/07/clydes-prime-rib-logo.png
END:VEVENT
BEGIN:VEVENT
DTSTART;TZID=America/Los_Angeles:20240903T180000
DTEND;TZID=America/Los_Angeles:20240903T200000
DTSTAMP:20260421T235751
CREATED:20240702T035152Z
LAST-MODIFIED:20240702T035152Z
UID:10002160-1725386400-1725393600@tomgrant.com
SUMMARY:Tuesdays at Nicoletta's
DESCRIPTION:Liven up your Tuesdays with Tom Grant. Live jazz\, delicious food\, and a relaxed atmosphere await you at Nicoletta’s Table in Lake Oswego.\nNO COVER. Reservations recommended: 503-699-2927.\n\n#PDXJazz #TomGrantJazzPDX #NicolettasTableLO #DateNight  #LOJazzSpot #PDXMusicScene #SupportLocalSpots #ShopLocal #SupporttheArts #TuesdayVibes #LakeOswegoLiveMusic
URL:https://tomgrant.com/event/tues-tunes-nicolettas-table-2022-02-01-2022-04-12-2-2-4/2024-09-03/
LOCATION:Nicoletta’s Table\, 333 South State Street\, Suite M\, Lake Oswego\, OR\, 97034\, United States
ATTACH;FMTTYPE=image/png:https://tomgrant.com/wp-content/uploads/2023/01/TG_Nicolettas-Patio-summer-2024-1.png
END:VEVENT
BEGIN:VEVENT
DTSTART;TZID=America/Los_Angeles:20240904T180000
DTEND;TZID=America/Los_Angeles:20240904T210000
DTSTAMP:20260421T235751
CREATED:20240418T204517Z
LAST-MODIFIED:20240820T195459Z
UID:10002474-1725472800-1725483600@tomgrant.com
SUMMARY:The Underground @ deFuego Grille in Clackamas
DESCRIPTION:The Underground transports you into an Art Nouveau-inspired Speakeasy with live jazz\, nightly. Reserve your table for dinner\, drinks\, or dessert.\nReservations: (503) 652-7505
URL:https://tomgrant.com/event/underground-in-clackamas-monarch-hotel-2/2024-09-04/
LOCATION:de Fuego Grille  | Underground\, 12566 SE 93rd\, Clackamas\, OR\, United States
ATTACH;FMTTYPE=image/jpeg:https://tomgrant.com/wp-content/uploads/2021/09/TG-de-Fuego-FB-post.jpg
END:VEVENT
BEGIN:VEVENT
DTSTART;TZID=America/Los_Angeles:20240906T170000
DTEND;TZID=America/Los_Angeles:20240906T203000
DTSTAMP:20260421T235751
CREATED:20240314T182245Z
LAST-MODIFIED:20241101T232838Z
UID:10002493-1725642000-1725654600@tomgrant.com
SUMMARY:Tom Grant - Solo Piano at the Allison Inn
DESCRIPTION:
URL:https://tomgrant.com/event/tom-grant-solo-piano-at-the-alison-inn-2-2/2024-09-06/
LOCATION:Allison Inn & Spa\, 2525 Allison Lane\, Newberg\, OR\, United States
CATEGORIES:Concert,Free Concert,Live Jazz,Live Jazz,Live Music,Wine Country Live Music
ATTACH;FMTTYPE=image/jpeg:https://tomgrant.com/wp-content/uploads/2024/03/TG_AllisonInn2024_SQ-scaled.jpg
GEO:45.3189709;-122.9454381
X-APPLE-STRUCTURED-LOCATION;VALUE=URI;X-ADDRESS=Allison Inn & Spa 2525 Allison Lane Newberg OR United States;X-APPLE-RADIUS=500;X-TITLE=2525 Allison Lane:geo:-122.9454381,45.3189709
END:VEVENT
BEGIN:VEVENT
DTSTART;TZID=America/Los_Angeles:20240906T170000
DTEND;TZID=America/Los_Angeles:20240906T203000
DTSTAMP:20260421T235751
CREATED:20241125T224315Z
LAST-MODIFIED:20241125T224315Z
UID:10003139-1725642000-1725654600@tomgrant.com
SUMMARY:Tom Grant - Solo Piano at the Allison Inn
DESCRIPTION:
URL:https://tomgrant.com/event/tom-grant-solo-piano-at-the-allison-inn/2024-09-06/
LOCATION:Allison Inn & Spa\, 2525 Allison Lane\, Newberg\, OR\, United States
CATEGORIES:Concert,Free Concert,Live Jazz,Live Jazz,Live Music,Wine Country Live Music
ATTACH;FMTTYPE=image/jpeg:https://tomgrant.com/wp-content/uploads/2024/03/TG_AllisonInn2024_SQ-scaled.jpg
GEO:45.3189709;-122.9454381
X-APPLE-STRUCTURED-LOCATION;VALUE=URI;X-ADDRESS=Allison Inn & Spa 2525 Allison Lane Newberg OR United States;X-APPLE-RADIUS=500;X-TITLE=2525 Allison Lane:geo:-122.9454381,45.3189709
END:VEVENT
BEGIN:VEVENT
DTSTART;TZID=America/Los_Angeles:20240907T190000
DTEND;TZID=America/Los_Angeles:20240907T220000
DTSTAMP:20260421T235751
CREATED:20240821T190014Z
LAST-MODIFIED:20240821T190150Z
UID:10002485-1725735600-1725746400@tomgrant.com
SUMMARY:The Underground with Ron Steen\, Ed Bennett\, Tom Grant & Vocalist Toni Lincoln!
DESCRIPTION:The Underground transports you into an Art Nouveau-inspired Speakeasy with live jazz\, nightly. Reserve your table for dinner\, drinks\, or dessert.\nReservations: (503) 652-7505
URL:https://tomgrant.com/event/the-underground-with-ron-steen-ed-bennett-tom-grant-vocalist-toni-lincoln/
LOCATION:de Fuego Grille  | Underground\, 12566 SE 93rd\, Clackamas\, OR\, United States
ATTACH;FMTTYPE=image/jpeg:https://tomgrant.com/wp-content/uploads/2021/09/TG-de-Fuego-FB-post.jpg
END:VEVENT
BEGIN:VEVENT
DTSTART;TZID=America/Los_Angeles:20240910T180000
DTEND;TZID=America/Los_Angeles:20240910T200000
DTSTAMP:20260421T235751
CREATED:20240702T035152Z
LAST-MODIFIED:20240702T035152Z
UID:10002161-1725991200-1725998400@tomgrant.com
SUMMARY:Tuesdays at Nicoletta's
DESCRIPTION:Liven up your Tuesdays with Tom Grant. Live jazz\, delicious food\, and a relaxed atmosphere await you at Nicoletta’s Table in Lake Oswego.\nNO COVER. Reservations recommended: 503-699-2927.\n\n#PDXJazz #TomGrantJazzPDX #NicolettasTableLO #DateNight  #LOJazzSpot #PDXMusicScene #SupportLocalSpots #ShopLocal #SupporttheArts #TuesdayVibes #LakeOswegoLiveMusic
URL:https://tomgrant.com/event/tues-tunes-nicolettas-table-2022-02-01-2022-04-12-2-2-4/2024-09-10/
LOCATION:Nicoletta’s Table\, 333 South State Street\, Suite M\, Lake Oswego\, OR\, 97034\, United States
ATTACH;FMTTYPE=image/png:https://tomgrant.com/wp-content/uploads/2023/01/TG_Nicolettas-Patio-summer-2024-1.png
END:VEVENT
BEGIN:VEVENT
DTSTART;TZID=America/Los_Angeles:20240913T180000
DTEND;TZID=America/Los_Angeles:20240913T210000
DTSTAMP:20260421T235751
CREATED:20240829T192447Z
LAST-MODIFIED:20240906T221512Z
UID:10002503-1726250400-1726261200@tomgrant.com
SUMMARY:Gracie's Sea Hag in Depoe Bay
DESCRIPTION:Catch Tom Grant and Marilyn Keller Friday and Saturday at  Gracie’s Sea Hag in Depoe Bay. Reservations recommended\, but not necessary. \n 
URL:https://tomgrant.com/event/gracies-sea-hag-in-depoe-bay-5-2/2024-09-13/
LOCATION:Gracie’s Sea Hag\, 58 SE Highway 101\, Depoe Bay\,\, OR\, United States
CATEGORIES:Club gig,Live Jazz,Live Music
ATTACH;FMTTYPE=image/jpeg:https://tomgrant.com/wp-content/uploads/2024/08/TG_SEA-HAG-MarilynSept-2024.jpg
END:VEVENT
BEGIN:VEVENT
DTSTART;TZID=America/Los_Angeles:20240914T180000
DTEND;TZID=America/Los_Angeles:20240914T210000
DTSTAMP:20260421T235751
CREATED:20240829T192447Z
LAST-MODIFIED:20240906T221512Z
UID:10002504-1726336800-1726347600@tomgrant.com
SUMMARY:Gracie's Sea Hag in Depoe Bay
DESCRIPTION:Catch Tom Grant and Marilyn Keller Friday and Saturday at  Gracie’s Sea Hag in Depoe Bay. Reservations recommended\, but not necessary. \n 
URL:https://tomgrant.com/event/gracies-sea-hag-in-depoe-bay-5-2/2024-09-14/
LOCATION:Gracie’s Sea Hag\, 58 SE Highway 101\, Depoe Bay\,\, OR\, United States
CATEGORIES:Club gig,Live Jazz,Live Music
ATTACH;FMTTYPE=image/jpeg:https://tomgrant.com/wp-content/uploads/2024/08/TG_SEA-HAG-MarilynSept-2024.jpg
END:VEVENT
BEGIN:VEVENT
DTSTART;TZID=America/Los_Angeles:20240917T180000
DTEND;TZID=America/Los_Angeles:20240917T200000
DTSTAMP:20260421T235751
CREATED:20240702T035152Z
LAST-MODIFIED:20240702T035152Z
UID:10002162-1726596000-1726603200@tomgrant.com
SUMMARY:Tuesdays at Nicoletta's
DESCRIPTION:Liven up your Tuesdays with Tom Grant. Live jazz\, delicious food\, and a relaxed atmosphere await you at Nicoletta’s Table in Lake Oswego.\nNO COVER. Reservations recommended: 503-699-2927.\n\n#PDXJazz #TomGrantJazzPDX #NicolettasTableLO #DateNight  #LOJazzSpot #PDXMusicScene #SupportLocalSpots #ShopLocal #SupporttheArts #TuesdayVibes #LakeOswegoLiveMusic
URL:https://tomgrant.com/event/tues-tunes-nicolettas-table-2022-02-01-2022-04-12-2-2-4/2024-09-17/
LOCATION:Nicoletta’s Table\, 333 South State Street\, Suite M\, Lake Oswego\, OR\, 97034\, United States
ATTACH;FMTTYPE=image/png:https://tomgrant.com/wp-content/uploads/2023/01/TG_Nicolettas-Patio-summer-2024-1.png
END:VEVENT
BEGIN:VEVENT
DTSTART;TZID=America/Los_Angeles:20240918T180000
DTEND;TZID=America/Los_Angeles:20240918T210000
DTSTAMP:20260421T235751
CREATED:20240418T204517Z
LAST-MODIFIED:20240820T195459Z
UID:10002475-1726682400-1726693200@tomgrant.com
SUMMARY:The Underground @ deFuego Grille in Clackamas
DESCRIPTION:The Underground transports you into an Art Nouveau-inspired Speakeasy with live jazz\, nightly. Reserve your table for dinner\, drinks\, or dessert.\nReservations: (503) 652-7505
URL:https://tomgrant.com/event/underground-in-clackamas-monarch-hotel-2/2024-09-18/
LOCATION:de Fuego Grille  | Underground\, 12566 SE 93rd\, Clackamas\, OR\, United States
ATTACH;FMTTYPE=image/jpeg:https://tomgrant.com/wp-content/uploads/2021/09/TG-de-Fuego-FB-post.jpg
END:VEVENT
BEGIN:VEVENT
DTSTART;TZID=America/Los_Angeles:20240921T170000
DTEND;TZID=America/Los_Angeles:20240921T203000
DTSTAMP:20260421T235751
CREATED:20240314T182245Z
LAST-MODIFIED:20241101T232838Z
UID:10002514-1726938000-1726950600@tomgrant.com
SUMMARY:Tom Grant - Solo Piano at the Allison Inn
DESCRIPTION:
URL:https://tomgrant.com/event/tom-grant-solo-piano-at-the-alison-inn-2-2/2024-09-21/
LOCATION:Allison Inn & Spa\, 2525 Allison Lane\, Newberg\, OR\, United States
CATEGORIES:Concert,Free Concert,Live Jazz,Live Jazz,Live Music,Wine Country Live Music
ATTACH;FMTTYPE=image/jpeg:https://tomgrant.com/wp-content/uploads/2024/03/TG_AllisonInn2024_SQ-scaled.jpg
GEO:45.3189709;-122.9454381
X-APPLE-STRUCTURED-LOCATION;VALUE=URI;X-ADDRESS=Allison Inn & Spa 2525 Allison Lane Newberg OR United States;X-APPLE-RADIUS=500;X-TITLE=2525 Allison Lane:geo:-122.9454381,45.3189709
END:VEVENT
BEGIN:VEVENT
DTSTART;TZID=America/Los_Angeles:20240921T170000
DTEND;TZID=America/Los_Angeles:20240921T203000
DTSTAMP:20260421T235751
CREATED:20241125T224315Z
LAST-MODIFIED:20241125T224315Z
UID:10003140-1726938000-1726950600@tomgrant.com
SUMMARY:Tom Grant - Solo Piano at the Allison Inn
DESCRIPTION:
URL:https://tomgrant.com/event/tom-grant-solo-piano-at-the-allison-inn/2024-09-21/
LOCATION:Allison Inn & Spa\, 2525 Allison Lane\, Newberg\, OR\, United States
CATEGORIES:Concert,Free Concert,Live Jazz,Live Jazz,Live Music,Wine Country Live Music
ATTACH;FMTTYPE=image/jpeg:https://tomgrant.com/wp-content/uploads/2024/03/TG_AllisonInn2024_SQ-scaled.jpg
GEO:45.3189709;-122.9454381
X-APPLE-STRUCTURED-LOCATION;VALUE=URI;X-ADDRESS=Allison Inn & Spa 2525 Allison Lane Newberg OR United States;X-APPLE-RADIUS=500;X-TITLE=2525 Allison Lane:geo:-122.9454381,45.3189709
END:VEVENT
BEGIN:VEVENT
DTSTART;TZID=America/Los_Angeles:20240921T170000
DTEND;TZID=America/Los_Angeles:20240921T203000
DTSTAMP:20260421T235751
CREATED:20250414T184852Z
LAST-MODIFIED:20260331T235823Z
UID:10003165-1726938000-1726950600@tomgrant.com
SUMMARY:Solo Piano with Tom Grant at the Allison Inn
DESCRIPTION:Join Tom at the Allison Inn in Newberg for a lovely evening of music in wine country. You’ll find Tom at the piano between 5:00-8:00 PM.
URL:https://tomgrant.com/event/solo-piano-with-tom-grant-at-the-allison-inn/2024-09-21/
LOCATION:Allison Inn & Spa\, 2525 Allison Lane\, Newberg\, OR\, United States
CATEGORIES:Concert,Free Concert,Live Jazz,Live Jazz,Live Music,Wine Country Live Music
ATTACH;FMTTYPE=image/jpeg:https://tomgrant.com/wp-content/uploads/2024/03/TG_AllisonInn2024_SQ-scaled.jpg
GEO:45.3189709;-122.9454381
X-APPLE-STRUCTURED-LOCATION;VALUE=URI;X-ADDRESS=Allison Inn & Spa 2525 Allison Lane Newberg OR United States;X-APPLE-RADIUS=500;X-TITLE=2525 Allison Lane:geo:-122.9454381,45.3189709
END:VEVENT
BEGIN:VEVENT
DTSTART;TZID=America/Los_Angeles:20240924T180000
DTEND;TZID=America/Los_Angeles:20240924T200000
DTSTAMP:20260421T235751
CREATED:20240702T035152Z
LAST-MODIFIED:20240702T035152Z
UID:10002163-1727200800-1727208000@tomgrant.com
SUMMARY:Tuesdays at Nicoletta's
DESCRIPTION:Liven up your Tuesdays with Tom Grant. Live jazz\, delicious food\, and a relaxed atmosphere await you at Nicoletta’s Table in Lake Oswego.\nNO COVER. Reservations recommended: 503-699-2927.\n\n#PDXJazz #TomGrantJazzPDX #NicolettasTableLO #DateNight  #LOJazzSpot #PDXMusicScene #SupportLocalSpots #ShopLocal #SupporttheArts #TuesdayVibes #LakeOswegoLiveMusic
URL:https://tomgrant.com/event/tues-tunes-nicolettas-table-2022-02-01-2022-04-12-2-2-4/2024-09-24/
LOCATION:Nicoletta’s Table\, 333 South State Street\, Suite M\, Lake Oswego\, OR\, 97034\, United States
ATTACH;FMTTYPE=image/png:https://tomgrant.com/wp-content/uploads/2023/01/TG_Nicolettas-Patio-summer-2024-1.png
END:VEVENT
BEGIN:VEVENT
DTSTART;TZID=America/Los_Angeles:20240927T180000
DTEND;TZID=America/Los_Angeles:20240927T210000
DTSTAMP:20260421T235751
CREATED:20240906T220248Z
LAST-MODIFIED:20240906T221609Z
UID:10002512-1727460000-1727470800@tomgrant.com
SUMMARY:Gracie's Sea Hag in Depoe Bay - With Dave Captein
DESCRIPTION:Catch Tom Grant and Dave Captein on Friday and Saturday at  Gracie’s Sea Hag in Depoe Bay. Reservations recommended\, but not necessary. \n 
URL:https://tomgrant.com/event/gracies-sea-hag-in-depoe-bay-with-dave-captein/2024-09-27/
LOCATION:Gracie’s Sea Hag\, 58 SE Highway 101\, Depoe Bay\,\, OR\, United States
CATEGORIES:Club gig,Live Jazz,Live Music
ATTACH;FMTTYPE=image/jpeg:https://tomgrant.com/wp-content/uploads/2024/08/TG_SEA-HAG-Marilyn-Sept-2024-scaled.jpg
END:VEVENT
BEGIN:VEVENT
DTSTART;TZID=America/Los_Angeles:20240927T180000
DTEND;TZID=America/Los_Angeles:20240927T210000
DTSTAMP:20260421T235751
CREATED:20250801T231044Z
LAST-MODIFIED:20250801T231103Z
UID:10003213-1727460000-1727470800@tomgrant.com
SUMMARY:Gracie's Sea Hag in Depoe Bay With Shelly Rudolph
DESCRIPTION:Catch Tom Grant and Shelly Rudolph on Aug 15th & 16th at Gracie’s Sea Hag in Depoe Bay. Reservations recommended\, but not necessary. \n 
URL:https://tomgrant.com/event/gracies-sea-hag-in-depoe-bay-with-shelly-rudolph/2024-09-27/
LOCATION:Gracie’s Sea Hag\, 58 SE Highway 101\, Depoe Bay\,\, OR\, United States
CATEGORIES:Club gig,Live Jazz,Live Music
ATTACH;FMTTYPE=image/png:https://tomgrant.com/wp-content/uploads/2025/08/TG-and-Shelly-SEA-HAG-AUG-2025-SQ.png
END:VEVENT
BEGIN:VEVENT
DTSTART;TZID=America/Los_Angeles:20240928T180000
DTEND;TZID=America/Los_Angeles:20240928T210000
DTSTAMP:20260421T235751
CREATED:20240906T220248Z
LAST-MODIFIED:20240906T221609Z
UID:10002513-1727546400-1727557200@tomgrant.com
SUMMARY:Gracie's Sea Hag in Depoe Bay - With Dave Captein
DESCRIPTION:Catch Tom Grant and Dave Captein on Friday and Saturday at  Gracie’s Sea Hag in Depoe Bay. Reservations recommended\, but not necessary. \n 
URL:https://tomgrant.com/event/gracies-sea-hag-in-depoe-bay-with-dave-captein/2024-09-28/
LOCATION:Gracie’s Sea Hag\, 58 SE Highway 101\, Depoe Bay\,\, OR\, United States
CATEGORIES:Club gig,Live Jazz,Live Music
ATTACH;FMTTYPE=image/jpeg:https://tomgrant.com/wp-content/uploads/2024/08/TG_SEA-HAG-Marilyn-Sept-2024-scaled.jpg
END:VEVENT
BEGIN:VEVENT
DTSTART;TZID=America/Los_Angeles:20240928T180000
DTEND;TZID=America/Los_Angeles:20240928T210000
DTSTAMP:20260421T235751
CREATED:20250801T231135Z
LAST-MODIFIED:20250802T000526Z
UID:10003214-1727546400-1727557200@tomgrant.com
SUMMARY:Gracie's Sea Hag in Depoe Bay With Shelly Rudolph
DESCRIPTION:Catch Tom Grant and Shelly Rudolph on Aug 15th & 16th at Gracie’s Sea Hag in Depoe Bay. Reservations recommended\, but not necessary. \n 
URL:https://tomgrant.com/event/gracies-sea-hag-in-depoe-bay-with-shelly-rudolph-2/2024-09-28/
LOCATION:Gracie’s Sea Hag\, 58 SE Highway 101\, Depoe Bay\,\, OR\, United States
CATEGORIES:Club gig,Live Jazz,Live Music
ATTACH;FMTTYPE=image/png:https://tomgrant.com/wp-content/uploads/2025/08/TG-and-Shelly-SEA-HAG-AUG-2025-SQ.png
END:VEVENT
BEGIN:VEVENT
DTSTART;TZID=America/Los_Angeles:20241001T180000
DTEND;TZID=America/Los_Angeles:20241001T200000
DTSTAMP:20260421T235751
CREATED:20240702T035152Z
LAST-MODIFIED:20240702T035152Z
UID:10002164-1727805600-1727812800@tomgrant.com
SUMMARY:Tuesdays at Nicoletta's
DESCRIPTION:Liven up your Tuesdays with Tom Grant. Live jazz\, delicious food\, and a relaxed atmosphere await you at Nicoletta’s Table in Lake Oswego.\nNO COVER. Reservations recommended: 503-699-2927.\n\n#PDXJazz #TomGrantJazzPDX #NicolettasTableLO #DateNight  #LOJazzSpot #PDXMusicScene #SupportLocalSpots #ShopLocal #SupporttheArts #TuesdayVibes #LakeOswegoLiveMusic
URL:https://tomgrant.com/event/tues-tunes-nicolettas-table-2022-02-01-2022-04-12-2-2-4/2024-10-01/
LOCATION:Nicoletta’s Table\, 333 South State Street\, Suite M\, Lake Oswego\, OR\, 97034\, United States
ATTACH;FMTTYPE=image/png:https://tomgrant.com/wp-content/uploads/2023/01/TG_Nicolettas-Patio-summer-2024-1.png
END:VEVENT
END:VCALENDAR