BEGIN:VCALENDAR
VERSION:2.0
PRODID:-//Tom Grant - ECPv6.15.20//NONSGML v1.0//EN
CALSCALE:GREGORIAN
METHOD:PUBLISH
X-ORIGINAL-URL:https://tomgrant.com
X-WR-CALDESC:Events for Tom Grant
REFRESH-INTERVAL;VALUE=DURATION:PT1H
X-Robots-Tag:noindex
X-PUBLISHED-TTL:PT1H
BEGIN:VTIMEZONE
TZID:America/Los_Angeles
BEGIN:DAYLIGHT
TZOFFSETFROM:-0800
TZOFFSETTO:-0700
TZNAME:PDT
DTSTART:20230312T100000
END:DAYLIGHT
BEGIN:STANDARD
TZOFFSETFROM:-0700
TZOFFSETTO:-0800
TZNAME:PST
DTSTART:20231105T090000
END:STANDARD
BEGIN:DAYLIGHT
TZOFFSETFROM:-0800
TZOFFSETTO:-0700
TZNAME:PDT
DTSTART:20240310T100000
END:DAYLIGHT
BEGIN:STANDARD
TZOFFSETFROM:-0700
TZOFFSETTO:-0800
TZNAME:PST
DTSTART:20241103T090000
END:STANDARD
BEGIN:DAYLIGHT
TZOFFSETFROM:-0800
TZOFFSETTO:-0700
TZNAME:PDT
DTSTART:20250309T100000
END:DAYLIGHT
BEGIN:STANDARD
TZOFFSETFROM:-0700
TZOFFSETTO:-0800
TZNAME:PST
DTSTART:20251102T090000
END:STANDARD
END:VTIMEZONE
BEGIN:VEVENT
DTSTART;TZID=America/Los_Angeles:20241019T170000
DTEND;TZID=America/Los_Angeles:20241019T203000
DTSTAMP:20260422T035741
CREATED:20241125T224315Z
LAST-MODIFIED:20241125T224315Z
UID:10003142-1729357200-1729369800@tomgrant.com
SUMMARY:Tom Grant - Solo Piano at the Allison Inn
DESCRIPTION:
URL:https://tomgrant.com/event/tom-grant-solo-piano-at-the-allison-inn/2024-10-19/
LOCATION:Allison Inn & Spa\, 2525 Allison Lane\, Newberg\, OR\, United States
CATEGORIES:Concert,Free Concert,Live Jazz,Live Jazz,Live Music,Wine Country Live Music
ATTACH;FMTTYPE=image/jpeg:https://tomgrant.com/wp-content/uploads/2024/03/TG_AllisonInn2024_SQ-scaled.jpg
GEO:45.3189709;-122.9454381
X-APPLE-STRUCTURED-LOCATION;VALUE=URI;X-ADDRESS=Allison Inn & Spa 2525 Allison Lane Newberg OR United States;X-APPLE-RADIUS=500;X-TITLE=2525 Allison Lane:geo:-122.9454381,45.3189709
END:VEVENT
BEGIN:VEVENT
DTSTART;TZID=America/Los_Angeles:20241019T170000
DTEND;TZID=America/Los_Angeles:20241019T203000
DTSTAMP:20260422T035741
CREATED:20250414T184852Z
LAST-MODIFIED:20260331T235823Z
UID:10003167-1729357200-1729369800@tomgrant.com
SUMMARY:Solo Piano with Tom Grant at the Allison Inn
DESCRIPTION:Join Tom at the Allison Inn in Newberg for a lovely evening of music in wine country. You’ll find Tom at the piano between 5:00-8:00 PM.
URL:https://tomgrant.com/event/solo-piano-with-tom-grant-at-the-allison-inn/2024-10-19/
LOCATION:Allison Inn & Spa\, 2525 Allison Lane\, Newberg\, OR\, United States
CATEGORIES:Concert,Free Concert,Live Jazz,Live Jazz,Live Music,Wine Country Live Music
ATTACH;FMTTYPE=image/jpeg:https://tomgrant.com/wp-content/uploads/2024/03/TG_AllisonInn2024_SQ-scaled.jpg
GEO:45.3189709;-122.9454381
X-APPLE-STRUCTURED-LOCATION;VALUE=URI;X-ADDRESS=Allison Inn & Spa 2525 Allison Lane Newberg OR United States;X-APPLE-RADIUS=500;X-TITLE=2525 Allison Lane:geo:-122.9454381,45.3189709
END:VEVENT
BEGIN:VEVENT
DTSTART;TZID=America/Los_Angeles:20241022T180000
DTEND;TZID=America/Los_Angeles:20241022T200000
DTSTAMP:20260422T035741
CREATED:20240702T035152Z
LAST-MODIFIED:20240702T035152Z
UID:10002167-1729620000-1729627200@tomgrant.com
SUMMARY:Tuesdays at Nicoletta's
DESCRIPTION:Liven up your Tuesdays with Tom Grant. Live jazz\, delicious food\, and a relaxed atmosphere await you at Nicoletta’s Table in Lake Oswego.\nNO COVER. Reservations recommended: 503-699-2927.\n\n#PDXJazz #TomGrantJazzPDX #NicolettasTableLO #DateNight  #LOJazzSpot #PDXMusicScene #SupportLocalSpots #ShopLocal #SupporttheArts #TuesdayVibes #LakeOswegoLiveMusic
URL:https://tomgrant.com/event/tues-tunes-nicolettas-table-2022-02-01-2022-04-12-2-2-4/2024-10-22/
LOCATION:Nicoletta’s Table\, 333 South State Street\, Suite M\, Lake Oswego\, OR\, 97034\, United States
ATTACH;FMTTYPE=image/png:https://tomgrant.com/wp-content/uploads/2023/01/TG_Nicolettas-Patio-summer-2024-1.png
END:VEVENT
BEGIN:VEVENT
DTSTART;TZID=America/Los_Angeles:20241025T170000
DTEND;TZID=America/Los_Angeles:20241025T203000
DTSTAMP:20260422T035741
CREATED:20240314T182245Z
LAST-MODIFIED:20241101T232838Z
UID:10002911-1729875600-1729888200@tomgrant.com
SUMMARY:Tom Grant - Solo Piano at the Allison Inn
DESCRIPTION:
URL:https://tomgrant.com/event/tom-grant-solo-piano-at-the-alison-inn-2-2/2024-10-25/
LOCATION:Allison Inn & Spa\, 2525 Allison Lane\, Newberg\, OR\, United States
CATEGORIES:Concert,Free Concert,Live Jazz,Live Jazz,Live Music,Wine Country Live Music
ATTACH;FMTTYPE=image/jpeg:https://tomgrant.com/wp-content/uploads/2024/03/TG_AllisonInn2024_SQ-scaled.jpg
GEO:45.3189709;-122.9454381
X-APPLE-STRUCTURED-LOCATION;VALUE=URI;X-ADDRESS=Allison Inn & Spa 2525 Allison Lane Newberg OR United States;X-APPLE-RADIUS=500;X-TITLE=2525 Allison Lane:geo:-122.9454381,45.3189709
END:VEVENT
BEGIN:VEVENT
DTSTART;TZID=America/Los_Angeles:20241025T170000
DTEND;TZID=America/Los_Angeles:20241025T203000
DTSTAMP:20260422T035741
CREATED:20241125T224315Z
LAST-MODIFIED:20241125T224315Z
UID:10003143-1729875600-1729888200@tomgrant.com
SUMMARY:Tom Grant - Solo Piano at the Allison Inn
DESCRIPTION:
URL:https://tomgrant.com/event/tom-grant-solo-piano-at-the-allison-inn/2024-10-25/
LOCATION:Allison Inn & Spa\, 2525 Allison Lane\, Newberg\, OR\, United States
CATEGORIES:Concert,Free Concert,Live Jazz,Live Jazz,Live Music,Wine Country Live Music
ATTACH;FMTTYPE=image/jpeg:https://tomgrant.com/wp-content/uploads/2024/03/TG_AllisonInn2024_SQ-scaled.jpg
GEO:45.3189709;-122.9454381
X-APPLE-STRUCTURED-LOCATION;VALUE=URI;X-ADDRESS=Allison Inn & Spa 2525 Allison Lane Newberg OR United States;X-APPLE-RADIUS=500;X-TITLE=2525 Allison Lane:geo:-122.9454381,45.3189709
END:VEVENT
BEGIN:VEVENT
DTSTART;TZID=America/Los_Angeles:20241025T170000
DTEND;TZID=America/Los_Angeles:20241025T203000
DTSTAMP:20260422T035741
CREATED:20250414T184852Z
LAST-MODIFIED:20260331T235823Z
UID:10003168-1729875600-1729888200@tomgrant.com
SUMMARY:Solo Piano with Tom Grant at the Allison Inn
DESCRIPTION:Join Tom at the Allison Inn in Newberg for a lovely evening of music in wine country. You’ll find Tom at the piano between 5:00-8:00 PM.
URL:https://tomgrant.com/event/solo-piano-with-tom-grant-at-the-allison-inn/2024-10-25/
LOCATION:Allison Inn & Spa\, 2525 Allison Lane\, Newberg\, OR\, United States
CATEGORIES:Concert,Free Concert,Live Jazz,Live Jazz,Live Music,Wine Country Live Music
ATTACH;FMTTYPE=image/jpeg:https://tomgrant.com/wp-content/uploads/2024/03/TG_AllisonInn2024_SQ-scaled.jpg
GEO:45.3189709;-122.9454381
X-APPLE-STRUCTURED-LOCATION;VALUE=URI;X-ADDRESS=Allison Inn & Spa 2525 Allison Lane Newberg OR United States;X-APPLE-RADIUS=500;X-TITLE=2525 Allison Lane:geo:-122.9454381,45.3189709
END:VEVENT
BEGIN:VEVENT
DTSTART;TZID=America/Los_Angeles:20241029T180000
DTEND;TZID=America/Los_Angeles:20241029T200000
DTSTAMP:20260422T035741
CREATED:20240702T035152Z
LAST-MODIFIED:20240702T035152Z
UID:10002168-1730224800-1730232000@tomgrant.com
SUMMARY:Tuesdays at Nicoletta's
DESCRIPTION:Liven up your Tuesdays with Tom Grant. Live jazz\, delicious food\, and a relaxed atmosphere await you at Nicoletta’s Table in Lake Oswego.\nNO COVER. Reservations recommended: 503-699-2927.\n\n#PDXJazz #TomGrantJazzPDX #NicolettasTableLO #DateNight  #LOJazzSpot #PDXMusicScene #SupportLocalSpots #ShopLocal #SupporttheArts #TuesdayVibes #LakeOswegoLiveMusic
URL:https://tomgrant.com/event/tues-tunes-nicolettas-table-2022-02-01-2022-04-12-2-2-4/2024-10-29/
LOCATION:Nicoletta’s Table\, 333 South State Street\, Suite M\, Lake Oswego\, OR\, 97034\, United States
ATTACH;FMTTYPE=image/png:https://tomgrant.com/wp-content/uploads/2023/01/TG_Nicolettas-Patio-summer-2024-1.png
END:VEVENT
BEGIN:VEVENT
DTSTART;TZID=America/Los_Angeles:20241101T170000
DTEND;TZID=America/Los_Angeles:20241101T203000
DTSTAMP:20260422T035741
CREATED:20240314T182245Z
LAST-MODIFIED:20241101T232838Z
UID:10003108-1730480400-1730493000@tomgrant.com
SUMMARY:Tom Grant - Solo Piano at the Allison Inn
DESCRIPTION:
URL:https://tomgrant.com/event/tom-grant-solo-piano-at-the-alison-inn-2-2/2024-11-01/
LOCATION:Allison Inn & Spa\, 2525 Allison Lane\, Newberg\, OR\, United States
CATEGORIES:Concert,Free Concert,Live Jazz,Live Jazz,Live Music,Wine Country Live Music
ATTACH;FMTTYPE=image/jpeg:https://tomgrant.com/wp-content/uploads/2024/03/TG_AllisonInn2024_SQ-scaled.jpg
GEO:45.3189709;-122.9454381
X-APPLE-STRUCTURED-LOCATION;VALUE=URI;X-ADDRESS=Allison Inn & Spa 2525 Allison Lane Newberg OR United States;X-APPLE-RADIUS=500;X-TITLE=2525 Allison Lane:geo:-122.9454381,45.3189709
END:VEVENT
BEGIN:VEVENT
DTSTART;TZID=America/Los_Angeles:20241101T170000
DTEND;TZID=America/Los_Angeles:20241101T203000
DTSTAMP:20260422T035741
CREATED:20241125T224315Z
LAST-MODIFIED:20241125T224315Z
UID:10003144-1730480400-1730493000@tomgrant.com
SUMMARY:Tom Grant - Solo Piano at the Allison Inn
DESCRIPTION:
URL:https://tomgrant.com/event/tom-grant-solo-piano-at-the-allison-inn/2024-11-01/
LOCATION:Allison Inn & Spa\, 2525 Allison Lane\, Newberg\, OR\, United States
CATEGORIES:Concert,Free Concert,Live Jazz,Live Jazz,Live Music,Wine Country Live Music
ATTACH;FMTTYPE=image/jpeg:https://tomgrant.com/wp-content/uploads/2024/03/TG_AllisonInn2024_SQ-scaled.jpg
GEO:45.3189709;-122.9454381
X-APPLE-STRUCTURED-LOCATION;VALUE=URI;X-ADDRESS=Allison Inn & Spa 2525 Allison Lane Newberg OR United States;X-APPLE-RADIUS=500;X-TITLE=2525 Allison Lane:geo:-122.9454381,45.3189709
END:VEVENT
BEGIN:VEVENT
DTSTART;TZID=America/Los_Angeles:20241101T170000
DTEND;TZID=America/Los_Angeles:20241101T203000
DTSTAMP:20260422T035741
CREATED:20250414T184852Z
LAST-MODIFIED:20260331T235823Z
UID:10003169-1730480400-1730493000@tomgrant.com
SUMMARY:Solo Piano with Tom Grant at the Allison Inn
DESCRIPTION:Join Tom at the Allison Inn in Newberg for a lovely evening of music in wine country. You’ll find Tom at the piano between 5:00-8:00 PM.
URL:https://tomgrant.com/event/solo-piano-with-tom-grant-at-the-allison-inn/2024-11-01/
LOCATION:Allison Inn & Spa\, 2525 Allison Lane\, Newberg\, OR\, United States
CATEGORIES:Concert,Free Concert,Live Jazz,Live Jazz,Live Music,Wine Country Live Music
ATTACH;FMTTYPE=image/jpeg:https://tomgrant.com/wp-content/uploads/2024/03/TG_AllisonInn2024_SQ-scaled.jpg
GEO:45.3189709;-122.9454381
X-APPLE-STRUCTURED-LOCATION;VALUE=URI;X-ADDRESS=Allison Inn & Spa 2525 Allison Lane Newberg OR United States;X-APPLE-RADIUS=500;X-TITLE=2525 Allison Lane:geo:-122.9454381,45.3189709
END:VEVENT
BEGIN:VEVENT
DTSTART;TZID=America/Los_Angeles:20241105T180000
DTEND;TZID=America/Los_Angeles:20241105T200000
DTSTAMP:20260422T035741
CREATED:20240702T035152Z
LAST-MODIFIED:20240702T035152Z
UID:10002169-1730829600-1730836800@tomgrant.com
SUMMARY:Tuesdays at Nicoletta's
DESCRIPTION:Liven up your Tuesdays with Tom Grant. Live jazz\, delicious food\, and a relaxed atmosphere await you at Nicoletta’s Table in Lake Oswego.\nNO COVER. Reservations recommended: 503-699-2927.\n\n#PDXJazz #TomGrantJazzPDX #NicolettasTableLO #DateNight  #LOJazzSpot #PDXMusicScene #SupportLocalSpots #ShopLocal #SupporttheArts #TuesdayVibes #LakeOswegoLiveMusic
URL:https://tomgrant.com/event/tues-tunes-nicolettas-table-2022-02-01-2022-04-12-2-2-4/2024-11-05/
LOCATION:Nicoletta’s Table\, 333 South State Street\, Suite M\, Lake Oswego\, OR\, 97034\, United States
ATTACH;FMTTYPE=image/png:https://tomgrant.com/wp-content/uploads/2023/01/TG_Nicolettas-Patio-summer-2024-1.png
END:VEVENT
BEGIN:VEVENT
DTSTART;TZID=America/Los_Angeles:20241108T170000
DTEND;TZID=America/Los_Angeles:20241108T203000
DTSTAMP:20260422T035741
CREATED:20240314T182245Z
LAST-MODIFIED:20241101T232838Z
UID:10003109-1731085200-1731097800@tomgrant.com
SUMMARY:Tom Grant - Solo Piano at the Allison Inn
DESCRIPTION:
URL:https://tomgrant.com/event/tom-grant-solo-piano-at-the-alison-inn-2-2/2024-11-08/
LOCATION:Allison Inn & Spa\, 2525 Allison Lane\, Newberg\, OR\, United States
CATEGORIES:Concert,Free Concert,Live Jazz,Live Jazz,Live Music,Wine Country Live Music
ATTACH;FMTTYPE=image/jpeg:https://tomgrant.com/wp-content/uploads/2024/03/TG_AllisonInn2024_SQ-scaled.jpg
GEO:45.3189709;-122.9454381
X-APPLE-STRUCTURED-LOCATION;VALUE=URI;X-ADDRESS=Allison Inn & Spa 2525 Allison Lane Newberg OR United States;X-APPLE-RADIUS=500;X-TITLE=2525 Allison Lane:geo:-122.9454381,45.3189709
END:VEVENT
BEGIN:VEVENT
DTSTART;TZID=America/Los_Angeles:20241108T170000
DTEND;TZID=America/Los_Angeles:20241108T203000
DTSTAMP:20260422T035741
CREATED:20241125T224315Z
LAST-MODIFIED:20241125T224315Z
UID:10003145-1731085200-1731097800@tomgrant.com
SUMMARY:Tom Grant - Solo Piano at the Allison Inn
DESCRIPTION:
URL:https://tomgrant.com/event/tom-grant-solo-piano-at-the-allison-inn/2024-11-08/
LOCATION:Allison Inn & Spa\, 2525 Allison Lane\, Newberg\, OR\, United States
CATEGORIES:Concert,Free Concert,Live Jazz,Live Jazz,Live Music,Wine Country Live Music
ATTACH;FMTTYPE=image/jpeg:https://tomgrant.com/wp-content/uploads/2024/03/TG_AllisonInn2024_SQ-scaled.jpg
GEO:45.3189709;-122.9454381
X-APPLE-STRUCTURED-LOCATION;VALUE=URI;X-ADDRESS=Allison Inn & Spa 2525 Allison Lane Newberg OR United States;X-APPLE-RADIUS=500;X-TITLE=2525 Allison Lane:geo:-122.9454381,45.3189709
END:VEVENT
BEGIN:VEVENT
DTSTART;TZID=America/Los_Angeles:20241108T170000
DTEND;TZID=America/Los_Angeles:20241108T203000
DTSTAMP:20260422T035741
CREATED:20250414T184852Z
LAST-MODIFIED:20260331T235823Z
UID:10003170-1731085200-1731097800@tomgrant.com
SUMMARY:Solo Piano with Tom Grant at the Allison Inn
DESCRIPTION:Join Tom at the Allison Inn in Newberg for a lovely evening of music in wine country. You’ll find Tom at the piano between 5:00-8:00 PM.
URL:https://tomgrant.com/event/solo-piano-with-tom-grant-at-the-allison-inn/2024-11-08/
LOCATION:Allison Inn & Spa\, 2525 Allison Lane\, Newberg\, OR\, United States
CATEGORIES:Concert,Free Concert,Live Jazz,Live Jazz,Live Music,Wine Country Live Music
ATTACH;FMTTYPE=image/jpeg:https://tomgrant.com/wp-content/uploads/2024/03/TG_AllisonInn2024_SQ-scaled.jpg
GEO:45.3189709;-122.9454381
X-APPLE-STRUCTURED-LOCATION;VALUE=URI;X-ADDRESS=Allison Inn & Spa 2525 Allison Lane Newberg OR United States;X-APPLE-RADIUS=500;X-TITLE=2525 Allison Lane:geo:-122.9454381,45.3189709
END:VEVENT
BEGIN:VEVENT
DTSTART;TZID=America/Los_Angeles:20241110T193000
DTEND;TZID=America/Los_Angeles:20241110T220000
DTSTAMP:20260422T035741
CREATED:20241101T233110Z
LAST-MODIFIED:20241102T002625Z
UID:10003112-1731267000-1731276000@tomgrant.com
SUMMARY:Ron Steen Jam | Tom Grant\, Phil Baker
DESCRIPTION:Celebrating 20 years of the Ron Steen Jam at Clyde’s Prime Rib.  The Jam features Tom Grant on piano and Phil Baker on bass! \n  \n 
URL:https://tomgrant.com/event/ron-steen-jam-tom-grant-phil-baker-2/
LOCATION:Clyde’s  Prime Rib\, 5474 NE Sandy Blvd\, Ptld\, OR\, United States
CATEGORIES:Club gig,Live Jazz
ATTACH;FMTTYPE=image/png:https://tomgrant.com/wp-content/uploads/2024/11/TG_Ron-Steen-Jam-Nov-2024-1.png
END:VEVENT
BEGIN:VEVENT
DTSTART;TZID=America/Los_Angeles:20241112T180000
DTEND;TZID=America/Los_Angeles:20241112T200000
DTSTAMP:20260422T035741
CREATED:20240702T035152Z
LAST-MODIFIED:20240702T035152Z
UID:10002170-1731434400-1731441600@tomgrant.com
SUMMARY:Tuesdays at Nicoletta's
DESCRIPTION:Liven up your Tuesdays with Tom Grant. Live jazz\, delicious food\, and a relaxed atmosphere await you at Nicoletta’s Table in Lake Oswego.\nNO COVER. Reservations recommended: 503-699-2927.\n\n#PDXJazz #TomGrantJazzPDX #NicolettasTableLO #DateNight  #LOJazzSpot #PDXMusicScene #SupportLocalSpots #ShopLocal #SupporttheArts #TuesdayVibes #LakeOswegoLiveMusic
URL:https://tomgrant.com/event/tues-tunes-nicolettas-table-2022-02-01-2022-04-12-2-2-4/2024-11-12/
LOCATION:Nicoletta’s Table\, 333 South State Street\, Suite M\, Lake Oswego\, OR\, 97034\, United States
ATTACH;FMTTYPE=image/png:https://tomgrant.com/wp-content/uploads/2023/01/TG_Nicolettas-Patio-summer-2024-1.png
END:VEVENT
BEGIN:VEVENT
DTSTART;TZID=America/Los_Angeles:20241115T170000
DTEND;TZID=America/Los_Angeles:20241115T203000
DTSTAMP:20260422T035741
CREATED:20240314T182245Z
LAST-MODIFIED:20241101T232838Z
UID:10003110-1731690000-1731702600@tomgrant.com
SUMMARY:Tom Grant - Solo Piano at the Allison Inn
DESCRIPTION:
URL:https://tomgrant.com/event/tom-grant-solo-piano-at-the-alison-inn-2-2/2024-11-15/
LOCATION:Allison Inn & Spa\, 2525 Allison Lane\, Newberg\, OR\, United States
CATEGORIES:Concert,Free Concert,Live Jazz,Live Jazz,Live Music,Wine Country Live Music
ATTACH;FMTTYPE=image/jpeg:https://tomgrant.com/wp-content/uploads/2024/03/TG_AllisonInn2024_SQ-scaled.jpg
GEO:45.3189709;-122.9454381
X-APPLE-STRUCTURED-LOCATION;VALUE=URI;X-ADDRESS=Allison Inn & Spa 2525 Allison Lane Newberg OR United States;X-APPLE-RADIUS=500;X-TITLE=2525 Allison Lane:geo:-122.9454381,45.3189709
END:VEVENT
BEGIN:VEVENT
DTSTART;TZID=America/Los_Angeles:20241115T170000
DTEND;TZID=America/Los_Angeles:20241115T203000
DTSTAMP:20260422T035741
CREATED:20241125T224315Z
LAST-MODIFIED:20241125T224315Z
UID:10003146-1731690000-1731702600@tomgrant.com
SUMMARY:Tom Grant - Solo Piano at the Allison Inn
DESCRIPTION:
URL:https://tomgrant.com/event/tom-grant-solo-piano-at-the-allison-inn/2024-11-15/
LOCATION:Allison Inn & Spa\, 2525 Allison Lane\, Newberg\, OR\, United States
CATEGORIES:Concert,Free Concert,Live Jazz,Live Jazz,Live Music,Wine Country Live Music
ATTACH;FMTTYPE=image/jpeg:https://tomgrant.com/wp-content/uploads/2024/03/TG_AllisonInn2024_SQ-scaled.jpg
GEO:45.3189709;-122.9454381
X-APPLE-STRUCTURED-LOCATION;VALUE=URI;X-ADDRESS=Allison Inn & Spa 2525 Allison Lane Newberg OR United States;X-APPLE-RADIUS=500;X-TITLE=2525 Allison Lane:geo:-122.9454381,45.3189709
END:VEVENT
BEGIN:VEVENT
DTSTART;TZID=America/Los_Angeles:20241115T170000
DTEND;TZID=America/Los_Angeles:20241115T203000
DTSTAMP:20260422T035741
CREATED:20250414T184852Z
LAST-MODIFIED:20260331T235823Z
UID:10003171-1731690000-1731702600@tomgrant.com
SUMMARY:Solo Piano with Tom Grant at the Allison Inn
DESCRIPTION:Join Tom at the Allison Inn in Newberg for a lovely evening of music in wine country. You’ll find Tom at the piano between 5:00-8:00 PM.
URL:https://tomgrant.com/event/solo-piano-with-tom-grant-at-the-allison-inn/2024-11-15/
LOCATION:Allison Inn & Spa\, 2525 Allison Lane\, Newberg\, OR\, United States
CATEGORIES:Concert,Free Concert,Live Jazz,Live Jazz,Live Music,Wine Country Live Music
ATTACH;FMTTYPE=image/jpeg:https://tomgrant.com/wp-content/uploads/2024/03/TG_AllisonInn2024_SQ-scaled.jpg
GEO:45.3189709;-122.9454381
X-APPLE-STRUCTURED-LOCATION;VALUE=URI;X-ADDRESS=Allison Inn & Spa 2525 Allison Lane Newberg OR United States;X-APPLE-RADIUS=500;X-TITLE=2525 Allison Lane:geo:-122.9454381,45.3189709
END:VEVENT
BEGIN:VEVENT
DTSTART;TZID=America/Los_Angeles:20241119T180000
DTEND;TZID=America/Los_Angeles:20241119T200000
DTSTAMP:20260422T035741
CREATED:20240702T035152Z
LAST-MODIFIED:20240702T035152Z
UID:10002171-1732039200-1732046400@tomgrant.com
SUMMARY:Tuesdays at Nicoletta's
DESCRIPTION:Liven up your Tuesdays with Tom Grant. Live jazz\, delicious food\, and a relaxed atmosphere await you at Nicoletta’s Table in Lake Oswego.\nNO COVER. Reservations recommended: 503-699-2927.\n\n#PDXJazz #TomGrantJazzPDX #NicolettasTableLO #DateNight  #LOJazzSpot #PDXMusicScene #SupportLocalSpots #ShopLocal #SupporttheArts #TuesdayVibes #LakeOswegoLiveMusic
URL:https://tomgrant.com/event/tues-tunes-nicolettas-table-2022-02-01-2022-04-12-2-2-4/2024-11-19/
LOCATION:Nicoletta’s Table\, 333 South State Street\, Suite M\, Lake Oswego\, OR\, 97034\, United States
ATTACH;FMTTYPE=image/png:https://tomgrant.com/wp-content/uploads/2023/01/TG_Nicolettas-Patio-summer-2024-1.png
END:VEVENT
BEGIN:VEVENT
DTSTART;TZID=America/Los_Angeles:20241126T180000
DTEND;TZID=America/Los_Angeles:20241126T200000
DTSTAMP:20260422T035741
CREATED:20241125T222115Z
LAST-MODIFIED:20241125T223725Z
UID:10002172-1732644000-1732651200@tomgrant.com
SUMMARY:Tuesdays at Nicoletta's
DESCRIPTION:Liven up your Tuesdays with Tom Grant. Live jazz\, delicious food\, and a relaxed atmosphere await you at Nicoletta’s Table in Lake Oswego.\nNO COVER. Reservations recommended: 503-699-2927.\n\n#PDXJazz #TomGrantJazzPDX #NicolettasTableLO #DateNight  #LOJazzSpot #PDXMusicScene #SupportLocalSpots #ShopLocal #SupporttheArts #TuesdayVibes #LakeOswegoLiveMusic
URL:https://tomgrant.com/event/tues-tunes-nicolettas-table-2022-02-01-2022-04-12-2-2-4-2/2024-11-26/
LOCATION:Nicoletta’s Table\, 333 South State Street\, Suite M\, Lake Oswego\, OR\, 97034\, United States
ATTACH;FMTTYPE=image/png:https://tomgrant.com/wp-content/uploads/2023/01/TG_Nicolettas-2024-SQ-3.png
END:VEVENT
BEGIN:VEVENT
DTSTART;TZID=America/Los_Angeles:20241129T170000
DTEND;TZID=America/Los_Angeles:20241129T203000
DTSTAMP:20260422T035741
CREATED:20240314T182245Z
LAST-MODIFIED:20241101T232838Z
UID:10003111-1732899600-1732912200@tomgrant.com
SUMMARY:Tom Grant - Solo Piano at the Allison Inn
DESCRIPTION:
URL:https://tomgrant.com/event/tom-grant-solo-piano-at-the-alison-inn-2-2/2024-11-29/
LOCATION:Allison Inn & Spa\, 2525 Allison Lane\, Newberg\, OR\, United States
CATEGORIES:Concert,Free Concert,Live Jazz,Live Jazz,Live Music,Wine Country Live Music
ATTACH;FMTTYPE=image/jpeg:https://tomgrant.com/wp-content/uploads/2024/03/TG_AllisonInn2024_SQ-scaled.jpg
GEO:45.3189709;-122.9454381
X-APPLE-STRUCTURED-LOCATION;VALUE=URI;X-ADDRESS=Allison Inn & Spa 2525 Allison Lane Newberg OR United States;X-APPLE-RADIUS=500;X-TITLE=2525 Allison Lane:geo:-122.9454381,45.3189709
END:VEVENT
BEGIN:VEVENT
DTSTART;TZID=America/Los_Angeles:20241129T170000
DTEND;TZID=America/Los_Angeles:20241129T203000
DTSTAMP:20260422T035741
CREATED:20241125T224315Z
LAST-MODIFIED:20241125T224315Z
UID:10003147-1732899600-1732912200@tomgrant.com
SUMMARY:Tom Grant - Solo Piano at the Allison Inn
DESCRIPTION:
URL:https://tomgrant.com/event/tom-grant-solo-piano-at-the-allison-inn/2024-11-29/
LOCATION:Allison Inn & Spa\, 2525 Allison Lane\, Newberg\, OR\, United States
CATEGORIES:Concert,Free Concert,Live Jazz,Live Jazz,Live Music,Wine Country Live Music
ATTACH;FMTTYPE=image/jpeg:https://tomgrant.com/wp-content/uploads/2024/03/TG_AllisonInn2024_SQ-scaled.jpg
GEO:45.3189709;-122.9454381
X-APPLE-STRUCTURED-LOCATION;VALUE=URI;X-ADDRESS=Allison Inn & Spa 2525 Allison Lane Newberg OR United States;X-APPLE-RADIUS=500;X-TITLE=2525 Allison Lane:geo:-122.9454381,45.3189709
END:VEVENT
BEGIN:VEVENT
DTSTART;TZID=America/Los_Angeles:20241129T170000
DTEND;TZID=America/Los_Angeles:20241129T203000
DTSTAMP:20260422T035741
CREATED:20250414T184852Z
LAST-MODIFIED:20260331T235823Z
UID:10003172-1732899600-1732912200@tomgrant.com
SUMMARY:Solo Piano with Tom Grant at the Allison Inn
DESCRIPTION:Join Tom at the Allison Inn in Newberg for a lovely evening of music in wine country. You’ll find Tom at the piano between 5:00-8:00 PM.
URL:https://tomgrant.com/event/solo-piano-with-tom-grant-at-the-allison-inn/2024-11-29/
LOCATION:Allison Inn & Spa\, 2525 Allison Lane\, Newberg\, OR\, United States
CATEGORIES:Concert,Free Concert,Live Jazz,Live Jazz,Live Music,Wine Country Live Music
ATTACH;FMTTYPE=image/jpeg:https://tomgrant.com/wp-content/uploads/2024/03/TG_AllisonInn2024_SQ-scaled.jpg
GEO:45.3189709;-122.9454381
X-APPLE-STRUCTURED-LOCATION;VALUE=URI;X-ADDRESS=Allison Inn & Spa 2525 Allison Lane Newberg OR United States;X-APPLE-RADIUS=500;X-TITLE=2525 Allison Lane:geo:-122.9454381,45.3189709
END:VEVENT
BEGIN:VEVENT
DTSTART;TZID=America/Los_Angeles:20241203T180000
DTEND;TZID=America/Los_Angeles:20241203T200000
DTSTAMP:20260422T035741
CREATED:20241125T222115Z
LAST-MODIFIED:20241125T223725Z
UID:10002173-1733248800-1733256000@tomgrant.com
SUMMARY:Tuesdays at Nicoletta's
DESCRIPTION:Liven up your Tuesdays with Tom Grant. Live jazz\, delicious food\, and a relaxed atmosphere await you at Nicoletta’s Table in Lake Oswego.\nNO COVER. Reservations recommended: 503-699-2927.\n\n#PDXJazz #TomGrantJazzPDX #NicolettasTableLO #DateNight  #LOJazzSpot #PDXMusicScene #SupportLocalSpots #ShopLocal #SupporttheArts #TuesdayVibes #LakeOswegoLiveMusic
URL:https://tomgrant.com/event/tues-tunes-nicolettas-table-2022-02-01-2022-04-12-2-2-4-2/2024-12-03/
LOCATION:Nicoletta’s Table\, 333 South State Street\, Suite M\, Lake Oswego\, OR\, 97034\, United States
ATTACH;FMTTYPE=image/png:https://tomgrant.com/wp-content/uploads/2023/01/TG_Nicolettas-2024-SQ-3.png
END:VEVENT
BEGIN:VEVENT
DTSTART;TZID=America/Los_Angeles:20241204T180000
DTEND;TZID=America/Los_Angeles:20241204T190000
DTSTAMP:20260422T035741
CREATED:20241116T022700Z
LAST-MODIFIED:20241119T054513Z
UID:10003114-1733335200-1733338800@tomgrant.com
SUMMARY:CD Release/ In-store performance at Music Millenium
DESCRIPTION:Join us at Music Millennium as we celebrate the album that helped launch Tom Grant’s illustrious career. \nPre-order your copy of Tom Grant HERE. \nOriginally released in 1983\, this self titled release contains some of Tom’s most recognized work including Whitchitai-To\, The Morning Show\, and many others.
URL:https://tomgrant.com/event/cd-release-in-store-performance-at-music-millenium/
LOCATION:Music Millenium\, 3158 East Burnside\, Portland\, United States
CATEGORIES:CD Release
ATTACH;FMTTYPE=image/jpeg:https://tomgrant.com/wp-content/uploads/2024/11/TG-Music-Millennium-Insta-scaled.jpg
GEO:45.5226793;-122.6319958
X-APPLE-STRUCTURED-LOCATION;VALUE=URI;X-ADDRESS=Music Millenium 3158 East Burnside Portland United States;X-APPLE-RADIUS=500;X-TITLE=3158 East Burnside:geo:-122.6319958,45.5226793
END:VEVENT
BEGIN:VEVENT
DTSTART;VALUE=DATE:20241206
DTEND;VALUE=DATE:20241208
DTSTAMP:20260422T035741
CREATED:20241124T211651Z
LAST-MODIFIED:20241124T214445Z
UID:10003115-1733446800-1733533199@tomgrant.com
SUMMARY:Holiday at The University Club (Private event)
DESCRIPTION:Tom will be performing for the annual Holiday gathering at the University Club in Portland.  To book Tom for your holiday party or company gathering\, please send and email to info@tomgrant.com.
URL:https://tomgrant.com/event/holiday-at-the-university-club-private-event/
LOCATION:OR
CATEGORIES:Downtown Portland,Holiday Event,Private Event
ATTACH;FMTTYPE=image/jpeg:https://tomgrant.com/wp-content/uploads/2019/11/TGHolidayEngagementsSQ-e1574640803685.jpg
END:VEVENT
BEGIN:VEVENT
DTSTART;TZID=America/Los_Angeles:20241208T180000
DTEND;TZID=America/Los_Angeles:20241208T200000
DTSTAMP:20260422T035741
CREATED:20241125T223457Z
LAST-MODIFIED:20241125T223457Z
UID:10003131-1733680800-1733688000@tomgrant.com
SUMMARY:Private Holiday Party
DESCRIPTION:
URL:https://tomgrant.com/event/private-holiday-party-2/
LOCATION:OR
ATTACH;FMTTYPE=image/jpeg:https://tomgrant.com/wp-content/uploads/2019/11/TGHolidayEngagementsSQ-e1574640803685.jpg
END:VEVENT
BEGIN:VEVENT
DTSTART;TZID=America/Los_Angeles:20241210T180000
DTEND;TZID=America/Los_Angeles:20241210T200000
DTSTAMP:20260422T035741
CREATED:20241125T222115Z
LAST-MODIFIED:20241125T223725Z
UID:10002174-1733853600-1733860800@tomgrant.com
SUMMARY:Tuesdays at Nicoletta's
DESCRIPTION:Liven up your Tuesdays with Tom Grant. Live jazz\, delicious food\, and a relaxed atmosphere await you at Nicoletta’s Table in Lake Oswego.\nNO COVER. Reservations recommended: 503-699-2927.\n\n#PDXJazz #TomGrantJazzPDX #NicolettasTableLO #DateNight  #LOJazzSpot #PDXMusicScene #SupportLocalSpots #ShopLocal #SupporttheArts #TuesdayVibes #LakeOswegoLiveMusic
URL:https://tomgrant.com/event/tues-tunes-nicolettas-table-2022-02-01-2022-04-12-2-2-4-2/2024-12-10/
LOCATION:Nicoletta’s Table\, 333 South State Street\, Suite M\, Lake Oswego\, OR\, 97034\, United States
ATTACH;FMTTYPE=image/png:https://tomgrant.com/wp-content/uploads/2023/01/TG_Nicolettas-2024-SQ-3.png
END:VEVENT
BEGIN:VEVENT
DTSTART;TZID=America/Los_Angeles:20241213T170000
DTEND;TZID=America/Los_Angeles:20241213T203000
DTSTAMP:20260422T035741
CREATED:20241125T224315Z
LAST-MODIFIED:20241125T224315Z
UID:10003148-1734109200-1734121800@tomgrant.com
SUMMARY:Tom Grant - Solo Piano at the Allison Inn
DESCRIPTION:
URL:https://tomgrant.com/event/tom-grant-solo-piano-at-the-allison-inn/2024-12-13/
LOCATION:Allison Inn & Spa\, 2525 Allison Lane\, Newberg\, OR\, United States
CATEGORIES:Concert,Free Concert,Live Jazz,Live Jazz,Live Music,Wine Country Live Music
ATTACH;FMTTYPE=image/jpeg:https://tomgrant.com/wp-content/uploads/2024/03/TG_AllisonInn2024_SQ-scaled.jpg
GEO:45.3189709;-122.9454381
X-APPLE-STRUCTURED-LOCATION;VALUE=URI;X-ADDRESS=Allison Inn & Spa 2525 Allison Lane Newberg OR United States;X-APPLE-RADIUS=500;X-TITLE=2525 Allison Lane:geo:-122.9454381,45.3189709
END:VEVENT
END:VCALENDAR