BEGIN:VCALENDAR
VERSION:2.0
PRODID:-//Tom Grant - ECPv6.15.20//NONSGML v1.0//EN
CALSCALE:GREGORIAN
METHOD:PUBLISH
X-ORIGINAL-URL:https://tomgrant.com
X-WR-CALDESC:Events for Tom Grant
REFRESH-INTERVAL;VALUE=DURATION:PT1H
X-Robots-Tag:noindex
X-PUBLISHED-TTL:PT1H
BEGIN:VTIMEZONE
TZID:America/Los_Angeles
BEGIN:DAYLIGHT
TZOFFSETFROM:-0800
TZOFFSETTO:-0700
TZNAME:PDT
DTSTART:20230312T100000
END:DAYLIGHT
BEGIN:STANDARD
TZOFFSETFROM:-0700
TZOFFSETTO:-0800
TZNAME:PST
DTSTART:20231105T090000
END:STANDARD
BEGIN:DAYLIGHT
TZOFFSETFROM:-0800
TZOFFSETTO:-0700
TZNAME:PDT
DTSTART:20240310T100000
END:DAYLIGHT
BEGIN:STANDARD
TZOFFSETFROM:-0700
TZOFFSETTO:-0800
TZNAME:PST
DTSTART:20241103T090000
END:STANDARD
BEGIN:DAYLIGHT
TZOFFSETFROM:-0800
TZOFFSETTO:-0700
TZNAME:PDT
DTSTART:20250309T100000
END:DAYLIGHT
BEGIN:STANDARD
TZOFFSETFROM:-0700
TZOFFSETTO:-0800
TZNAME:PST
DTSTART:20251102T090000
END:STANDARD
BEGIN:DAYLIGHT
TZOFFSETFROM:-0800
TZOFFSETTO:-0700
TZNAME:PDT
DTSTART:20260308T100000
END:DAYLIGHT
BEGIN:STANDARD
TZOFFSETFROM:-0700
TZOFFSETTO:-0800
TZNAME:PST
DTSTART:20261101T090000
END:STANDARD
END:VTIMEZONE
BEGIN:VEVENT
DTSTART;TZID=America/Los_Angeles:20241227T170000
DTEND;TZID=America/Los_Angeles:20241227T203000
DTSTAMP:20260422T081329
CREATED:20250414T184852Z
LAST-MODIFIED:20260331T235823Z
UID:10003174-1735318800-1735331400@tomgrant.com
SUMMARY:Solo Piano with Tom Grant at the Allison Inn
DESCRIPTION:Join Tom at the Allison Inn in Newberg for a lovely evening of music in wine country. You’ll find Tom at the piano between 5:00-8:00 PM.
URL:https://tomgrant.com/event/solo-piano-with-tom-grant-at-the-allison-inn/2024-12-27/
LOCATION:Allison Inn & Spa\, 2525 Allison Lane\, Newberg\, OR\, United States
CATEGORIES:Concert,Free Concert,Live Jazz,Live Jazz,Live Music,Wine Country Live Music
ATTACH;FMTTYPE=image/jpeg:https://tomgrant.com/wp-content/uploads/2024/03/TG_AllisonInn2024_SQ-scaled.jpg
GEO:45.3189709;-122.9454381
X-APPLE-STRUCTURED-LOCATION;VALUE=URI;X-ADDRESS=Allison Inn & Spa 2525 Allison Lane Newberg OR United States;X-APPLE-RADIUS=500;X-TITLE=2525 Allison Lane:geo:-122.9454381,45.3189709
END:VEVENT
BEGIN:VEVENT
DTSTART;TZID=America/Los_Angeles:20241228T170000
DTEND;TZID=America/Los_Angeles:20241228T203000
DTSTAMP:20260422T081329
CREATED:20241125T224315Z
LAST-MODIFIED:20241125T224315Z
UID:10003150-1735405200-1735417800@tomgrant.com
SUMMARY:Tom Grant - Solo Piano at the Allison Inn
DESCRIPTION:
URL:https://tomgrant.com/event/tom-grant-solo-piano-at-the-allison-inn/2024-12-28/
LOCATION:Allison Inn & Spa\, 2525 Allison Lane\, Newberg\, OR\, United States
CATEGORIES:Concert,Free Concert,Live Jazz,Live Jazz,Live Music,Wine Country Live Music
ATTACH;FMTTYPE=image/jpeg:https://tomgrant.com/wp-content/uploads/2024/03/TG_AllisonInn2024_SQ-scaled.jpg
GEO:45.3189709;-122.9454381
X-APPLE-STRUCTURED-LOCATION;VALUE=URI;X-ADDRESS=Allison Inn & Spa 2525 Allison Lane Newberg OR United States;X-APPLE-RADIUS=500;X-TITLE=2525 Allison Lane:geo:-122.9454381,45.3189709
END:VEVENT
BEGIN:VEVENT
DTSTART;TZID=America/Los_Angeles:20241228T170000
DTEND;TZID=America/Los_Angeles:20241228T203000
DTSTAMP:20260422T081329
CREATED:20250414T184852Z
LAST-MODIFIED:20260331T235823Z
UID:10003175-1735405200-1735417800@tomgrant.com
SUMMARY:Solo Piano with Tom Grant at the Allison Inn
DESCRIPTION:Join Tom at the Allison Inn in Newberg for a lovely evening of music in wine country. You’ll find Tom at the piano between 5:00-8:00 PM.
URL:https://tomgrant.com/event/solo-piano-with-tom-grant-at-the-allison-inn/2024-12-28/
LOCATION:Allison Inn & Spa\, 2525 Allison Lane\, Newberg\, OR\, United States
CATEGORIES:Concert,Free Concert,Live Jazz,Live Jazz,Live Music,Wine Country Live Music
ATTACH;FMTTYPE=image/jpeg:https://tomgrant.com/wp-content/uploads/2024/03/TG_AllisonInn2024_SQ-scaled.jpg
GEO:45.3189709;-122.9454381
X-APPLE-STRUCTURED-LOCATION;VALUE=URI;X-ADDRESS=Allison Inn & Spa 2525 Allison Lane Newberg OR United States;X-APPLE-RADIUS=500;X-TITLE=2525 Allison Lane:geo:-122.9454381,45.3189709
END:VEVENT
BEGIN:VEVENT
DTSTART;TZID=America/Los_Angeles:20241230T180000
DTEND;TZID=America/Los_Angeles:20241230T210000
DTSTAMP:20260422T081329
CREATED:20241102T002824Z
LAST-MODIFIED:20241125T222834Z
UID:10003113-1735581600-1735592400@tomgrant.com
SUMMARY:Private Event: Shelly Rudoph and Tom Grant
DESCRIPTION:
URL:https://tomgrant.com/event/private-event-shelly-rudoph-and-tom-grant/
LOCATION:OR
ATTACH;FMTTYPE=image/jpeg:https://tomgrant.com/wp-content/uploads/2022/02/TomGrant-ShellyRudolph-COASTER-Mar-2022-e1730507294812.jpeg
END:VEVENT
BEGIN:VEVENT
DTSTART;TZID=America/Los_Angeles:20241231T180000
DTEND;TZID=America/Los_Angeles:20241231T200000
DTSTAMP:20260422T081329
CREATED:20241125T222115Z
LAST-MODIFIED:20241125T223725Z
UID:10003265-1735668000-1735675200@tomgrant.com
SUMMARY:Tuesdays at Nicoletta's
DESCRIPTION:Liven up your Tuesdays with Tom Grant. Live jazz\, delicious food\, and a relaxed atmosphere await you at Nicoletta’s Table in Lake Oswego.\nNO COVER. Reservations recommended: 503-699-2927.\n\n#PDXJazz #TomGrantJazzPDX #NicolettasTableLO #DateNight  #LOJazzSpot #PDXMusicScene #SupportLocalSpots #ShopLocal #SupporttheArts #TuesdayVibes #LakeOswegoLiveMusic
URL:https://tomgrant.com/event/tues-tunes-nicolettas-table-2022-02-01-2022-04-12-2-2-4-2/2024-12-31/
LOCATION:Nicoletta’s Table\, 333 South State Street\, Suite M\, Lake Oswego\, OR\, 97034\, United States
ATTACH;FMTTYPE=image/png:https://tomgrant.com/wp-content/uploads/2023/01/TG_Nicolettas-2024-SQ-3.png
END:VEVENT
BEGIN:VEVENT
DTSTART;TZID=America/Los_Angeles:20250107T180000
DTEND;TZID=America/Los_Angeles:20250107T200000
DTSTAMP:20260422T081329
CREATED:20241125T222115Z
LAST-MODIFIED:20241125T223725Z
UID:10002178-1736272800-1736280000@tomgrant.com
SUMMARY:Tuesdays at Nicoletta's
DESCRIPTION:Liven up your Tuesdays with Tom Grant. Live jazz\, delicious food\, and a relaxed atmosphere await you at Nicoletta’s Table in Lake Oswego.\nNO COVER. Reservations recommended: 503-699-2927.\n\n#PDXJazz #TomGrantJazzPDX #NicolettasTableLO #DateNight  #LOJazzSpot #PDXMusicScene #SupportLocalSpots #ShopLocal #SupporttheArts #TuesdayVibes #LakeOswegoLiveMusic
URL:https://tomgrant.com/event/tues-tunes-nicolettas-table-2022-02-01-2022-04-12-2-2-4-2/2025-01-07/
LOCATION:Nicoletta’s Table\, 333 South State Street\, Suite M\, Lake Oswego\, OR\, 97034\, United States
ATTACH;FMTTYPE=image/png:https://tomgrant.com/wp-content/uploads/2023/01/TG_Nicolettas-2024-SQ-3.png
END:VEVENT
BEGIN:VEVENT
DTSTART;TZID=America/Los_Angeles:20250114T180000
DTEND;TZID=America/Los_Angeles:20250114T200000
DTSTAMP:20260422T081329
CREATED:20241125T222115Z
LAST-MODIFIED:20241125T223725Z
UID:10002200-1736877600-1736884800@tomgrant.com
SUMMARY:Tuesdays at Nicoletta's
DESCRIPTION:Liven up your Tuesdays with Tom Grant. Live jazz\, delicious food\, and a relaxed atmosphere await you at Nicoletta’s Table in Lake Oswego.\nNO COVER. Reservations recommended: 503-699-2927.\n\n#PDXJazz #TomGrantJazzPDX #NicolettasTableLO #DateNight  #LOJazzSpot #PDXMusicScene #SupportLocalSpots #ShopLocal #SupporttheArts #TuesdayVibes #LakeOswegoLiveMusic
URL:https://tomgrant.com/event/tues-tunes-nicolettas-table-2022-02-01-2022-04-12-2-2-4-2/2025-01-14/
LOCATION:Nicoletta’s Table\, 333 South State Street\, Suite M\, Lake Oswego\, OR\, 97034\, United States
ATTACH;FMTTYPE=image/png:https://tomgrant.com/wp-content/uploads/2023/01/TG_Nicolettas-2024-SQ-3.png
END:VEVENT
BEGIN:VEVENT
DTSTART;TZID=America/Los_Angeles:20250117T190000
DTEND;TZID=America/Los_Angeles:20250117T210000
DTSTAMP:20260422T081329
CREATED:20250110T172512Z
LAST-MODIFIED:20250110T173047Z
UID:10003152-1737140400-1737147600@tomgrant.com
SUMMARY:Terwilliger Plaza Appearance
DESCRIPTION:Tom will be performing for the residents and staff of the beautiful Terwilliger Plaza on January 17.
URL:https://tomgrant.com/event/terwilliger-plaza-appearance/
LOCATION:Terwilliger Plaza
CATEGORIES:Downtown Portland
ATTACH;FMTTYPE=image/jpeg:https://tomgrant.com/wp-content/uploads/2025/01/Terwilliger-Plaza.jpg
END:VEVENT
BEGIN:VEVENT
DTSTART;TZID=America/Los_Angeles:20250119T193000
DTEND;TZID=America/Los_Angeles:20250119T220000
DTSTAMP:20260422T081329
CREATED:20250110T173511Z
LAST-MODIFIED:20250801T224858Z
UID:10003153-1737315000-1737324000@tomgrant.com
SUMMARY:Ron Steen Jam @ Clyde's
DESCRIPTION:Tom will be joining Ron Steen’s Sunday night Jam at Clyde’s.
URL:https://tomgrant.com/event/ron-steen-jam-clydes-3/2025-01-19/
LOCATION:Clyde’s  Prime Rib\, 5474 NE Sandy Blvd\, Ptld\, OR\, United States
ATTACH;FMTTYPE=image/jpeg:https://tomgrant.com/wp-content/uploads/2025/01/Clydes-Prime-Rib-logo@2x-1.jpg
END:VEVENT
BEGIN:VEVENT
DTSTART;TZID=America/Los_Angeles:20250121T180000
DTEND;TZID=America/Los_Angeles:20250121T200000
DTSTAMP:20260422T081329
CREATED:20241125T222115Z
LAST-MODIFIED:20241125T223725Z
UID:10002201-1737482400-1737489600@tomgrant.com
SUMMARY:Tuesdays at Nicoletta's
DESCRIPTION:Liven up your Tuesdays with Tom Grant. Live jazz\, delicious food\, and a relaxed atmosphere await you at Nicoletta’s Table in Lake Oswego.\nNO COVER. Reservations recommended: 503-699-2927.\n\n#PDXJazz #TomGrantJazzPDX #NicolettasTableLO #DateNight  #LOJazzSpot #PDXMusicScene #SupportLocalSpots #ShopLocal #SupporttheArts #TuesdayVibes #LakeOswegoLiveMusic
URL:https://tomgrant.com/event/tues-tunes-nicolettas-table-2022-02-01-2022-04-12-2-2-4-2/2025-01-21/
LOCATION:Nicoletta’s Table\, 333 South State Street\, Suite M\, Lake Oswego\, OR\, 97034\, United States
ATTACH;FMTTYPE=image/png:https://tomgrant.com/wp-content/uploads/2023/01/TG_Nicolettas-2024-SQ-3.png
END:VEVENT
BEGIN:VEVENT
DTSTART;TZID=America/Los_Angeles:20250128T180000
DTEND;TZID=America/Los_Angeles:20250128T200000
DTSTAMP:20260422T081329
CREATED:20241125T222115Z
LAST-MODIFIED:20241125T223725Z
UID:10002202-1738087200-1738094400@tomgrant.com
SUMMARY:Tuesdays at Nicoletta's
DESCRIPTION:Liven up your Tuesdays with Tom Grant. Live jazz\, delicious food\, and a relaxed atmosphere await you at Nicoletta’s Table in Lake Oswego.\nNO COVER. Reservations recommended: 503-699-2927.\n\n#PDXJazz #TomGrantJazzPDX #NicolettasTableLO #DateNight  #LOJazzSpot #PDXMusicScene #SupportLocalSpots #ShopLocal #SupporttheArts #TuesdayVibes #LakeOswegoLiveMusic
URL:https://tomgrant.com/event/tues-tunes-nicolettas-table-2022-02-01-2022-04-12-2-2-4-2/2025-01-28/
LOCATION:Nicoletta’s Table\, 333 South State Street\, Suite M\, Lake Oswego\, OR\, 97034\, United States
ATTACH;FMTTYPE=image/png:https://tomgrant.com/wp-content/uploads/2023/01/TG_Nicolettas-2024-SQ-3.png
END:VEVENT
BEGIN:VEVENT
DTSTART;TZID=America/Los_Angeles:20250131T190000
DTEND;TZID=America/Los_Angeles:20250131T220000
DTSTAMP:20260422T081329
CREATED:20250110T174944Z
LAST-MODIFIED:20250110T175423Z
UID:10003154-1738350000-1738360800@tomgrant.com
SUMMARY:Conway's House of Jazz w/ Ron Steen
DESCRIPTION:Conway’s House of Jazz in Clackamas is the area’s newest Jazz club.  Located just off  205\, it’s a perfect spot for great food\, live music and excellent company.  Make a reservation  and come check it out!
URL:https://tomgrant.com/event/conway-house-of-jazx-w-ron-steen/
LOCATION:Conway’s House of Jazz\, 16100 SE 82nd Dr\, Clackamas\, OR\, United States
CATEGORIES:Club gig,Live Jazz,Live Music,Portland Eastside
ATTACH;FMTTYPE=image/jpeg:https://tomgrant.com/wp-content/uploads/2025/01/Conways-House-of-Jazz-Clack.jpg
END:VEVENT
BEGIN:VEVENT
DTSTART;TZID=America/Los_Angeles:20250204T180000
DTEND;TZID=America/Los_Angeles:20250204T200000
DTSTAMP:20260422T081329
CREATED:20241125T222115Z
LAST-MODIFIED:20241125T223725Z
UID:10002203-1738692000-1738699200@tomgrant.com
SUMMARY:Tuesdays at Nicoletta's
DESCRIPTION:Liven up your Tuesdays with Tom Grant. Live jazz\, delicious food\, and a relaxed atmosphere await you at Nicoletta’s Table in Lake Oswego.\nNO COVER. Reservations recommended: 503-699-2927.\n\n#PDXJazz #TomGrantJazzPDX #NicolettasTableLO #DateNight  #LOJazzSpot #PDXMusicScene #SupportLocalSpots #ShopLocal #SupporttheArts #TuesdayVibes #LakeOswegoLiveMusic
URL:https://tomgrant.com/event/tues-tunes-nicolettas-table-2022-02-01-2022-04-12-2-2-4-2/2025-02-04/
LOCATION:Nicoletta’s Table\, 333 South State Street\, Suite M\, Lake Oswego\, OR\, 97034\, United States
ATTACH;FMTTYPE=image/png:https://tomgrant.com/wp-content/uploads/2023/01/TG_Nicolettas-2024-SQ-3.png
END:VEVENT
BEGIN:VEVENT
DTSTART;TZID=America/Los_Angeles:20250208T160000
DTEND;TZID=America/Los_Angeles:20250208T160000
DTSTAMP:20260422T081329
CREATED:20241230T013108Z
LAST-MODIFIED:20241230T021740Z
UID:10003151-1739030400-1739030400@tomgrant.com
SUMMARY:Tom & Shelly at Stoller Family Estate
DESCRIPTION:Warm up your winter Saturday with Tom and Shelly at Stoller Family Estate. Join us for a magical afternoon as you take in the sweet sounds of this soulful duo.  Bring your Valentine vibes for a few hours of live music paired with your favorite Stoller wines and enticing handcrafted pizzas.\nSeating and wine bar at 3:15 PM  | Concert starts at 4:00 PM\nFood and wine will be available for purchase at the event. \n\nhttps://bit.ly/TomShellyatStollerFeb25
URL:https://tomgrant.com/event/tom-shelly-at-stoller-family-estate/
LOCATION:OR
CATEGORIES:Concert,Live Jazz,Live Music,Valentine's Event,Wine Country Live Music,Wine Events
ATTACH;FMTTYPE=image/jpeg:https://tomgrant.com/wp-content/uploads/2024/12/TG-Shelly-at-Stoller-Feb-2025-scaled.jpg
END:VEVENT
BEGIN:VEVENT
DTSTART;TZID=America/Los_Angeles:20250211T180000
DTEND;TZID=America/Los_Angeles:20250211T200000
DTSTAMP:20260422T081329
CREATED:20241125T222115Z
LAST-MODIFIED:20241125T223725Z
UID:10002204-1739296800-1739304000@tomgrant.com
SUMMARY:Tuesdays at Nicoletta's
DESCRIPTION:Liven up your Tuesdays with Tom Grant. Live jazz\, delicious food\, and a relaxed atmosphere await you at Nicoletta’s Table in Lake Oswego.\nNO COVER. Reservations recommended: 503-699-2927.\n\n#PDXJazz #TomGrantJazzPDX #NicolettasTableLO #DateNight  #LOJazzSpot #PDXMusicScene #SupportLocalSpots #ShopLocal #SupporttheArts #TuesdayVibes #LakeOswegoLiveMusic
URL:https://tomgrant.com/event/tues-tunes-nicolettas-table-2022-02-01-2022-04-12-2-2-4-2/2025-02-11/
LOCATION:Nicoletta’s Table\, 333 South State Street\, Suite M\, Lake Oswego\, OR\, 97034\, United States
ATTACH;FMTTYPE=image/png:https://tomgrant.com/wp-content/uploads/2023/01/TG_Nicolettas-2024-SQ-3.png
END:VEVENT
BEGIN:VEVENT
DTSTART;TZID=America/Los_Angeles:20250218T180000
DTEND;TZID=America/Los_Angeles:20250218T200000
DTSTAMP:20260422T081329
CREATED:20241125T222115Z
LAST-MODIFIED:20241125T223725Z
UID:10002205-1739901600-1739908800@tomgrant.com
SUMMARY:Tuesdays at Nicoletta's
DESCRIPTION:Liven up your Tuesdays with Tom Grant. Live jazz\, delicious food\, and a relaxed atmosphere await you at Nicoletta’s Table in Lake Oswego.\nNO COVER. Reservations recommended: 503-699-2927.\n\n#PDXJazz #TomGrantJazzPDX #NicolettasTableLO #DateNight  #LOJazzSpot #PDXMusicScene #SupportLocalSpots #ShopLocal #SupporttheArts #TuesdayVibes #LakeOswegoLiveMusic
URL:https://tomgrant.com/event/tues-tunes-nicolettas-table-2022-02-01-2022-04-12-2-2-4-2/2025-02-18/
LOCATION:Nicoletta’s Table\, 333 South State Street\, Suite M\, Lake Oswego\, OR\, 97034\, United States
ATTACH;FMTTYPE=image/png:https://tomgrant.com/wp-content/uploads/2023/01/TG_Nicolettas-2024-SQ-3.png
END:VEVENT
BEGIN:VEVENT
DTSTART;TZID=America/Los_Angeles:20250222T190000
DTEND;TZID=America/Los_Angeles:20250222T220000
DTSTAMP:20260422T081329
CREATED:20250216T225025Z
LAST-MODIFIED:20250216T225428Z
UID:10003156-1740250800-1740261600@tomgrant.com
SUMMARY:Tom & Shelly @ Arrivederci
DESCRIPTION:Saturday evening at 7 PM with Shelly Rudolph and Tom (the birthday boy!)\nReservations:  Call (503) 659-1143
URL:https://tomgrant.com/event/tom-shelly-arrivederci/
LOCATION:Arrivederci Wine Bar\, 17023 SE McLoughlin Blvd.\, Milwaukie\, OR\, 97267
CATEGORIES:Club gig,Jazz Vocals,Live Jazz,Live Jazz,Portland Eastside
ATTACH;FMTTYPE=image/jpeg:https://tomgrant.com/wp-content/uploads/2017/11/Tom-and-Shelly-blue-dress-seated-.jpg
GEO:45.3994964;-122.6200178
X-APPLE-STRUCTURED-LOCATION;VALUE=URI;X-ADDRESS=Arrivederci Wine Bar 17023 SE McLoughlin Blvd. Milwaukie OR 97267;X-APPLE-RADIUS=500;X-TITLE=17023 SE McLoughlin Blvd.:geo:-122.6200178,45.3994964
END:VEVENT
BEGIN:VEVENT
DTSTART;TZID=America/Los_Angeles:20250222T190000
DTEND;TZID=America/Los_Angeles:20250222T220000
DTSTAMP:20260422T081329
CREATED:20250801T224325Z
LAST-MODIFIED:20250801T224356Z
UID:10003206-1740250800-1740261600@tomgrant.com
SUMMARY:Tom & Shelly @ Arrivederci
DESCRIPTION:Savor the summer vibe with Shelly Rudolph and Tom Grant at Arrivederci Wine & Jazz Bar.\nReservations:  (503) 659-1143
URL:https://tomgrant.com/event/tom-shelly-arrivederci-2/2025-02-22/
LOCATION:Arrivederci Wine Bar\, 17023 SE McLoughlin Blvd.\, Milwaukie\, OR\, 97267
CATEGORIES:Club gig,Jazz Vocals,Live Jazz,Live Jazz,Portland Eastside
ATTACH;FMTTYPE=image/jpeg:https://tomgrant.com/wp-content/uploads/2017/11/Tom-and-Shelly-blue-dress-seated-.jpg
GEO:45.3994964;-122.6200178
X-APPLE-STRUCTURED-LOCATION;VALUE=URI;X-ADDRESS=Arrivederci Wine Bar 17023 SE McLoughlin Blvd. Milwaukie OR 97267;X-APPLE-RADIUS=500;X-TITLE=17023 SE McLoughlin Blvd.:geo:-122.6200178,45.3994964
END:VEVENT
BEGIN:VEVENT
DTSTART;TZID=America/Los_Angeles:20250225T180000
DTEND;TZID=America/Los_Angeles:20250225T200000
DTSTAMP:20260422T081329
CREATED:20241125T222115Z
LAST-MODIFIED:20241125T223725Z
UID:10002206-1740506400-1740513600@tomgrant.com
SUMMARY:Tuesdays at Nicoletta's
DESCRIPTION:Liven up your Tuesdays with Tom Grant. Live jazz\, delicious food\, and a relaxed atmosphere await you at Nicoletta’s Table in Lake Oswego.\nNO COVER. Reservations recommended: 503-699-2927.\n\n#PDXJazz #TomGrantJazzPDX #NicolettasTableLO #DateNight  #LOJazzSpot #PDXMusicScene #SupportLocalSpots #ShopLocal #SupporttheArts #TuesdayVibes #LakeOswegoLiveMusic
URL:https://tomgrant.com/event/tues-tunes-nicolettas-table-2022-02-01-2022-04-12-2-2-4-2/2025-02-25/
LOCATION:Nicoletta’s Table\, 333 South State Street\, Suite M\, Lake Oswego\, OR\, 97034\, United States
ATTACH;FMTTYPE=image/png:https://tomgrant.com/wp-content/uploads/2023/01/TG_Nicolettas-2024-SQ-3.png
END:VEVENT
BEGIN:VEVENT
DTSTART;TZID=America/Los_Angeles:20250304T180000
DTEND;TZID=America/Los_Angeles:20250304T200000
DTSTAMP:20260422T081329
CREATED:20241125T222115Z
LAST-MODIFIED:20241125T223725Z
UID:10002207-1741111200-1741118400@tomgrant.com
SUMMARY:Tuesdays at Nicoletta's
DESCRIPTION:Liven up your Tuesdays with Tom Grant. Live jazz\, delicious food\, and a relaxed atmosphere await you at Nicoletta’s Table in Lake Oswego.\nNO COVER. Reservations recommended: 503-699-2927.\n\n#PDXJazz #TomGrantJazzPDX #NicolettasTableLO #DateNight  #LOJazzSpot #PDXMusicScene #SupportLocalSpots #ShopLocal #SupporttheArts #TuesdayVibes #LakeOswegoLiveMusic
URL:https://tomgrant.com/event/tues-tunes-nicolettas-table-2022-02-01-2022-04-12-2-2-4-2/2025-03-04/
LOCATION:Nicoletta’s Table\, 333 South State Street\, Suite M\, Lake Oswego\, OR\, 97034\, United States
ATTACH;FMTTYPE=image/png:https://tomgrant.com/wp-content/uploads/2023/01/TG_Nicolettas-2024-SQ-3.png
END:VEVENT
BEGIN:VEVENT
DTSTART;TZID=America/Los_Angeles:20250311T180000
DTEND;TZID=America/Los_Angeles:20250311T200000
DTSTAMP:20260422T081329
CREATED:20241125T222115Z
LAST-MODIFIED:20241125T223725Z
UID:10002208-1741716000-1741723200@tomgrant.com
SUMMARY:Tuesdays at Nicoletta's
DESCRIPTION:Liven up your Tuesdays with Tom Grant. Live jazz\, delicious food\, and a relaxed atmosphere await you at Nicoletta’s Table in Lake Oswego.\nNO COVER. Reservations recommended: 503-699-2927.\n\n#PDXJazz #TomGrantJazzPDX #NicolettasTableLO #DateNight  #LOJazzSpot #PDXMusicScene #SupportLocalSpots #ShopLocal #SupporttheArts #TuesdayVibes #LakeOswegoLiveMusic
URL:https://tomgrant.com/event/tues-tunes-nicolettas-table-2022-02-01-2022-04-12-2-2-4-2/2025-03-11/
LOCATION:Nicoletta’s Table\, 333 South State Street\, Suite M\, Lake Oswego\, OR\, 97034\, United States
ATTACH;FMTTYPE=image/png:https://tomgrant.com/wp-content/uploads/2023/01/TG_Nicolettas-2024-SQ-3.png
END:VEVENT
BEGIN:VEVENT
DTSTART;TZID=America/Los_Angeles:20250318T180000
DTEND;TZID=America/Los_Angeles:20250318T200000
DTSTAMP:20260422T081329
CREATED:20241125T222115Z
LAST-MODIFIED:20241125T223725Z
UID:10002209-1742320800-1742328000@tomgrant.com
SUMMARY:Tuesdays at Nicoletta's
DESCRIPTION:Liven up your Tuesdays with Tom Grant. Live jazz\, delicious food\, and a relaxed atmosphere await you at Nicoletta’s Table in Lake Oswego.\nNO COVER. Reservations recommended: 503-699-2927.\n\n#PDXJazz #TomGrantJazzPDX #NicolettasTableLO #DateNight  #LOJazzSpot #PDXMusicScene #SupportLocalSpots #ShopLocal #SupporttheArts #TuesdayVibes #LakeOswegoLiveMusic
URL:https://tomgrant.com/event/tues-tunes-nicolettas-table-2022-02-01-2022-04-12-2-2-4-2/2025-03-18/
LOCATION:Nicoletta’s Table\, 333 South State Street\, Suite M\, Lake Oswego\, OR\, 97034\, United States
ATTACH;FMTTYPE=image/png:https://tomgrant.com/wp-content/uploads/2023/01/TG_Nicolettas-2024-SQ-3.png
END:VEVENT
BEGIN:VEVENT
DTSTART;TZID=America/Los_Angeles:20250325T180000
DTEND;TZID=America/Los_Angeles:20250325T200000
DTSTAMP:20260422T081329
CREATED:20241125T222115Z
LAST-MODIFIED:20241125T223725Z
UID:10002210-1742925600-1742932800@tomgrant.com
SUMMARY:Tuesdays at Nicoletta's
DESCRIPTION:Liven up your Tuesdays with Tom Grant. Live jazz\, delicious food\, and a relaxed atmosphere await you at Nicoletta’s Table in Lake Oswego.\nNO COVER. Reservations recommended: 503-699-2927.\n\n#PDXJazz #TomGrantJazzPDX #NicolettasTableLO #DateNight  #LOJazzSpot #PDXMusicScene #SupportLocalSpots #ShopLocal #SupporttheArts #TuesdayVibes #LakeOswegoLiveMusic
URL:https://tomgrant.com/event/tues-tunes-nicolettas-table-2022-02-01-2022-04-12-2-2-4-2/2025-03-25/
LOCATION:Nicoletta’s Table\, 333 South State Street\, Suite M\, Lake Oswego\, OR\, 97034\, United States
ATTACH;FMTTYPE=image/png:https://tomgrant.com/wp-content/uploads/2023/01/TG_Nicolettas-2024-SQ-3.png
END:VEVENT
BEGIN:VEVENT
DTSTART;TZID=America/Los_Angeles:20250401T180000
DTEND;TZID=America/Los_Angeles:20250401T200000
DTSTAMP:20260422T081329
CREATED:20241125T222115Z
LAST-MODIFIED:20241125T223725Z
UID:10002211-1743530400-1743537600@tomgrant.com
SUMMARY:Tuesdays at Nicoletta's
DESCRIPTION:Liven up your Tuesdays with Tom Grant. Live jazz\, delicious food\, and a relaxed atmosphere await you at Nicoletta’s Table in Lake Oswego.\nNO COVER. Reservations recommended: 503-699-2927.\n\n#PDXJazz #TomGrantJazzPDX #NicolettasTableLO #DateNight  #LOJazzSpot #PDXMusicScene #SupportLocalSpots #ShopLocal #SupporttheArts #TuesdayVibes #LakeOswegoLiveMusic
URL:https://tomgrant.com/event/tues-tunes-nicolettas-table-2022-02-01-2022-04-12-2-2-4-2/2025-04-01/
LOCATION:Nicoletta’s Table\, 333 South State Street\, Suite M\, Lake Oswego\, OR\, 97034\, United States
ATTACH;FMTTYPE=image/png:https://tomgrant.com/wp-content/uploads/2023/01/TG_Nicolettas-2024-SQ-3.png
END:VEVENT
BEGIN:VEVENT
DTSTART;TZID=America/Los_Angeles:20250408T180000
DTEND;TZID=America/Los_Angeles:20250408T200000
DTSTAMP:20260422T081329
CREATED:20241125T222115Z
LAST-MODIFIED:20241125T223725Z
UID:10002212-1744135200-1744142400@tomgrant.com
SUMMARY:Tuesdays at Nicoletta's
DESCRIPTION:Liven up your Tuesdays with Tom Grant. Live jazz\, delicious food\, and a relaxed atmosphere await you at Nicoletta’s Table in Lake Oswego.\nNO COVER. Reservations recommended: 503-699-2927.\n\n#PDXJazz #TomGrantJazzPDX #NicolettasTableLO #DateNight  #LOJazzSpot #PDXMusicScene #SupportLocalSpots #ShopLocal #SupporttheArts #TuesdayVibes #LakeOswegoLiveMusic
URL:https://tomgrant.com/event/tues-tunes-nicolettas-table-2022-02-01-2022-04-12-2-2-4-2/2025-04-08/
LOCATION:Nicoletta’s Table\, 333 South State Street\, Suite M\, Lake Oswego\, OR\, 97034\, United States
ATTACH;FMTTYPE=image/png:https://tomgrant.com/wp-content/uploads/2023/01/TG_Nicolettas-2024-SQ-3.png
END:VEVENT
BEGIN:VEVENT
DTSTART;TZID=America/Los_Angeles:20250415T180000
DTEND;TZID=America/Los_Angeles:20250415T200000
DTSTAMP:20260422T081329
CREATED:20241125T222115Z
LAST-MODIFIED:20241125T223725Z
UID:10002213-1744740000-1744747200@tomgrant.com
SUMMARY:Tuesdays at Nicoletta's
DESCRIPTION:Liven up your Tuesdays with Tom Grant. Live jazz\, delicious food\, and a relaxed atmosphere await you at Nicoletta’s Table in Lake Oswego.\nNO COVER. Reservations recommended: 503-699-2927.\n\n#PDXJazz #TomGrantJazzPDX #NicolettasTableLO #DateNight  #LOJazzSpot #PDXMusicScene #SupportLocalSpots #ShopLocal #SupporttheArts #TuesdayVibes #LakeOswegoLiveMusic
URL:https://tomgrant.com/event/tues-tunes-nicolettas-table-2022-02-01-2022-04-12-2-2-4-2/2025-04-15/
LOCATION:Nicoletta’s Table\, 333 South State Street\, Suite M\, Lake Oswego\, OR\, 97034\, United States
ATTACH;FMTTYPE=image/png:https://tomgrant.com/wp-content/uploads/2023/01/TG_Nicolettas-2024-SQ-3.png
END:VEVENT
BEGIN:VEVENT
DTSTART;TZID=America/Los_Angeles:20250422T180000
DTEND;TZID=America/Los_Angeles:20250422T200000
DTSTAMP:20260422T081329
CREATED:20241125T222115Z
LAST-MODIFIED:20241125T223725Z
UID:10002214-1745344800-1745352000@tomgrant.com
SUMMARY:Tuesdays at Nicoletta's
DESCRIPTION:Liven up your Tuesdays with Tom Grant. Live jazz\, delicious food\, and a relaxed atmosphere await you at Nicoletta’s Table in Lake Oswego.\nNO COVER. Reservations recommended: 503-699-2927.\n\n#PDXJazz #TomGrantJazzPDX #NicolettasTableLO #DateNight  #LOJazzSpot #PDXMusicScene #SupportLocalSpots #ShopLocal #SupporttheArts #TuesdayVibes #LakeOswegoLiveMusic
URL:https://tomgrant.com/event/tues-tunes-nicolettas-table-2022-02-01-2022-04-12-2-2-4-2/2025-04-22/
LOCATION:Nicoletta’s Table\, 333 South State Street\, Suite M\, Lake Oswego\, OR\, 97034\, United States
ATTACH;FMTTYPE=image/png:https://tomgrant.com/wp-content/uploads/2023/01/TG_Nicolettas-2024-SQ-3.png
END:VEVENT
BEGIN:VEVENT
DTSTART;TZID=America/Los_Angeles:20250429T180000
DTEND;TZID=America/Los_Angeles:20250429T200000
DTSTAMP:20260422T081329
CREATED:20241125T222115Z
LAST-MODIFIED:20241125T223725Z
UID:10002215-1745949600-1745956800@tomgrant.com
SUMMARY:Tuesdays at Nicoletta's
DESCRIPTION:Liven up your Tuesdays with Tom Grant. Live jazz\, delicious food\, and a relaxed atmosphere await you at Nicoletta’s Table in Lake Oswego.\nNO COVER. Reservations recommended: 503-699-2927.\n\n#PDXJazz #TomGrantJazzPDX #NicolettasTableLO #DateNight  #LOJazzSpot #PDXMusicScene #SupportLocalSpots #ShopLocal #SupporttheArts #TuesdayVibes #LakeOswegoLiveMusic
URL:https://tomgrant.com/event/tues-tunes-nicolettas-table-2022-02-01-2022-04-12-2-2-4-2/2025-04-29/
LOCATION:Nicoletta’s Table\, 333 South State Street\, Suite M\, Lake Oswego\, OR\, 97034\, United States
ATTACH;FMTTYPE=image/png:https://tomgrant.com/wp-content/uploads/2023/01/TG_Nicolettas-2024-SQ-3.png
END:VEVENT
BEGIN:VEVENT
DTSTART;TZID=America/Los_Angeles:20250501T190000
DTEND;TZID=America/Los_Angeles:20250501T220000
DTSTAMP:20260422T081329
CREATED:20250501T222557Z
LAST-MODIFIED:20250502T000338Z
UID:10003181-1746126000-1746136800@tomgrant.com
SUMMARY:Conway's House of Jazz with Shelly Rudolph
DESCRIPTION:
URL:https://tomgrant.com/event/conways-house-of-jazz-with-shelly-rudolph/
LOCATION:Conway’s House of Jazz\, 16100 SE 82nd Dr\, Clackamas\, OR\, United States
ATTACH;FMTTYPE=image/png:https://tomgrant.com/wp-content/uploads/2025/05/LOGO-Conways-.png
END:VEVENT
BEGIN:VEVENT
DTSTART;TZID=America/Los_Angeles:20250502T190000
DTEND;TZID=America/Los_Angeles:20250502T220000
DTSTAMP:20260422T081329
CREATED:20250502T000434Z
LAST-MODIFIED:20250502T002208Z
UID:10003182-1746212400-1746223200@tomgrant.com
SUMMARY:Conway's House of Jazz with Ron Steen
DESCRIPTION:
URL:https://tomgrant.com/event/conways-house-of-jazz-with-ron-steen/
LOCATION:Conway’s House of Jazz\, 16100 SE 82nd Dr\, Clackamas\, OR\, United States
ATTACH;FMTTYPE=image/png:https://tomgrant.com/wp-content/uploads/2025/05/LOGO-Conways-.png
END:VEVENT
END:VCALENDAR