BEGIN:VCALENDAR
VERSION:2.0
PRODID:-//Tom Grant - ECPv6.15.20//NONSGML v1.0//EN
CALSCALE:GREGORIAN
METHOD:PUBLISH
X-ORIGINAL-URL:https://tomgrant.com
X-WR-CALDESC:Events for Tom Grant
REFRESH-INTERVAL;VALUE=DURATION:PT1H
X-Robots-Tag:noindex
X-PUBLISHED-TTL:PT1H
BEGIN:VTIMEZONE
TZID:America/Los_Angeles
BEGIN:DAYLIGHT
TZOFFSETFROM:-0800
TZOFFSETTO:-0700
TZNAME:PDT
DTSTART:20220313T100000
END:DAYLIGHT
BEGIN:STANDARD
TZOFFSETFROM:-0700
TZOFFSETTO:-0800
TZNAME:PST
DTSTART:20221106T090000
END:STANDARD
BEGIN:DAYLIGHT
TZOFFSETFROM:-0800
TZOFFSETTO:-0700
TZNAME:PDT
DTSTART:20230312T100000
END:DAYLIGHT
BEGIN:STANDARD
TZOFFSETFROM:-0700
TZOFFSETTO:-0800
TZNAME:PST
DTSTART:20231105T090000
END:STANDARD
BEGIN:DAYLIGHT
TZOFFSETFROM:-0800
TZOFFSETTO:-0700
TZNAME:PDT
DTSTART:20240310T100000
END:DAYLIGHT
BEGIN:STANDARD
TZOFFSETFROM:-0700
TZOFFSETTO:-0800
TZNAME:PST
DTSTART:20241103T090000
END:STANDARD
END:VTIMEZONE
BEGIN:VEVENT
DTSTART;TZID=America/Los_Angeles:20230617T173000
DTEND;TZID=America/Los_Angeles:20230617T200000
DTSTAMP:20260421T095046
CREATED:20230328T172335Z
LAST-MODIFIED:20230811T200504Z
UID:10001914-1687023000-1687032000@tomgrant.com
SUMMARY:The Benson Hotel | Grand Lobby
DESCRIPTION:Tom’s at the Benson every Fri & Sat evening\, 5:30-8 pm.  Drop by after work for a bite and a beverage\, or before a night on the town. It’s the perfectly-Portland place to be!
URL:https://tomgrant.com/event/back-at-the-benson-friday-and-saturday-evenings-530-800-3-2-2-2/2023-06-17/
LOCATION:OR
CATEGORIES:Club gig,Downtown Portland,Live Jazz,Live Jazz,Live Music,weekly appearances
ATTACH;FMTTYPE=image/jpeg:https://tomgrant.com/wp-content/uploads/2022/08/TG_Benson_SQ_Fall_22.jpg
END:VEVENT
BEGIN:VEVENT
DTSTART;TZID=America/Los_Angeles:20230619T220000
DTEND;TZID=America/Los_Angeles:20230619T235900
DTSTAMP:20260421T095046
CREATED:20230510T235031Z
LAST-MODIFIED:20230510T235217Z
UID:10002099-1687212000-1687219140@tomgrant.com
SUMMARY:Ron Steen Trio at the 1905
DESCRIPTION:Monday at  The 1905: Ron Steen\, Tom Grant\, Dave Captein.10 PM-Midnight. \n 
URL:https://tomgrant.com/event/ron-steen-trio-at-the-1905/
LOCATION:The 1905\, 830 N Shaver\, Portland \, OR
ATTACH;FMTTYPE=image/jpeg:https://tomgrant.com/wp-content/uploads/2021/07/TG-The-1905-logo.jpg
GEO:45.5519524;-122.6752814
X-APPLE-STRUCTURED-LOCATION;VALUE=URI;X-ADDRESS=The 1905 830 N Shaver Portland  OR;X-APPLE-RADIUS=500;X-TITLE=830 N Shaver:geo:-122.6752814,45.5519524
END:VEVENT
BEGIN:VEVENT
DTSTART;TZID=America/Los_Angeles:20230620T180000
DTEND;TZID=America/Los_Angeles:20230620T200000
DTSTAMP:20260421T095046
CREATED:20230119T055127Z
LAST-MODIFIED:20240702T035026Z
UID:10001627-1687284000-1687291200@tomgrant.com
SUMMARY:Tuesdays at Nicoletta's
DESCRIPTION:Liven up your Tuesdays with Tom Grant. Live jazz\, delicious food\, and a relaxed atmosphere await you at Nicoletta’s Table in Lake Oswego.\nNO COVER. Reservations recommended: 503-699-2927.\n\n#PDXJazz #TomGrantJazzPDX #NicolettasTableLO #DateNight  #LOJazzSpot #PDXMusicScene #SupportLocalSpots #ShopLocal #SupporttheArts #TuesdayVibes #LakeOswegoLiveMusic
URL:https://tomgrant.com/event/tues-tunes-nicolettas-table-2022-02-01-2022-04-12-2-2/2023-06-20/
LOCATION:Nicoletta’s Table\, 333 South State Street\, Suite M\, Lake Oswego\, OR\, 97034\, United States
ATTACH;FMTTYPE=image/png:https://tomgrant.com/wp-content/uploads/2023/01/TG_Nicolettas-2024-SQ-3.png
END:VEVENT
BEGIN:VEVENT
DTSTART;TZID=America/Los_Angeles:20230622T183000
DTEND;TZID=America/Los_Angeles:20230622T203000
DTSTAMP:20260421T095046
CREATED:20230613T215910Z
LAST-MODIFIED:20230613T221454Z
UID:10002101-1687458600-1687465800@tomgrant.com
SUMMARY:Benefit Concert with Spec. Guest Calysta Cheyenne
DESCRIPTION:Join us for an evening of music at a benefit concert for Feed The Hungry\, Inc.\nTom Grant with special guest vocalist:  Calysta Cheyenne\nFREE ADMISSION!:  Doors at 5:30 for wine and refreshments. Music at 6:30.
URL:https://tomgrant.com/event/benefit-concert-at-st-johns-episcopal-in-milwaukie/
LOCATION:St. John the Evangelist Episcopal Church\, 2036 SE Jefferson St.\, Milwaukie\, OR\, 97222\, United States
CATEGORIES:Concert,Free Concert,Fundraiser,Jazz Vocals,Live Jazz,Live Jazz,Live Music,Portland Eastside,Wine Events
ATTACH;FMTTYPE=image/png:https://tomgrant.com/wp-content/uploads/2023/06/Screenshot-2023-06-13-at-3.10.57-PM.png
END:VEVENT
BEGIN:VEVENT
DTSTART;TZID=America/Los_Angeles:20230624T173000
DTEND;TZID=America/Los_Angeles:20230624T200000
DTSTAMP:20260421T095046
CREATED:20230328T172335Z
LAST-MODIFIED:20230811T200504Z
UID:10001916-1687627800-1687636800@tomgrant.com
SUMMARY:The Benson Hotel | Grand Lobby
DESCRIPTION:Tom’s at the Benson every Fri & Sat evening\, 5:30-8 pm.  Drop by after work for a bite and a beverage\, or before a night on the town. It’s the perfectly-Portland place to be!
URL:https://tomgrant.com/event/back-at-the-benson-friday-and-saturday-evenings-530-800-3-2-2-2/2023-06-24/
LOCATION:OR
CATEGORIES:Club gig,Downtown Portland,Live Jazz,Live Jazz,Live Music,weekly appearances
ATTACH;FMTTYPE=image/jpeg:https://tomgrant.com/wp-content/uploads/2022/08/TG_Benson_SQ_Fall_22.jpg
END:VEVENT
BEGIN:VEVENT
DTSTART;TZID=America/Los_Angeles:20230627T180000
DTEND;TZID=America/Los_Angeles:20230627T200000
DTSTAMP:20260421T095046
CREATED:20230119T055127Z
LAST-MODIFIED:20240702T035026Z
UID:10001628-1687888800-1687896000@tomgrant.com
SUMMARY:Tuesdays at Nicoletta's
DESCRIPTION:Liven up your Tuesdays with Tom Grant. Live jazz\, delicious food\, and a relaxed atmosphere await you at Nicoletta’s Table in Lake Oswego.\nNO COVER. Reservations recommended: 503-699-2927.\n\n#PDXJazz #TomGrantJazzPDX #NicolettasTableLO #DateNight  #LOJazzSpot #PDXMusicScene #SupportLocalSpots #ShopLocal #SupporttheArts #TuesdayVibes #LakeOswegoLiveMusic
URL:https://tomgrant.com/event/tues-tunes-nicolettas-table-2022-02-01-2022-04-12-2-2/2023-06-27/
LOCATION:Nicoletta’s Table\, 333 South State Street\, Suite M\, Lake Oswego\, OR\, 97034\, United States
ATTACH;FMTTYPE=image/png:https://tomgrant.com/wp-content/uploads/2023/01/TG_Nicolettas-2024-SQ-3.png
END:VEVENT
BEGIN:VEVENT
DTSTART;TZID=America/Los_Angeles:20230701T173000
DTEND;TZID=America/Los_Angeles:20230701T200000
DTSTAMP:20260421T095046
CREATED:20230328T172335Z
LAST-MODIFIED:20230811T200504Z
UID:10001918-1688232600-1688241600@tomgrant.com
SUMMARY:The Benson Hotel | Grand Lobby
DESCRIPTION:Tom’s at the Benson every Fri & Sat evening\, 5:30-8 pm.  Drop by after work for a bite and a beverage\, or before a night on the town. It’s the perfectly-Portland place to be!
URL:https://tomgrant.com/event/back-at-the-benson-friday-and-saturday-evenings-530-800-3-2-2-2/2023-07-01/
LOCATION:OR
CATEGORIES:Club gig,Downtown Portland,Live Jazz,Live Jazz,Live Music,weekly appearances
ATTACH;FMTTYPE=image/jpeg:https://tomgrant.com/wp-content/uploads/2022/08/TG_Benson_SQ_Fall_22.jpg
END:VEVENT
BEGIN:VEVENT
DTSTART;TZID=America/Los_Angeles:20230704T180000
DTEND;TZID=America/Los_Angeles:20230704T200000
DTSTAMP:20260421T095046
CREATED:20230119T055127Z
LAST-MODIFIED:20240702T035026Z
UID:10001629-1688493600-1688500800@tomgrant.com
SUMMARY:Tuesdays at Nicoletta's
DESCRIPTION:Liven up your Tuesdays with Tom Grant. Live jazz\, delicious food\, and a relaxed atmosphere await you at Nicoletta’s Table in Lake Oswego.\nNO COVER. Reservations recommended: 503-699-2927.\n\n#PDXJazz #TomGrantJazzPDX #NicolettasTableLO #DateNight  #LOJazzSpot #PDXMusicScene #SupportLocalSpots #ShopLocal #SupporttheArts #TuesdayVibes #LakeOswegoLiveMusic
URL:https://tomgrant.com/event/tues-tunes-nicolettas-table-2022-02-01-2022-04-12-2-2/2023-07-04/
LOCATION:Nicoletta’s Table\, 333 South State Street\, Suite M\, Lake Oswego\, OR\, 97034\, United States
ATTACH;FMTTYPE=image/png:https://tomgrant.com/wp-content/uploads/2023/01/TG_Nicolettas-2024-SQ-3.png
END:VEVENT
BEGIN:VEVENT
DTSTART;TZID=America/Los_Angeles:20230708T173000
DTEND;TZID=America/Los_Angeles:20230708T200000
DTSTAMP:20260421T095046
CREATED:20230328T172335Z
LAST-MODIFIED:20230811T200504Z
UID:10001920-1688837400-1688846400@tomgrant.com
SUMMARY:The Benson Hotel | Grand Lobby
DESCRIPTION:Tom’s at the Benson every Fri & Sat evening\, 5:30-8 pm.  Drop by after work for a bite and a beverage\, or before a night on the town. It’s the perfectly-Portland place to be!
URL:https://tomgrant.com/event/back-at-the-benson-friday-and-saturday-evenings-530-800-3-2-2-2/2023-07-08/
LOCATION:OR
CATEGORIES:Club gig,Downtown Portland,Live Jazz,Live Jazz,Live Music,weekly appearances
ATTACH;FMTTYPE=image/jpeg:https://tomgrant.com/wp-content/uploads/2022/08/TG_Benson_SQ_Fall_22.jpg
END:VEVENT
BEGIN:VEVENT
DTSTART;TZID=America/Los_Angeles:20230709T080000
DTEND;TZID=America/Los_Angeles:20230709T223000
DTSTAMP:20260421T095046
CREATED:20230709T185844Z
LAST-MODIFIED:20230709T185850Z
UID:10002102-1688889600-1688941800@tomgrant.com
SUMMARY:Ron Steen Jam at Clyde's
DESCRIPTION:
URL:https://tomgrant.com/event/ron-steen-jam-at-clydes-3/
LOCATION:Clyde’s  Prime Rib\, 5474 NE Sandy Blvd\, Ptld\, OR\, United States
ATTACH;FMTTYPE=image/png:https://tomgrant.com/wp-content/uploads/2022/07/clydes-prime-rib-logo.png
END:VEVENT
BEGIN:VEVENT
DTSTART;TZID=America/Los_Angeles:20230711T180000
DTEND;TZID=America/Los_Angeles:20230711T200000
DTSTAMP:20260421T095046
CREATED:20230119T055127Z
LAST-MODIFIED:20240702T035026Z
UID:10001630-1689098400-1689105600@tomgrant.com
SUMMARY:Tuesdays at Nicoletta's
DESCRIPTION:Liven up your Tuesdays with Tom Grant. Live jazz\, delicious food\, and a relaxed atmosphere await you at Nicoletta’s Table in Lake Oswego.\nNO COVER. Reservations recommended: 503-699-2927.\n\n#PDXJazz #TomGrantJazzPDX #NicolettasTableLO #DateNight  #LOJazzSpot #PDXMusicScene #SupportLocalSpots #ShopLocal #SupporttheArts #TuesdayVibes #LakeOswegoLiveMusic
URL:https://tomgrant.com/event/tues-tunes-nicolettas-table-2022-02-01-2022-04-12-2-2/2023-07-11/
LOCATION:Nicoletta’s Table\, 333 South State Street\, Suite M\, Lake Oswego\, OR\, 97034\, United States
ATTACH;FMTTYPE=image/png:https://tomgrant.com/wp-content/uploads/2023/01/TG_Nicolettas-2024-SQ-3.png
END:VEVENT
BEGIN:VEVENT
DTSTART;TZID=America/Los_Angeles:20230715T173000
DTEND;TZID=America/Los_Angeles:20230715T200000
DTSTAMP:20260421T095046
CREATED:20230328T172335Z
LAST-MODIFIED:20230811T200504Z
UID:10001922-1689442200-1689451200@tomgrant.com
SUMMARY:The Benson Hotel | Grand Lobby
DESCRIPTION:Tom’s at the Benson every Fri & Sat evening\, 5:30-8 pm.  Drop by after work for a bite and a beverage\, or before a night on the town. It’s the perfectly-Portland place to be!
URL:https://tomgrant.com/event/back-at-the-benson-friday-and-saturday-evenings-530-800-3-2-2-2/2023-07-15/
LOCATION:OR
CATEGORIES:Club gig,Downtown Portland,Live Jazz,Live Jazz,Live Music,weekly appearances
ATTACH;FMTTYPE=image/jpeg:https://tomgrant.com/wp-content/uploads/2022/08/TG_Benson_SQ_Fall_22.jpg
END:VEVENT
BEGIN:VEVENT
DTSTART;TZID=America/Los_Angeles:20230718T180000
DTEND;TZID=America/Los_Angeles:20230718T200000
DTSTAMP:20260421T095046
CREATED:20230119T055127Z
LAST-MODIFIED:20240702T035026Z
UID:10001631-1689703200-1689710400@tomgrant.com
SUMMARY:Tuesdays at Nicoletta's
DESCRIPTION:Liven up your Tuesdays with Tom Grant. Live jazz\, delicious food\, and a relaxed atmosphere await you at Nicoletta’s Table in Lake Oswego.\nNO COVER. Reservations recommended: 503-699-2927.\n\n#PDXJazz #TomGrantJazzPDX #NicolettasTableLO #DateNight  #LOJazzSpot #PDXMusicScene #SupportLocalSpots #ShopLocal #SupporttheArts #TuesdayVibes #LakeOswegoLiveMusic
URL:https://tomgrant.com/event/tues-tunes-nicolettas-table-2022-02-01-2022-04-12-2-2/2023-07-18/
LOCATION:Nicoletta’s Table\, 333 South State Street\, Suite M\, Lake Oswego\, OR\, 97034\, United States
ATTACH;FMTTYPE=image/png:https://tomgrant.com/wp-content/uploads/2023/01/TG_Nicolettas-2024-SQ-3.png
END:VEVENT
BEGIN:VEVENT
DTSTART;TZID=America/Los_Angeles:20230722T173000
DTEND;TZID=America/Los_Angeles:20230722T200000
DTSTAMP:20260421T095046
CREATED:20230709T190639Z
LAST-MODIFIED:20230710T220558Z
UID:10001924-1690047000-1690056000@tomgrant.com
SUMMARY:The Benson Hotel | Special Guest\, Justin Copeland\, Trumpet
DESCRIPTION:Special guest: Justin Copeland – don’t miss it!
URL:https://tomgrant.com/event/back-at-the-benson-friday-and-saturday-evenings-530-800-3-2-2-2-5/
LOCATION:OR
CATEGORIES:Club gig,Downtown Portland,Live Jazz,Live Jazz,Live Music,weekly appearances
ATTACH;FMTTYPE=image/jpeg:https://tomgrant.com/wp-content/uploads/2022/08/TG_Benson_SQ_Fall_22.jpg
END:VEVENT
BEGIN:VEVENT
DTSTART;TZID=America/Los_Angeles:20230725T180000
DTEND;TZID=America/Los_Angeles:20230725T200000
DTSTAMP:20260421T095046
CREATED:20230119T055127Z
LAST-MODIFIED:20240702T035026Z
UID:10001632-1690308000-1690315200@tomgrant.com
SUMMARY:Tuesdays at Nicoletta's
DESCRIPTION:Liven up your Tuesdays with Tom Grant. Live jazz\, delicious food\, and a relaxed atmosphere await you at Nicoletta’s Table in Lake Oswego.\nNO COVER. Reservations recommended: 503-699-2927.\n\n#PDXJazz #TomGrantJazzPDX #NicolettasTableLO #DateNight  #LOJazzSpot #PDXMusicScene #SupportLocalSpots #ShopLocal #SupporttheArts #TuesdayVibes #LakeOswegoLiveMusic
URL:https://tomgrant.com/event/tues-tunes-nicolettas-table-2022-02-01-2022-04-12-2-2/2023-07-25/
LOCATION:Nicoletta’s Table\, 333 South State Street\, Suite M\, Lake Oswego\, OR\, 97034\, United States
ATTACH;FMTTYPE=image/png:https://tomgrant.com/wp-content/uploads/2023/01/TG_Nicolettas-2024-SQ-3.png
END:VEVENT
BEGIN:VEVENT
DTSTART;TZID=America/Los_Angeles:20230729T173000
DTEND;TZID=America/Los_Angeles:20230729T200000
DTSTAMP:20260421T095046
CREATED:20230328T172335Z
LAST-MODIFIED:20230811T200504Z
UID:10001926-1690651800-1690660800@tomgrant.com
SUMMARY:The Benson Hotel | Grand Lobby
DESCRIPTION:Tom’s at the Benson every Fri & Sat evening\, 5:30-8 pm.  Drop by after work for a bite and a beverage\, or before a night on the town. It’s the perfectly-Portland place to be!
URL:https://tomgrant.com/event/back-at-the-benson-friday-and-saturday-evenings-530-800-3-2-2-2/2023-07-29/
LOCATION:OR
CATEGORIES:Club gig,Downtown Portland,Live Jazz,Live Jazz,Live Music,weekly appearances
ATTACH;FMTTYPE=image/jpeg:https://tomgrant.com/wp-content/uploads/2022/08/TG_Benson_SQ_Fall_22.jpg
END:VEVENT
BEGIN:VEVENT
DTSTART;TZID=America/Los_Angeles:20230801T180000
DTEND;TZID=America/Los_Angeles:20230801T200000
DTSTAMP:20260421T095046
CREATED:20230119T055127Z
LAST-MODIFIED:20240702T035026Z
UID:10001633-1690912800-1690920000@tomgrant.com
SUMMARY:Tuesdays at Nicoletta's
DESCRIPTION:Liven up your Tuesdays with Tom Grant. Live jazz\, delicious food\, and a relaxed atmosphere await you at Nicoletta’s Table in Lake Oswego.\nNO COVER. Reservations recommended: 503-699-2927.\n\n#PDXJazz #TomGrantJazzPDX #NicolettasTableLO #DateNight  #LOJazzSpot #PDXMusicScene #SupportLocalSpots #ShopLocal #SupporttheArts #TuesdayVibes #LakeOswegoLiveMusic
URL:https://tomgrant.com/event/tues-tunes-nicolettas-table-2022-02-01-2022-04-12-2-2/2023-08-01/
LOCATION:Nicoletta’s Table\, 333 South State Street\, Suite M\, Lake Oswego\, OR\, 97034\, United States
ATTACH;FMTTYPE=image/png:https://tomgrant.com/wp-content/uploads/2023/01/TG_Nicolettas-2024-SQ-3.png
END:VEVENT
BEGIN:VEVENT
DTSTART;TZID=America/Los_Angeles:20230805T173000
DTEND;TZID=America/Los_Angeles:20230805T200000
DTSTAMP:20260421T095046
CREATED:20230328T172335Z
LAST-MODIFIED:20230811T200504Z
UID:10001928-1691256600-1691265600@tomgrant.com
SUMMARY:The Benson Hotel | Grand Lobby
DESCRIPTION:Tom’s at the Benson every Fri & Sat evening\, 5:30-8 pm.  Drop by after work for a bite and a beverage\, or before a night on the town. It’s the perfectly-Portland place to be!
URL:https://tomgrant.com/event/back-at-the-benson-friday-and-saturday-evenings-530-800-3-2-2-2/2023-08-05/
LOCATION:OR
CATEGORIES:Club gig,Downtown Portland,Live Jazz,Live Jazz,Live Music,weekly appearances
ATTACH;FMTTYPE=image/jpeg:https://tomgrant.com/wp-content/uploads/2022/08/TG_Benson_SQ_Fall_22.jpg
END:VEVENT
BEGIN:VEVENT
DTSTART;TZID=America/Los_Angeles:20230808T180000
DTEND;TZID=America/Los_Angeles:20230808T200000
DTSTAMP:20260421T095046
CREATED:20230119T055127Z
LAST-MODIFIED:20240702T035026Z
UID:10001634-1691517600-1691524800@tomgrant.com
SUMMARY:Tuesdays at Nicoletta's
DESCRIPTION:Liven up your Tuesdays with Tom Grant. Live jazz\, delicious food\, and a relaxed atmosphere await you at Nicoletta’s Table in Lake Oswego.\nNO COVER. Reservations recommended: 503-699-2927.\n\n#PDXJazz #TomGrantJazzPDX #NicolettasTableLO #DateNight  #LOJazzSpot #PDXMusicScene #SupportLocalSpots #ShopLocal #SupporttheArts #TuesdayVibes #LakeOswegoLiveMusic
URL:https://tomgrant.com/event/tues-tunes-nicolettas-table-2022-02-01-2022-04-12-2-2/2023-08-08/
LOCATION:Nicoletta’s Table\, 333 South State Street\, Suite M\, Lake Oswego\, OR\, 97034\, United States
ATTACH;FMTTYPE=image/png:https://tomgrant.com/wp-content/uploads/2023/01/TG_Nicolettas-2024-SQ-3.png
END:VEVENT
BEGIN:VEVENT
DTSTART;TZID=America/Los_Angeles:20230815T180000
DTEND;TZID=America/Los_Angeles:20230815T200000
DTSTAMP:20260421T095046
CREATED:20230119T055127Z
LAST-MODIFIED:20240702T035026Z
UID:10001635-1692122400-1692129600@tomgrant.com
SUMMARY:Tuesdays at Nicoletta's
DESCRIPTION:Liven up your Tuesdays with Tom Grant. Live jazz\, delicious food\, and a relaxed atmosphere await you at Nicoletta’s Table in Lake Oswego.\nNO COVER. Reservations recommended: 503-699-2927.\n\n#PDXJazz #TomGrantJazzPDX #NicolettasTableLO #DateNight  #LOJazzSpot #PDXMusicScene #SupportLocalSpots #ShopLocal #SupporttheArts #TuesdayVibes #LakeOswegoLiveMusic
URL:https://tomgrant.com/event/tues-tunes-nicolettas-table-2022-02-01-2022-04-12-2-2/2023-08-15/
LOCATION:Nicoletta’s Table\, 333 South State Street\, Suite M\, Lake Oswego\, OR\, 97034\, United States
ATTACH;FMTTYPE=image/png:https://tomgrant.com/wp-content/uploads/2023/01/TG_Nicolettas-2024-SQ-3.png
END:VEVENT
BEGIN:VEVENT
DTSTART;TZID=America/Los_Angeles:20230819T183000
DTEND;TZID=America/Los_Angeles:20230819T210000
DTSTAMP:20260421T095046
CREATED:20230814T182534Z
LAST-MODIFIED:20230815T230444Z
UID:10002104-1692469800-1692478800@tomgrant.com
SUMMARY:Tom & Shelly @ Tavern on Kruse
DESCRIPTION:TG and Shelly Rudolph\, live at Tavern on Kruse\, Saturday\, Aug 19\,  6:30 PM.  Come share a little summer love!
URL:https://tomgrant.com/event/tom-shelly-tavern-on-kruse/
LOCATION:Tavern on Kruse\, 4835 Meadows Road\, Lake Oswego\, OR\, United States
ATTACH;FMTTYPE=image/jpeg:https://tomgrant.com/wp-content/uploads/2018/12/Tom-and-Shelly-red-tint.jpg
END:VEVENT
BEGIN:VEVENT
DTSTART;TZID=America/Los_Angeles:20230822T180000
DTEND;TZID=America/Los_Angeles:20230822T200000
DTSTAMP:20260421T095046
CREATED:20230119T055127Z
LAST-MODIFIED:20240702T035026Z
UID:10001636-1692727200-1692734400@tomgrant.com
SUMMARY:Tuesdays at Nicoletta's
DESCRIPTION:Liven up your Tuesdays with Tom Grant. Live jazz\, delicious food\, and a relaxed atmosphere await you at Nicoletta’s Table in Lake Oswego.\nNO COVER. Reservations recommended: 503-699-2927.\n\n#PDXJazz #TomGrantJazzPDX #NicolettasTableLO #DateNight  #LOJazzSpot #PDXMusicScene #SupportLocalSpots #ShopLocal #SupporttheArts #TuesdayVibes #LakeOswegoLiveMusic
URL:https://tomgrant.com/event/tues-tunes-nicolettas-table-2022-02-01-2022-04-12-2-2/2023-08-22/
LOCATION:Nicoletta’s Table\, 333 South State Street\, Suite M\, Lake Oswego\, OR\, 97034\, United States
ATTACH;FMTTYPE=image/png:https://tomgrant.com/wp-content/uploads/2023/01/TG_Nicolettas-2024-SQ-3.png
END:VEVENT
BEGIN:VEVENT
DTSTART;TZID=America/Los_Angeles:20230829T180000
DTEND;TZID=America/Los_Angeles:20230829T200000
DTSTAMP:20260421T095046
CREATED:20230119T055127Z
LAST-MODIFIED:20240702T035026Z
UID:10001637-1693332000-1693339200@tomgrant.com
SUMMARY:Tuesdays at Nicoletta's
DESCRIPTION:Liven up your Tuesdays with Tom Grant. Live jazz\, delicious food\, and a relaxed atmosphere await you at Nicoletta’s Table in Lake Oswego.\nNO COVER. Reservations recommended: 503-699-2927.\n\n#PDXJazz #TomGrantJazzPDX #NicolettasTableLO #DateNight  #LOJazzSpot #PDXMusicScene #SupportLocalSpots #ShopLocal #SupporttheArts #TuesdayVibes #LakeOswegoLiveMusic
URL:https://tomgrant.com/event/tues-tunes-nicolettas-table-2022-02-01-2022-04-12-2-2/2023-08-29/
LOCATION:Nicoletta’s Table\, 333 South State Street\, Suite M\, Lake Oswego\, OR\, 97034\, United States
ATTACH;FMTTYPE=image/png:https://tomgrant.com/wp-content/uploads/2023/01/TG_Nicolettas-2024-SQ-3.png
END:VEVENT
BEGIN:VEVENT
DTSTART;TZID=America/Los_Angeles:20230905T180000
DTEND;TZID=America/Los_Angeles:20230905T200000
DTSTAMP:20260421T095046
CREATED:20230119T055127Z
LAST-MODIFIED:20240702T035026Z
UID:10001638-1693936800-1693944000@tomgrant.com
SUMMARY:Tuesdays at Nicoletta's
DESCRIPTION:Liven up your Tuesdays with Tom Grant. Live jazz\, delicious food\, and a relaxed atmosphere await you at Nicoletta’s Table in Lake Oswego.\nNO COVER. Reservations recommended: 503-699-2927.\n\n#PDXJazz #TomGrantJazzPDX #NicolettasTableLO #DateNight  #LOJazzSpot #PDXMusicScene #SupportLocalSpots #ShopLocal #SupporttheArts #TuesdayVibes #LakeOswegoLiveMusic
URL:https://tomgrant.com/event/tues-tunes-nicolettas-table-2022-02-01-2022-04-12-2-2/2023-09-05/
LOCATION:Nicoletta’s Table\, 333 South State Street\, Suite M\, Lake Oswego\, OR\, 97034\, United States
ATTACH;FMTTYPE=image/png:https://tomgrant.com/wp-content/uploads/2023/01/TG_Nicolettas-2024-SQ-3.png
END:VEVENT
BEGIN:VEVENT
DTSTART;TZID=America/Los_Angeles:20230908T193000
DTEND;TZID=America/Los_Angeles:20230908T213000
DTSTAMP:20260421T095046
CREATED:20230827T154521Z
LAST-MODIFIED:20230827T154521Z
UID:10002105-1694201400-1694208600@tomgrant.com
SUMMARY:Wilf's @ Union Station
DESCRIPTION:Perry Thorsell (bass)\, Rivka Ross (drums)
URL:https://tomgrant.com/event/wilfs-union-station/
LOCATION:Wilfs at Union Station\, 800 NW 6th Ave at Union Station \, Portland\, OR\, United States
CATEGORIES:Club gig,Downtown Portland,Live Jazz,Live Jazz,Live Music
GEO:45.5288249;-122.6766007
X-APPLE-STRUCTURED-LOCATION;VALUE=URI;X-ADDRESS=Wilfs at Union Station 800 NW 6th Ave at Union Station  Portland OR United States;X-APPLE-RADIUS=500;X-TITLE=800 NW 6th Ave at Union Station:geo:-122.6766007,45.5288249
END:VEVENT
BEGIN:VEVENT
DTSTART;TZID=America/Los_Angeles:20230912T180000
DTEND;TZID=America/Los_Angeles:20230912T200000
DTSTAMP:20260421T095046
CREATED:20230119T055127Z
LAST-MODIFIED:20240702T035026Z
UID:10001639-1694541600-1694548800@tomgrant.com
SUMMARY:Tuesdays at Nicoletta's
DESCRIPTION:Liven up your Tuesdays with Tom Grant. Live jazz\, delicious food\, and a relaxed atmosphere await you at Nicoletta’s Table in Lake Oswego.\nNO COVER. Reservations recommended: 503-699-2927.\n\n#PDXJazz #TomGrantJazzPDX #NicolettasTableLO #DateNight  #LOJazzSpot #PDXMusicScene #SupportLocalSpots #ShopLocal #SupporttheArts #TuesdayVibes #LakeOswegoLiveMusic
URL:https://tomgrant.com/event/tues-tunes-nicolettas-table-2022-02-01-2022-04-12-2-2/2023-09-12/
LOCATION:Nicoletta’s Table\, 333 South State Street\, Suite M\, Lake Oswego\, OR\, 97034\, United States
ATTACH;FMTTYPE=image/png:https://tomgrant.com/wp-content/uploads/2023/01/TG_Nicolettas-2024-SQ-3.png
END:VEVENT
BEGIN:VEVENT
DTSTART;TZID=America/Los_Angeles:20230914T180000
DTEND;TZID=America/Los_Angeles:20230914T200000
DTSTAMP:20260421T095046
CREATED:20230827T155224Z
LAST-MODIFIED:20230827T155320Z
UID:10002106-1694714400-1694721600@tomgrant.com
SUMMARY:Springridge Senior Living Center
DESCRIPTION:Looking forward to performing with Shelly Rudolph and Chance Hayden at Springridge  Senior Living Center at Charbonneau\,
URL:https://tomgrant.com/event/springridge-senior-living-center/
LOCATION:OR
END:VEVENT
BEGIN:VEVENT
DTSTART;TZID=America/Los_Angeles:20230919T180000
DTEND;TZID=America/Los_Angeles:20230919T200000
DTSTAMP:20260421T095046
CREATED:20230119T055127Z
LAST-MODIFIED:20240702T035026Z
UID:10001640-1695146400-1695153600@tomgrant.com
SUMMARY:Tuesdays at Nicoletta's
DESCRIPTION:Liven up your Tuesdays with Tom Grant. Live jazz\, delicious food\, and a relaxed atmosphere await you at Nicoletta’s Table in Lake Oswego.\nNO COVER. Reservations recommended: 503-699-2927.\n\n#PDXJazz #TomGrantJazzPDX #NicolettasTableLO #DateNight  #LOJazzSpot #PDXMusicScene #SupportLocalSpots #ShopLocal #SupporttheArts #TuesdayVibes #LakeOswegoLiveMusic
URL:https://tomgrant.com/event/tues-tunes-nicolettas-table-2022-02-01-2022-04-12-2-2/2023-09-19/
LOCATION:Nicoletta’s Table\, 333 South State Street\, Suite M\, Lake Oswego\, OR\, 97034\, United States
ATTACH;FMTTYPE=image/png:https://tomgrant.com/wp-content/uploads/2023/01/TG_Nicolettas-2024-SQ-3.png
END:VEVENT
BEGIN:VEVENT
DTSTART;TZID=America/Los_Angeles:20230923T150000
DTEND;TZID=America/Los_Angeles:20230923T170000
DTSTAMP:20260421T095046
CREATED:20230827T155521Z
LAST-MODIFIED:20230827T160208Z
UID:10002107-1695481200-1695488400@tomgrant.com
SUMMARY:CHARBONNEAU JAZZ FESTIVAL
DESCRIPTION:The Tom Grant Band will perform at this year’s Charbonneau Jazz Fest in Sept.\n Ron Steen Drums\, David Captein bass\, Marilyn Keller vocals
URL:https://tomgrant.com/event/charbonneau-jazz-festival/
LOCATION:OR
CATEGORIES:Concert,Jazz Vocals,Live Jazz,Live Jazz,Outdoor Music Event,Vancouver,WA
ATTACH;FMTTYPE=image/jpeg:https://tomgrant.com/wp-content/uploads/2023/08/2023-Jazz@-Poster-final.jpg
END:VEVENT
BEGIN:VEVENT
DTSTART;TZID=America/Los_Angeles:20230924T200000
DTEND;TZID=America/Los_Angeles:20230924T223000
DTSTAMP:20260421T095046
CREATED:20230827T160251Z
LAST-MODIFIED:20230827T160251Z
UID:10002108-1695585600-1695594600@tomgrant.com
SUMMARY:CLYDE's - Ron Steen Jam
DESCRIPTION:
URL:https://tomgrant.com/event/clydes-ron-steen-jam-2/
LOCATION:OR
ATTACH;FMTTYPE=image/png:https://tomgrant.com/wp-content/uploads/2022/07/clydes-prime-rib-logo.png
END:VEVENT
END:VCALENDAR