BEGIN:VCALENDAR
VERSION:2.0
PRODID:-//Tom Grant - ECPv6.15.20//NONSGML v1.0//EN
CALSCALE:GREGORIAN
METHOD:PUBLISH
X-WR-CALNAME:Tom Grant
X-ORIGINAL-URL:https://tomgrant.com
X-WR-CALDESC:Events for Tom Grant
REFRESH-INTERVAL;VALUE=DURATION:PT1H
X-Robots-Tag:noindex
X-PUBLISHED-TTL:PT1H
BEGIN:VTIMEZONE
TZID:America/Los_Angeles
BEGIN:DAYLIGHT
TZOFFSETFROM:-0800
TZOFFSETTO:-0700
TZNAME:PDT
DTSTART:20200308T100000
END:DAYLIGHT
BEGIN:STANDARD
TZOFFSETFROM:-0700
TZOFFSETTO:-0800
TZNAME:PST
DTSTART:20201101T090000
END:STANDARD
BEGIN:DAYLIGHT
TZOFFSETFROM:-0800
TZOFFSETTO:-0700
TZNAME:PDT
DTSTART:20210314T100000
END:DAYLIGHT
BEGIN:STANDARD
TZOFFSETFROM:-0700
TZOFFSETTO:-0800
TZNAME:PST
DTSTART:20211107T090000
END:STANDARD
BEGIN:DAYLIGHT
TZOFFSETFROM:-0800
TZOFFSETTO:-0700
TZNAME:PDT
DTSTART:20220313T100000
END:DAYLIGHT
BEGIN:STANDARD
TZOFFSETFROM:-0700
TZOFFSETTO:-0800
TZNAME:PST
DTSTART:20221106T090000
END:STANDARD
END:VTIMEZONE
BEGIN:VEVENT
DTSTART;TZID=America/Los_Angeles:20210808T170000
DTEND;TZID=America/Los_Angeles:20210808T190000
DTSTAMP:20260420T014957
CREATED:20210624T214316Z
LAST-MODIFIED:20210805T165750Z
UID:10001397-1628442000-1628449200@tomgrant.com
SUMMARY:Tom Grant\, Shelly Rudolph\, Tim Gilson at Andante Vineyard in Dallas\, OR
DESCRIPTION:Andante Vineyard \n3855 Morris Road \nDallas\, Oregon 97338 \n 
URL:https://tomgrant.com/event/tom-grant-shelly-rudolph-tim-gilson-at-andante-vineyard-in-dallas-or/
LOCATION:Andante Vineyard\, 3855 Morris Road\, Dallas\, OR\, 97338\, United States
ATTACH;FMTTYPE=image/png:https://tomgrant.com/wp-content/uploads/2021/06/Screen-Shot-2021-08-05-at-9.56.13-AM.png
END:VEVENT
END:VCALENDAR