BEGIN:VCALENDAR
VERSION:2.0
PRODID:-//Tom Grant - ECPv6.15.20//NONSGML v1.0//EN
CALSCALE:GREGORIAN
METHOD:PUBLISH
X-WR-CALNAME:Tom Grant
X-ORIGINAL-URL:https://tomgrant.com
X-WR-CALDESC:Events for Tom Grant
REFRESH-INTERVAL;VALUE=DURATION:PT1H
X-Robots-Tag:noindex
X-PUBLISHED-TTL:PT1H
BEGIN:VTIMEZONE
TZID:America/Los_Angeles
BEGIN:DAYLIGHT
TZOFFSETFROM:-0800
TZOFFSETTO:-0700
TZNAME:PDT
DTSTART:20190310T100000
END:DAYLIGHT
BEGIN:STANDARD
TZOFFSETFROM:-0700
TZOFFSETTO:-0800
TZNAME:PST
DTSTART:20191103T090000
END:STANDARD
BEGIN:DAYLIGHT
TZOFFSETFROM:-0800
TZOFFSETTO:-0700
TZNAME:PDT
DTSTART:20200308T100000
END:DAYLIGHT
BEGIN:STANDARD
TZOFFSETFROM:-0700
TZOFFSETTO:-0800
TZNAME:PST
DTSTART:20201101T090000
END:STANDARD
BEGIN:DAYLIGHT
TZOFFSETFROM:-0800
TZOFFSETTO:-0700
TZNAME:PDT
DTSTART:20210314T100000
END:DAYLIGHT
BEGIN:STANDARD
TZOFFSETFROM:-0700
TZOFFSETTO:-0800
TZNAME:PST
DTSTART:20211107T090000
END:STANDARD
END:VTIMEZONE
BEGIN:VEVENT
DTSTART;TZID=America/Los_Angeles:20200322T183000
DTEND;TZID=America/Los_Angeles:20200322T213000
DTSTAMP:20260420T075500
CREATED:20200123T221853Z
LAST-MODIFIED:20200826T202351Z
UID:10001361-1584901800-1584912600@tomgrant.com
SUMMARY:Sunday Night Jazz Jam in Vancouver
DESCRIPTION:
URL:https://tomgrant.com/event/sunday-night-jazz-jam-in-vancouver/2020-03-22/
LOCATION:Brickhouse Bar & Grill\, 109 W 15th St\, Vancouver\, WA\, 98660\, United States
ATTACH;FMTTYPE=image/jpeg:https://tomgrant.com/wp-content/uploads/2020/01/TG_BrickHouseJam_Instapost-e1579818016903.jpg
END:VEVENT
BEGIN:VEVENT
DTSTART;TZID=America/Los_Angeles:20200315T183000
DTEND;TZID=America/Los_Angeles:20200315T213000
DTSTAMP:20260420T075500
CREATED:20200123T221853Z
LAST-MODIFIED:20200826T202351Z
UID:10001360-1584297000-1584307800@tomgrant.com
SUMMARY:Sunday Night Jazz Jam in Vancouver
DESCRIPTION:
URL:https://tomgrant.com/event/sunday-night-jazz-jam-in-vancouver/2020-03-15/
LOCATION:Brickhouse Bar & Grill\, 109 W 15th St\, Vancouver\, WA\, 98660\, United States
ATTACH;FMTTYPE=image/jpeg:https://tomgrant.com/wp-content/uploads/2020/01/TG_BrickHouseJam_Instapost-e1579818016903.jpg
END:VEVENT
BEGIN:VEVENT
DTSTART;TZID=America/Los_Angeles:20200308T183000
DTEND;TZID=America/Los_Angeles:20200308T213000
DTSTAMP:20260420T075500
CREATED:20200123T221853Z
LAST-MODIFIED:20200826T202351Z
UID:10001359-1583692200-1583703000@tomgrant.com
SUMMARY:Sunday Night Jazz Jam in Vancouver
DESCRIPTION:
URL:https://tomgrant.com/event/sunday-night-jazz-jam-in-vancouver/2020-03-08/
LOCATION:Brickhouse Bar & Grill\, 109 W 15th St\, Vancouver\, WA\, 98660\, United States
ATTACH;FMTTYPE=image/jpeg:https://tomgrant.com/wp-content/uploads/2020/01/TG_BrickHouseJam_Instapost-e1579818016903.jpg
END:VEVENT
BEGIN:VEVENT
DTSTART;TZID=America/Los_Angeles:20200301T183000
DTEND;TZID=America/Los_Angeles:20200301T213000
DTSTAMP:20260420T075500
CREATED:20200123T221853Z
LAST-MODIFIED:20200826T202351Z
UID:10001358-1583087400-1583098200@tomgrant.com
SUMMARY:Sunday Night Jazz Jam in Vancouver
DESCRIPTION:
URL:https://tomgrant.com/event/sunday-night-jazz-jam-in-vancouver/2020-03-01/
LOCATION:Brickhouse Bar & Grill\, 109 W 15th St\, Vancouver\, WA\, 98660\, United States
ATTACH;FMTTYPE=image/jpeg:https://tomgrant.com/wp-content/uploads/2020/01/TG_BrickHouseJam_Instapost-e1579818016903.jpg
END:VEVENT
BEGIN:VEVENT
DTSTART;TZID=America/Los_Angeles:20200223T183000
DTEND;TZID=America/Los_Angeles:20200223T213000
DTSTAMP:20260420T075500
CREATED:20200123T221853Z
LAST-MODIFIED:20200826T202351Z
UID:10001357-1582482600-1582493400@tomgrant.com
SUMMARY:Sunday Night Jazz Jam in Vancouver
DESCRIPTION:
URL:https://tomgrant.com/event/sunday-night-jazz-jam-in-vancouver/2020-02-23/
LOCATION:Brickhouse Bar & Grill\, 109 W 15th St\, Vancouver\, WA\, 98660\, United States
ATTACH;FMTTYPE=image/jpeg:https://tomgrant.com/wp-content/uploads/2020/01/TG_BrickHouseJam_Instapost-e1579818016903.jpg
END:VEVENT
BEGIN:VEVENT
DTSTART;TZID=America/Los_Angeles:20200216T183000
DTEND;TZID=America/Los_Angeles:20200216T213000
DTSTAMP:20260420T075500
CREATED:20200123T221853Z
LAST-MODIFIED:20200826T202351Z
UID:10001356-1581877800-1581888600@tomgrant.com
SUMMARY:Sunday Night Jazz Jam in Vancouver
DESCRIPTION:
URL:https://tomgrant.com/event/sunday-night-jazz-jam-in-vancouver/2020-02-16/
LOCATION:Brickhouse Bar & Grill\, 109 W 15th St\, Vancouver\, WA\, 98660\, United States
ATTACH;FMTTYPE=image/jpeg:https://tomgrant.com/wp-content/uploads/2020/01/TG_BrickHouseJam_Instapost-e1579818016903.jpg
END:VEVENT
BEGIN:VEVENT
DTSTART;TZID=America/Los_Angeles:20200209T183000
DTEND;TZID=America/Los_Angeles:20200209T213000
DTSTAMP:20260420T075500
CREATED:20200123T221853Z
LAST-MODIFIED:20200826T202351Z
UID:10001355-1581273000-1581283800@tomgrant.com
SUMMARY:Sunday Night Jazz Jam in Vancouver
DESCRIPTION:
URL:https://tomgrant.com/event/sunday-night-jazz-jam-in-vancouver/2020-02-09/
LOCATION:Brickhouse Bar & Grill\, 109 W 15th St\, Vancouver\, WA\, 98660\, United States
ATTACH;FMTTYPE=image/jpeg:https://tomgrant.com/wp-content/uploads/2020/01/TG_BrickHouseJam_Instapost-e1579818016903.jpg
END:VEVENT
BEGIN:VEVENT
DTSTART;TZID=America/Los_Angeles:20200202T183000
DTEND;TZID=America/Los_Angeles:20200202T213000
DTSTAMP:20260420T075500
CREATED:20200123T221853Z
LAST-MODIFIED:20200826T202351Z
UID:10001354-1580668200-1580679000@tomgrant.com
SUMMARY:Sunday Night Jazz Jam in Vancouver
DESCRIPTION:
URL:https://tomgrant.com/event/sunday-night-jazz-jam-in-vancouver/2020-02-02/
LOCATION:Brickhouse Bar & Grill\, 109 W 15th St\, Vancouver\, WA\, 98660\, United States
ATTACH;FMTTYPE=image/jpeg:https://tomgrant.com/wp-content/uploads/2020/01/TG_BrickHouseJam_Instapost-e1579818016903.jpg
END:VEVENT
END:VCALENDAR