BEGIN:VCALENDAR
VERSION:2.0
PRODID:-//Tom Grant - ECPv6.15.20//NONSGML v1.0//EN
CALSCALE:GREGORIAN
METHOD:PUBLISH
X-WR-CALNAME:Tom Grant
X-ORIGINAL-URL:https://tomgrant.com
X-WR-CALDESC:Events for Tom Grant
REFRESH-INTERVAL;VALUE=DURATION:PT1H
X-Robots-Tag:noindex
X-PUBLISHED-TTL:PT1H
BEGIN:VTIMEZONE
TZID:America/Los_Angeles
BEGIN:DAYLIGHT
TZOFFSETFROM:-0800
TZOFFSETTO:-0700
TZNAME:PDT
DTSTART:20180311T100000
END:DAYLIGHT
BEGIN:STANDARD
TZOFFSETFROM:-0700
TZOFFSETTO:-0800
TZNAME:PST
DTSTART:20181104T090000
END:STANDARD
BEGIN:DAYLIGHT
TZOFFSETFROM:-0800
TZOFFSETTO:-0700
TZNAME:PDT
DTSTART:20190310T100000
END:DAYLIGHT
BEGIN:STANDARD
TZOFFSETFROM:-0700
TZOFFSETTO:-0800
TZNAME:PST
DTSTART:20191103T090000
END:STANDARD
BEGIN:DAYLIGHT
TZOFFSETFROM:-0800
TZOFFSETTO:-0700
TZNAME:PDT
DTSTART:20200308T100000
END:DAYLIGHT
BEGIN:STANDARD
TZOFFSETFROM:-0700
TZOFFSETTO:-0800
TZNAME:PST
DTSTART:20201101T090000
END:STANDARD
END:VTIMEZONE
BEGIN:VEVENT
DTSTART;TZID=America/Los_Angeles:20191205T190000
DTEND;TZID=America/Los_Angeles:20191205T220000
DTSTAMP:20260419T225149
CREATED:20191122T214848Z
LAST-MODIFIED:20191122T215006Z
UID:10001346-1575572400-1575583200@tomgrant.com
SUMMARY:Winter Wonderful with Shelly Rudolph
DESCRIPTION:Catfish Lou’s is a great music spot with a bluesy vibe\, so we’re bringing a holiday set with plenty of soul.  Tickets avail in advance on Eventbrite –   HERE!
URL:https://tomgrant.com/event/winter-wonderful-with-shelly-rudolph/
LOCATION:Catfish Lou\, Beaverton\, United States
CATEGORIES:Club gig,Live Jazz
ATTACH;FMTTYPE=image/jpeg:https://tomgrant.com/wp-content/uploads/2018/12/1C966822-7D52-47C0-8117-45847B017820.jpeg
END:VEVENT
END:VCALENDAR