BEGIN:VCALENDAR
VERSION:2.0
PRODID:-//Tom Grant - ECPv6.15.20//NONSGML v1.0//EN
CALSCALE:GREGORIAN
METHOD:PUBLISH
X-WR-CALNAME:Tom Grant
X-ORIGINAL-URL:https://tomgrant.com
X-WR-CALDESC:Events for Tom Grant
REFRESH-INTERVAL;VALUE=DURATION:PT1H
X-Robots-Tag:noindex
X-PUBLISHED-TTL:PT1H
BEGIN:VTIMEZONE
TZID:America/Los_Angeles
BEGIN:DAYLIGHT
TZOFFSETFROM:-0800
TZOFFSETTO:-0700
TZNAME:PDT
DTSTART:20210314T100000
END:DAYLIGHT
BEGIN:STANDARD
TZOFFSETFROM:-0700
TZOFFSETTO:-0800
TZNAME:PST
DTSTART:20211107T090000
END:STANDARD
BEGIN:DAYLIGHT
TZOFFSETFROM:-0800
TZOFFSETTO:-0700
TZNAME:PDT
DTSTART:20220313T100000
END:DAYLIGHT
BEGIN:STANDARD
TZOFFSETFROM:-0700
TZOFFSETTO:-0800
TZNAME:PST
DTSTART:20221106T090000
END:STANDARD
BEGIN:DAYLIGHT
TZOFFSETFROM:-0800
TZOFFSETTO:-0700
TZNAME:PDT
DTSTART:20230312T100000
END:DAYLIGHT
BEGIN:STANDARD
TZOFFSETFROM:-0700
TZOFFSETTO:-0800
TZNAME:PST
DTSTART:20231105T090000
END:STANDARD
BEGIN:DAYLIGHT
TZOFFSETFROM:-0800
TZOFFSETTO:-0700
TZNAME:PDT
DTSTART:20240310T100000
END:DAYLIGHT
BEGIN:STANDARD
TZOFFSETFROM:-0700
TZOFFSETTO:-0800
TZNAME:PST
DTSTART:20241103T090000
END:STANDARD
BEGIN:DAYLIGHT
TZOFFSETFROM:-0800
TZOFFSETTO:-0700
TZNAME:PDT
DTSTART:20250309T100000
END:DAYLIGHT
BEGIN:STANDARD
TZOFFSETFROM:-0700
TZOFFSETTO:-0800
TZNAME:PST
DTSTART:20251102T090000
END:STANDARD
END:VTIMEZONE
BEGIN:VEVENT
DTSTART;TZID=America/Los_Angeles:20240918T180000
DTEND;TZID=America/Los_Angeles:20240918T210000
DTSTAMP:20260419T071436
CREATED:20240418T204517Z
LAST-MODIFIED:20240820T195459Z
UID:10002475-1726682400-1726693200@tomgrant.com
SUMMARY:The Underground @ deFuego Grille in Clackamas
DESCRIPTION:The Underground transports you into an Art Nouveau-inspired Speakeasy with live jazz\, nightly. Reserve your table for dinner\, drinks\, or dessert.\nReservations: (503) 652-7505
URL:https://tomgrant.com/event/underground-in-clackamas-monarch-hotel-2/2024-09-18/
LOCATION:de Fuego Grille  | Underground\, 12566 SE 93rd\, Clackamas\, OR\, United States
ATTACH;FMTTYPE=image/jpeg:https://tomgrant.com/wp-content/uploads/2021/09/TG-de-Fuego-FB-post.jpg
END:VEVENT
BEGIN:VEVENT
DTSTART;TZID=America/Los_Angeles:20240907T190000
DTEND;TZID=America/Los_Angeles:20240907T220000
DTSTAMP:20260419T071436
CREATED:20240821T190014Z
LAST-MODIFIED:20240821T190150Z
UID:10002485-1725735600-1725746400@tomgrant.com
SUMMARY:The Underground with Ron Steen\, Ed Bennett\, Tom Grant & Vocalist Toni Lincoln!
DESCRIPTION:The Underground transports you into an Art Nouveau-inspired Speakeasy with live jazz\, nightly. Reserve your table for dinner\, drinks\, or dessert.\nReservations: (503) 652-7505
URL:https://tomgrant.com/event/the-underground-with-ron-steen-ed-bennett-tom-grant-vocalist-toni-lincoln/
LOCATION:de Fuego Grille  | Underground\, 12566 SE 93rd\, Clackamas\, OR\, United States
ATTACH;FMTTYPE=image/jpeg:https://tomgrant.com/wp-content/uploads/2021/09/TG-de-Fuego-FB-post.jpg
END:VEVENT
BEGIN:VEVENT
DTSTART;TZID=America/Los_Angeles:20240904T180000
DTEND;TZID=America/Los_Angeles:20240904T210000
DTSTAMP:20260419T071436
CREATED:20240418T204517Z
LAST-MODIFIED:20240820T195459Z
UID:10002474-1725472800-1725483600@tomgrant.com
SUMMARY:The Underground @ deFuego Grille in Clackamas
DESCRIPTION:The Underground transports you into an Art Nouveau-inspired Speakeasy with live jazz\, nightly. Reserve your table for dinner\, drinks\, or dessert.\nReservations: (503) 652-7505
URL:https://tomgrant.com/event/underground-in-clackamas-monarch-hotel-2/2024-09-04/
LOCATION:de Fuego Grille  | Underground\, 12566 SE 93rd\, Clackamas\, OR\, United States
ATTACH;FMTTYPE=image/jpeg:https://tomgrant.com/wp-content/uploads/2021/09/TG-de-Fuego-FB-post.jpg
END:VEVENT
BEGIN:VEVENT
DTSTART;TZID=America/Los_Angeles:20240821T180000
DTEND;TZID=America/Los_Angeles:20240821T210000
DTSTAMP:20260419T071436
CREATED:20240418T204517Z
LAST-MODIFIED:20240820T195459Z
UID:10002473-1724263200-1724274000@tomgrant.com
SUMMARY:The Underground @ deFuego Grille in Clackamas
DESCRIPTION:The Underground transports you into an Art Nouveau-inspired Speakeasy with live jazz\, nightly. Reserve your table for dinner\, drinks\, or dessert.\nReservations: (503) 652-7505
URL:https://tomgrant.com/event/underground-in-clackamas-monarch-hotel-2/2024-08-21/
LOCATION:de Fuego Grille  | Underground\, 12566 SE 93rd\, Clackamas\, OR\, United States
ATTACH;FMTTYPE=image/jpeg:https://tomgrant.com/wp-content/uploads/2021/09/TG-de-Fuego-FB-post.jpg
END:VEVENT
BEGIN:VEVENT
DTSTART;TZID=America/Los_Angeles:20240717T180000
DTEND;TZID=America/Los_Angeles:20240717T210000
DTSTAMP:20260419T071436
CREATED:20240418T204517Z
LAST-MODIFIED:20240820T195459Z
UID:10002444-1721239200-1721250000@tomgrant.com
SUMMARY:The Underground @ deFuego Grille in Clackamas
DESCRIPTION:The Underground transports you into an Art Nouveau-inspired Speakeasy with live jazz\, nightly. Reserve your table for dinner\, drinks\, or dessert.\nReservations: (503) 652-7505
URL:https://tomgrant.com/event/underground-in-clackamas-monarch-hotel-2/2024-07-17/
LOCATION:de Fuego Grille  | Underground\, 12566 SE 93rd\, Clackamas\, OR\, United States
ATTACH;FMTTYPE=image/jpeg:https://tomgrant.com/wp-content/uploads/2021/09/TG-de-Fuego-FB-post.jpg
END:VEVENT
BEGIN:VEVENT
DTSTART;TZID=America/Los_Angeles:20240619T180000
DTEND;TZID=America/Los_Angeles:20240619T210000
DTSTAMP:20260419T071436
CREATED:20240418T204517Z
LAST-MODIFIED:20240820T195459Z
UID:10002437-1718820000-1718830800@tomgrant.com
SUMMARY:The Underground @ deFuego Grille in Clackamas
DESCRIPTION:The Underground transports you into an Art Nouveau-inspired Speakeasy with live jazz\, nightly. Reserve your table for dinner\, drinks\, or dessert.\nReservations: (503) 652-7505
URL:https://tomgrant.com/event/underground-in-clackamas-monarch-hotel-2/2024-06-19/
LOCATION:de Fuego Grille  | Underground\, 12566 SE 93rd\, Clackamas\, OR\, United States
ATTACH;FMTTYPE=image/jpeg:https://tomgrant.com/wp-content/uploads/2021/09/TG-de-Fuego-FB-post.jpg
END:VEVENT
BEGIN:VEVENT
DTSTART;TZID=America/Los_Angeles:20240515T180000
DTEND;TZID=America/Los_Angeles:20240515T210000
DTSTAMP:20260419T071436
CREATED:20240418T204517Z
LAST-MODIFIED:20240820T195459Z
UID:10002431-1715796000-1715806800@tomgrant.com
SUMMARY:The Underground @ deFuego Grille in Clackamas
DESCRIPTION:The Underground transports you into an Art Nouveau-inspired Speakeasy with live jazz\, nightly. Reserve your table for dinner\, drinks\, or dessert.\nReservations: (503) 652-7505
URL:https://tomgrant.com/event/underground-in-clackamas-monarch-hotel-2/2024-05-15/
LOCATION:de Fuego Grille  | Underground\, 12566 SE 93rd\, Clackamas\, OR\, United States
ATTACH;FMTTYPE=image/jpeg:https://tomgrant.com/wp-content/uploads/2021/09/TG-de-Fuego-FB-post.jpg
END:VEVENT
BEGIN:VEVENT
DTSTART;TZID=America/Los_Angeles:20240501T180000
DTEND;TZID=America/Los_Angeles:20240501T210000
DTSTAMP:20260419T071436
CREATED:20240103T232551Z
LAST-MODIFIED:20240410T210432Z
UID:10002429-1714586400-1714597200@tomgrant.com
SUMMARY:The Underground @ deFuego Grille in Clackamas
DESCRIPTION:The Underground transports you into an Art Nouveau-inspired Speakeasy with live jazz\, nightly. Reserve your table for dinner\, drinks\, or dessert.\nReservations: (503) 652-7505
URL:https://tomgrant.com/event/underground-in-clackamas-monarch-hotel/2024-05-01/
LOCATION:de Fuego Grille  | Underground\, 12566 SE 93rd\, Clackamas\, OR\, United States
ATTACH;FMTTYPE=image/jpeg:https://tomgrant.com/wp-content/uploads/2021/09/TG-de-Fuego-FB-post.jpg
END:VEVENT
BEGIN:VEVENT
DTSTART;TZID=America/Los_Angeles:20240417T180000
DTEND;TZID=America/Los_Angeles:20240417T210000
DTSTAMP:20260419T071436
CREATED:20240103T232551Z
LAST-MODIFIED:20240410T210432Z
UID:10002430-1713376800-1713387600@tomgrant.com
SUMMARY:The Underground @ deFuego Grille in Clackamas
DESCRIPTION:The Underground transports you into an Art Nouveau-inspired Speakeasy with live jazz\, nightly. Reserve your table for dinner\, drinks\, or dessert.\nReservations: (503) 652-7505
URL:https://tomgrant.com/event/underground-in-clackamas-monarch-hotel/2024-04-17/
LOCATION:de Fuego Grille  | Underground\, 12566 SE 93rd\, Clackamas\, OR\, United States
ATTACH;FMTTYPE=image/jpeg:https://tomgrant.com/wp-content/uploads/2021/09/TG-de-Fuego-FB-post.jpg
END:VEVENT
BEGIN:VEVENT
DTSTART;TZID=America/Los_Angeles:20240403T180000
DTEND;TZID=America/Los_Angeles:20240403T210000
DTSTAMP:20260419T071436
CREATED:20240103T232551Z
LAST-MODIFIED:20240410T210432Z
UID:10002424-1712167200-1712178000@tomgrant.com
SUMMARY:The Underground @ deFuego Grille in Clackamas
DESCRIPTION:The Underground transports you into an Art Nouveau-inspired Speakeasy with live jazz\, nightly. Reserve your table for dinner\, drinks\, or dessert.\nReservations: (503) 652-7505
URL:https://tomgrant.com/event/underground-in-clackamas-monarch-hotel/2024-04-03/
LOCATION:de Fuego Grille  | Underground\, 12566 SE 93rd\, Clackamas\, OR\, United States
ATTACH;FMTTYPE=image/jpeg:https://tomgrant.com/wp-content/uploads/2021/09/TG-de-Fuego-FB-post.jpg
END:VEVENT
BEGIN:VEVENT
DTSTART;TZID=America/Los_Angeles:20240320T180000
DTEND;TZID=America/Los_Angeles:20240320T210000
DTSTAMP:20260419T071436
CREATED:20240103T232551Z
LAST-MODIFIED:20240410T210432Z
UID:10002196-1710957600-1710968400@tomgrant.com
SUMMARY:The Underground @ deFuego Grille in Clackamas
DESCRIPTION:The Underground transports you into an Art Nouveau-inspired Speakeasy with live jazz\, nightly. Reserve your table for dinner\, drinks\, or dessert.\nReservations: (503) 652-7505
URL:https://tomgrant.com/event/underground-in-clackamas-monarch-hotel/2024-03-20/
LOCATION:de Fuego Grille  | Underground\, 12566 SE 93rd\, Clackamas\, OR\, United States
ATTACH;FMTTYPE=image/jpeg:https://tomgrant.com/wp-content/uploads/2021/09/TG-de-Fuego-FB-post.jpg
END:VEVENT
BEGIN:VEVENT
DTSTART;TZID=America/Los_Angeles:20240306T180000
DTEND;TZID=America/Los_Angeles:20240306T210000
DTSTAMP:20260419T071436
CREATED:20240103T232551Z
LAST-MODIFIED:20240410T210432Z
UID:10002195-1709748000-1709758800@tomgrant.com
SUMMARY:The Underground @ deFuego Grille in Clackamas
DESCRIPTION:The Underground transports you into an Art Nouveau-inspired Speakeasy with live jazz\, nightly. Reserve your table for dinner\, drinks\, or dessert.\nReservations: (503) 652-7505
URL:https://tomgrant.com/event/underground-in-clackamas-monarch-hotel/2024-03-06/
LOCATION:de Fuego Grille  | Underground\, 12566 SE 93rd\, Clackamas\, OR\, United States
ATTACH;FMTTYPE=image/jpeg:https://tomgrant.com/wp-content/uploads/2021/09/TG-de-Fuego-FB-post.jpg
END:VEVENT
BEGIN:VEVENT
DTSTART;TZID=America/Los_Angeles:20240103T180000
DTEND;TZID=America/Los_Angeles:20240103T210000
DTSTAMP:20260419T071436
CREATED:20240103T232551Z
LAST-MODIFIED:20240410T210432Z
UID:10002127-1704304800-1704315600@tomgrant.com
SUMMARY:The Underground @ deFuego Grille in Clackamas
DESCRIPTION:The Underground transports you into an Art Nouveau-inspired Speakeasy with live jazz\, nightly. Reserve your table for dinner\, drinks\, or dessert.\nReservations: (503) 652-7505
URL:https://tomgrant.com/event/underground-in-clackamas-monarch-hotel/2024-01-03/
LOCATION:de Fuego Grille  | Underground\, 12566 SE 93rd\, Clackamas\, OR\, United States
ATTACH;FMTTYPE=image/jpeg:https://tomgrant.com/wp-content/uploads/2021/09/TG-de-Fuego-FB-post.jpg
END:VEVENT
BEGIN:VEVENT
DTSTART;TZID=America/Los_Angeles:20221229T180000
DTEND;TZID=America/Los_Angeles:20221229T210000
DTSTAMP:20260419T071436
CREATED:20220406T230140Z
LAST-MODIFIED:20220921T034524Z
UID:10001204-1672336800-1672347600@tomgrant.com
SUMMARY:The Underground | de Fuego Grille
DESCRIPTION:The UNDERGROUND is one of the Eastside’s coolest Jazz spots\, nestled below the Monarch Hotel in Clackamas. Reservations recommended.  The Underground . 12566 SE 93rd Ave . Clackamas\, OR 97015 . PHONE 503-652-7505
URL:https://tomgrant.com/event/de-fuego-grille-underground-3-2022-05-05-2022-09-29/2022-12-29/
LOCATION:de Fuego Grille  | Underground\, 12566 SE 93rd\, Clackamas\, OR\, United States
CATEGORIES:Club gig,Live Jazz,Live Music
ATTACH;FMTTYPE=image/jpeg:https://tomgrant.com/wp-content/uploads/2021/09/TG-de-Fuego-FB-post.jpg
END:VEVENT
BEGIN:VEVENT
DTSTART;TZID=America/Los_Angeles:20221215T180000
DTEND;TZID=America/Los_Angeles:20221215T210000
DTSTAMP:20260419T071436
CREATED:20220406T230140Z
LAST-MODIFIED:20220921T034524Z
UID:10001203-1671127200-1671138000@tomgrant.com
SUMMARY:The Underground | de Fuego Grille
DESCRIPTION:The UNDERGROUND is one of the Eastside’s coolest Jazz spots\, nestled below the Monarch Hotel in Clackamas. Reservations recommended.  The Underground . 12566 SE 93rd Ave . Clackamas\, OR 97015 . PHONE 503-652-7505
URL:https://tomgrant.com/event/de-fuego-grille-underground-3-2022-05-05-2022-09-29/2022-12-15/
LOCATION:de Fuego Grille  | Underground\, 12566 SE 93rd\, Clackamas\, OR\, United States
CATEGORIES:Club gig,Live Jazz,Live Music
ATTACH;FMTTYPE=image/jpeg:https://tomgrant.com/wp-content/uploads/2021/09/TG-de-Fuego-FB-post.jpg
END:VEVENT
BEGIN:VEVENT
DTSTART;TZID=America/Los_Angeles:20221201T180000
DTEND;TZID=America/Los_Angeles:20221201T210000
DTSTAMP:20260419T071436
CREATED:20220406T230140Z
LAST-MODIFIED:20220921T034524Z
UID:10001202-1669917600-1669928400@tomgrant.com
SUMMARY:The Underground | de Fuego Grille
DESCRIPTION:The UNDERGROUND is one of the Eastside’s coolest Jazz spots\, nestled below the Monarch Hotel in Clackamas. Reservations recommended.  The Underground . 12566 SE 93rd Ave . Clackamas\, OR 97015 . PHONE 503-652-7505
URL:https://tomgrant.com/event/de-fuego-grille-underground-3-2022-05-05-2022-09-29/2022-12-01/
LOCATION:de Fuego Grille  | Underground\, 12566 SE 93rd\, Clackamas\, OR\, United States
CATEGORIES:Club gig,Live Jazz,Live Music
ATTACH;FMTTYPE=image/jpeg:https://tomgrant.com/wp-content/uploads/2021/09/TG-de-Fuego-FB-post.jpg
END:VEVENT
BEGIN:VEVENT
DTSTART;TZID=America/Los_Angeles:20221124T180000
DTEND;TZID=America/Los_Angeles:20221124T210000
DTSTAMP:20260419T071436
CREATED:20220406T230140Z
LAST-MODIFIED:20220921T034524Z
UID:10001201-1669312800-1669323600@tomgrant.com
SUMMARY:The Underground | de Fuego Grille
DESCRIPTION:The UNDERGROUND is one of the Eastside’s coolest Jazz spots\, nestled below the Monarch Hotel in Clackamas. Reservations recommended.  The Underground . 12566 SE 93rd Ave . Clackamas\, OR 97015 . PHONE 503-652-7505
URL:https://tomgrant.com/event/de-fuego-grille-underground-3-2022-05-05-2022-09-29/2022-11-24/
LOCATION:de Fuego Grille  | Underground\, 12566 SE 93rd\, Clackamas\, OR\, United States
CATEGORIES:Club gig,Live Jazz,Live Music
ATTACH;FMTTYPE=image/jpeg:https://tomgrant.com/wp-content/uploads/2021/09/TG-de-Fuego-FB-post.jpg
END:VEVENT
BEGIN:VEVENT
DTSTART;TZID=America/Los_Angeles:20221110T180000
DTEND;TZID=America/Los_Angeles:20221110T210000
DTSTAMP:20260419T071436
CREATED:20220406T230140Z
LAST-MODIFIED:20220921T034524Z
UID:10001200-1668103200-1668114000@tomgrant.com
SUMMARY:The Underground | de Fuego Grille
DESCRIPTION:The UNDERGROUND is one of the Eastside’s coolest Jazz spots\, nestled below the Monarch Hotel in Clackamas. Reservations recommended.  The Underground . 12566 SE 93rd Ave . Clackamas\, OR 97015 . PHONE 503-652-7505
URL:https://tomgrant.com/event/de-fuego-grille-underground-3-2022-05-05-2022-09-29/2022-11-10/
LOCATION:de Fuego Grille  | Underground\, 12566 SE 93rd\, Clackamas\, OR\, United States
CATEGORIES:Club gig,Live Jazz,Live Music
ATTACH;FMTTYPE=image/jpeg:https://tomgrant.com/wp-content/uploads/2021/09/TG-de-Fuego-FB-post.jpg
END:VEVENT
BEGIN:VEVENT
DTSTART;TZID=America/Los_Angeles:20221013T180000
DTEND;TZID=America/Los_Angeles:20221013T210000
DTSTAMP:20260419T071436
CREATED:20220406T230140Z
LAST-MODIFIED:20220921T034524Z
UID:10001199-1665684000-1665694800@tomgrant.com
SUMMARY:The Underground | de Fuego Grille
DESCRIPTION:The UNDERGROUND is one of the Eastside’s coolest Jazz spots\, nestled below the Monarch Hotel in Clackamas. Reservations recommended.  The Underground . 12566 SE 93rd Ave . Clackamas\, OR 97015 . PHONE 503-652-7505
URL:https://tomgrant.com/event/de-fuego-grille-underground-3-2022-05-05-2022-09-29/2022-10-13/
LOCATION:de Fuego Grille  | Underground\, 12566 SE 93rd\, Clackamas\, OR\, United States
CATEGORIES:Club gig,Live Jazz,Live Music
ATTACH;FMTTYPE=image/jpeg:https://tomgrant.com/wp-content/uploads/2021/09/TG-de-Fuego-FB-post.jpg
END:VEVENT
BEGIN:VEVENT
DTSTART;TZID=America/Los_Angeles:20220929T180000
DTEND;TZID=America/Los_Angeles:20220929T210000
DTSTAMP:20260419T071436
CREATED:20220406T230140Z
LAST-MODIFIED:20220921T034524Z
UID:10001198-1664474400-1664485200@tomgrant.com
SUMMARY:The Underground | de Fuego Grille
DESCRIPTION:The UNDERGROUND is one of the Eastside’s coolest Jazz spots\, nestled below the Monarch Hotel in Clackamas. Reservations recommended.  The Underground . 12566 SE 93rd Ave . Clackamas\, OR 97015 . PHONE 503-652-7505
URL:https://tomgrant.com/event/de-fuego-grille-underground-3-2022-05-05-2022-09-29/2022-09-29/
LOCATION:de Fuego Grille  | Underground\, 12566 SE 93rd\, Clackamas\, OR\, United States
CATEGORIES:Club gig,Live Jazz,Live Music
ATTACH;FMTTYPE=image/jpeg:https://tomgrant.com/wp-content/uploads/2021/09/TG-de-Fuego-FB-post.jpg
END:VEVENT
BEGIN:VEVENT
DTSTART;TZID=America/Los_Angeles:20220929T180000
DTEND;TZID=America/Los_Angeles:20220929T210000
DTSTAMP:20260419T071436
CREATED:20220406T230140Z
LAST-MODIFIED:20220721T184020Z
UID:10001188-1664474400-1664485200@tomgrant.com
SUMMARY:De Fuego Grille  | Underground
DESCRIPTION:The newest eastside Jazz spot with a cool vibe and fabulous refreshments.  Catch Tom at the piano at the Underground at de Fuego Grille in Clackamas\, inside the Monarch Hotel. Reservations recommended.
URL:https://tomgrant.com/event/de-fuego-grille-underground-3-2022-05-05/2022-09-29/
LOCATION:de Fuego Grille  | Underground\, 12566 SE 93rd\, Clackamas\, OR\, United States
CATEGORIES:Club gig,Live Jazz,Live Music
ATTACH;FMTTYPE=image/jpeg:https://tomgrant.com/wp-content/uploads/2021/09/TG-de-Fuego-FB-post.jpg
END:VEVENT
BEGIN:VEVENT
DTSTART;TZID=America/Los_Angeles:20220915T180000
DTEND;TZID=America/Los_Angeles:20220915T210000
DTSTAMP:20260419T071436
CREATED:20220406T230140Z
LAST-MODIFIED:20220721T184020Z
UID:10001187-1663264800-1663275600@tomgrant.com
SUMMARY:De Fuego Grille  | Underground
DESCRIPTION:The newest eastside Jazz spot with a cool vibe and fabulous refreshments.  Catch Tom at the piano at the Underground at de Fuego Grille in Clackamas\, inside the Monarch Hotel. Reservations recommended.
URL:https://tomgrant.com/event/de-fuego-grille-underground-3-2022-05-05/2022-09-15/
LOCATION:de Fuego Grille  | Underground\, 12566 SE 93rd\, Clackamas\, OR\, United States
CATEGORIES:Club gig,Live Jazz,Live Music
ATTACH;FMTTYPE=image/jpeg:https://tomgrant.com/wp-content/uploads/2021/09/TG-de-Fuego-FB-post.jpg
END:VEVENT
BEGIN:VEVENT
DTSTART;TZID=America/Los_Angeles:20220901T180000
DTEND;TZID=America/Los_Angeles:20220901T210000
DTSTAMP:20260419T071436
CREATED:20220406T230140Z
LAST-MODIFIED:20220921T034524Z
UID:10001197-1662055200-1662066000@tomgrant.com
SUMMARY:The Underground | de Fuego Grille
DESCRIPTION:The UNDERGROUND is one of the Eastside’s coolest Jazz spots\, nestled below the Monarch Hotel in Clackamas. Reservations recommended.  The Underground . 12566 SE 93rd Ave . Clackamas\, OR 97015 . PHONE 503-652-7505
URL:https://tomgrant.com/event/de-fuego-grille-underground-3-2022-05-05-2022-09-29/2022-09-01/
LOCATION:de Fuego Grille  | Underground\, 12566 SE 93rd\, Clackamas\, OR\, United States
CATEGORIES:Club gig,Live Jazz,Live Music
ATTACH;FMTTYPE=image/jpeg:https://tomgrant.com/wp-content/uploads/2021/09/TG-de-Fuego-FB-post.jpg
END:VEVENT
BEGIN:VEVENT
DTSTART;TZID=America/Los_Angeles:20220901T180000
DTEND;TZID=America/Los_Angeles:20220901T210000
DTSTAMP:20260419T071436
CREATED:20220406T230140Z
LAST-MODIFIED:20220721T184020Z
UID:10001186-1662055200-1662066000@tomgrant.com
SUMMARY:De Fuego Grille  | Underground
DESCRIPTION:The newest eastside Jazz spot with a cool vibe and fabulous refreshments.  Catch Tom at the piano at the Underground at de Fuego Grille in Clackamas\, inside the Monarch Hotel. Reservations recommended.
URL:https://tomgrant.com/event/de-fuego-grille-underground-3-2022-05-05/2022-09-01/
LOCATION:de Fuego Grille  | Underground\, 12566 SE 93rd\, Clackamas\, OR\, United States
CATEGORIES:Club gig,Live Jazz,Live Music
ATTACH;FMTTYPE=image/jpeg:https://tomgrant.com/wp-content/uploads/2021/09/TG-de-Fuego-FB-post.jpg
END:VEVENT
BEGIN:VEVENT
DTSTART;TZID=America/Los_Angeles:20220825T180000
DTEND;TZID=America/Los_Angeles:20220825T210000
DTSTAMP:20260419T071436
CREATED:20220406T230140Z
LAST-MODIFIED:20220921T034524Z
UID:10001196-1661450400-1661461200@tomgrant.com
SUMMARY:The Underground | de Fuego Grille
DESCRIPTION:The UNDERGROUND is one of the Eastside’s coolest Jazz spots\, nestled below the Monarch Hotel in Clackamas. Reservations recommended.  The Underground . 12566 SE 93rd Ave . Clackamas\, OR 97015 . PHONE 503-652-7505
URL:https://tomgrant.com/event/de-fuego-grille-underground-3-2022-05-05-2022-09-29/2022-08-25/
LOCATION:de Fuego Grille  | Underground\, 12566 SE 93rd\, Clackamas\, OR\, United States
CATEGORIES:Club gig,Live Jazz,Live Music
ATTACH;FMTTYPE=image/jpeg:https://tomgrant.com/wp-content/uploads/2021/09/TG-de-Fuego-FB-post.jpg
END:VEVENT
BEGIN:VEVENT
DTSTART;TZID=America/Los_Angeles:20220825T180000
DTEND;TZID=America/Los_Angeles:20220825T210000
DTSTAMP:20260419T071436
CREATED:20220406T230140Z
LAST-MODIFIED:20220527T025453Z
UID:10001194-1661450400-1661461200@tomgrant.com
SUMMARY:De Fuego Grille  | Underground
DESCRIPTION:The newest eastside Jazz spot with a cool vibe and fabulous refreshments.  Catch Tom at the piano at the Underground at de Fuego Grille in Clackamas\, inside the Monarch Hotel. Reservations recommended.
URL:https://tomgrant.com/event/de-fuego-grille-underground-3-2022-05-05-2022-06-16/2022-08-25/
LOCATION:de Fuego Grille  | Underground\, 12566 SE 93rd\, Clackamas\, OR\, United States
CATEGORIES:Club gig,Live Jazz,Live Music
ATTACH;FMTTYPE=image/jpeg:https://tomgrant.com/wp-content/uploads/2021/09/TG-de-Fuego-FB-post.jpg
END:VEVENT
BEGIN:VEVENT
DTSTART;TZID=America/Los_Angeles:20220818T180000
DTEND;TZID=America/Los_Angeles:20220818T210000
DTSTAMP:20260419T071436
CREATED:20220406T230140Z
LAST-MODIFIED:20220527T025453Z
UID:10001193-1660845600-1660856400@tomgrant.com
SUMMARY:De Fuego Grille  | Underground
DESCRIPTION:The newest eastside Jazz spot with a cool vibe and fabulous refreshments.  Catch Tom at the piano at the Underground at de Fuego Grille in Clackamas\, inside the Monarch Hotel. Reservations recommended.
URL:https://tomgrant.com/event/de-fuego-grille-underground-3-2022-05-05-2022-06-16/2022-08-18/
LOCATION:de Fuego Grille  | Underground\, 12566 SE 93rd\, Clackamas\, OR\, United States
CATEGORIES:Club gig,Live Jazz,Live Music
ATTACH;FMTTYPE=image/jpeg:https://tomgrant.com/wp-content/uploads/2021/09/TG-de-Fuego-FB-post.jpg
END:VEVENT
BEGIN:VEVENT
DTSTART;TZID=America/Los_Angeles:20220811T180000
DTEND;TZID=America/Los_Angeles:20220811T210000
DTSTAMP:20260419T071436
CREATED:20220406T230140Z
LAST-MODIFIED:20220721T184020Z
UID:10001185-1660240800-1660251600@tomgrant.com
SUMMARY:De Fuego Grille  | Underground
DESCRIPTION:The newest eastside Jazz spot with a cool vibe and fabulous refreshments.  Catch Tom at the piano at the Underground at de Fuego Grille in Clackamas\, inside the Monarch Hotel. Reservations recommended.
URL:https://tomgrant.com/event/de-fuego-grille-underground-3-2022-05-05/2022-08-11/
LOCATION:de Fuego Grille  | Underground\, 12566 SE 93rd\, Clackamas\, OR\, United States
CATEGORIES:Club gig,Live Jazz,Live Music
ATTACH;FMTTYPE=image/jpeg:https://tomgrant.com/wp-content/uploads/2021/09/TG-de-Fuego-FB-post.jpg
END:VEVENT
BEGIN:VEVENT
DTSTART;TZID=America/Los_Angeles:20220811T180000
DTEND;TZID=America/Los_Angeles:20220811T210000
DTSTAMP:20260419T071436
CREATED:20220406T230140Z
LAST-MODIFIED:20220921T034524Z
UID:10001195-1660240800-1660251600@tomgrant.com
SUMMARY:The Underground | de Fuego Grille
DESCRIPTION:The UNDERGROUND is one of the Eastside’s coolest Jazz spots\, nestled below the Monarch Hotel in Clackamas. Reservations recommended.  The Underground . 12566 SE 93rd Ave . Clackamas\, OR 97015 . PHONE 503-652-7505
URL:https://tomgrant.com/event/de-fuego-grille-underground-3-2022-05-05-2022-09-29/2022-08-11/
LOCATION:de Fuego Grille  | Underground\, 12566 SE 93rd\, Clackamas\, OR\, United States
CATEGORIES:Club gig,Live Jazz,Live Music
ATTACH;FMTTYPE=image/jpeg:https://tomgrant.com/wp-content/uploads/2021/09/TG-de-Fuego-FB-post.jpg
END:VEVENT
BEGIN:VEVENT
DTSTART;TZID=America/Los_Angeles:20220630T180000
DTEND;TZID=America/Los_Angeles:20220630T210000
DTSTAMP:20260419T071436
CREATED:20220406T230140Z
LAST-MODIFIED:20220527T025453Z
UID:10001192-1656612000-1656622800@tomgrant.com
SUMMARY:De Fuego Grille  | Underground
DESCRIPTION:The newest eastside Jazz spot with a cool vibe and fabulous refreshments.  Catch Tom at the piano at the Underground at de Fuego Grille in Clackamas\, inside the Monarch Hotel. Reservations recommended.
URL:https://tomgrant.com/event/de-fuego-grille-underground-3-2022-05-05-2022-06-16/2022-06-30/
LOCATION:de Fuego Grille  | Underground\, 12566 SE 93rd\, Clackamas\, OR\, United States
CATEGORIES:Club gig,Live Jazz,Live Music
ATTACH;FMTTYPE=image/jpeg:https://tomgrant.com/wp-content/uploads/2021/09/TG-de-Fuego-FB-post.jpg
END:VEVENT
END:VCALENDAR