BEGIN:VCALENDAR
VERSION:2.0
PRODID:-//Tom Grant - ECPv6.15.20//NONSGML v1.0//EN
CALSCALE:GREGORIAN
METHOD:PUBLISH
X-ORIGINAL-URL:https://tomgrant.com
X-WR-CALDESC:Events for Tom Grant
REFRESH-INTERVAL;VALUE=DURATION:PT1H
X-Robots-Tag:noindex
X-PUBLISHED-TTL:PT1H
BEGIN:VTIMEZONE
TZID:America/Los_Angeles
BEGIN:DAYLIGHT
TZOFFSETFROM:-0800
TZOFFSETTO:-0700
TZNAME:PDT
DTSTART:20200308T100000
END:DAYLIGHT
BEGIN:STANDARD
TZOFFSETFROM:-0700
TZOFFSETTO:-0800
TZNAME:PST
DTSTART:20201101T090000
END:STANDARD
BEGIN:DAYLIGHT
TZOFFSETFROM:-0800
TZOFFSETTO:-0700
TZNAME:PDT
DTSTART:20210314T100000
END:DAYLIGHT
BEGIN:STANDARD
TZOFFSETFROM:-0700
TZOFFSETTO:-0800
TZNAME:PST
DTSTART:20211107T090000
END:STANDARD
BEGIN:DAYLIGHT
TZOFFSETFROM:-0800
TZOFFSETTO:-0700
TZNAME:PDT
DTSTART:20220313T100000
END:DAYLIGHT
BEGIN:STANDARD
TZOFFSETFROM:-0700
TZOFFSETTO:-0800
TZNAME:PST
DTSTART:20221106T090000
END:STANDARD
END:VTIMEZONE
BEGIN:VEVENT
DTSTART;TZID=America/Los_Angeles:20211111T180000
DTEND;TZID=America/Los_Angeles:20211111T210000
DTSTAMP:20260419T124025
CREATED:20210917T180546Z
LAST-MODIFIED:20220105T205143Z
UID:10001415-1636653600-1636664400@tomgrant.com
SUMMARY:De Fuego Grille  | UNDERGROUND
DESCRIPTION:The newest eastside Jazz spot with a cool vibe and fabulous refreshments.  Catch Tom at the piano at the Underground at de Fuego Grille in Clackamas\, inside the Monarch Hotel. Reservations recommended.
URL:https://tomgrant.com/event/de-fuego-underground-solo/2021-11-11/
LOCATION:de Fuego Grille  | Underground\, 12566 SE 93rd\, Clackamas\, OR\, United States
CATEGORIES:Club gig,Live Jazz,Live Jazz,Live Music,Regular Gigs
ATTACH;FMTTYPE=image/jpeg:https://tomgrant.com/wp-content/uploads/2021/09/TG-de-Fuego-FB-post.jpg
END:VEVENT
BEGIN:VEVENT
DTSTART;TZID=America/Los_Angeles:20211106T180000
DTEND;TZID=America/Los_Angeles:20211106T210000
DTSTAMP:20260419T124025
CREATED:20210917T180546Z
LAST-MODIFIED:20220105T205143Z
UID:10001414-1636221600-1636232400@tomgrant.com
SUMMARY:De Fuego Grille  | UNDERGROUND
DESCRIPTION:The newest eastside Jazz spot with a cool vibe and fabulous refreshments.  Catch Tom at the piano at the Underground at de Fuego Grille in Clackamas\, inside the Monarch Hotel. Reservations recommended.
URL:https://tomgrant.com/event/de-fuego-underground-solo/2021-11-06/
LOCATION:de Fuego Grille  | Underground\, 12566 SE 93rd\, Clackamas\, OR\, United States
CATEGORIES:Club gig,Live Jazz,Live Jazz,Live Music,Regular Gigs
ATTACH;FMTTYPE=image/jpeg:https://tomgrant.com/wp-content/uploads/2021/09/TG-de-Fuego-FB-post.jpg
END:VEVENT
BEGIN:VEVENT
DTSTART;TZID=America/Los_Angeles:20211014T180000
DTEND;TZID=America/Los_Angeles:20211014T210000
DTSTAMP:20260419T124025
CREATED:20210917T180546Z
LAST-MODIFIED:20220105T205143Z
UID:10001413-1634234400-1634245200@tomgrant.com
SUMMARY:De Fuego Grille  | UNDERGROUND
DESCRIPTION:The newest eastside Jazz spot with a cool vibe and fabulous refreshments.  Catch Tom at the piano at the Underground at de Fuego Grille in Clackamas\, inside the Monarch Hotel. Reservations recommended.
URL:https://tomgrant.com/event/de-fuego-underground-solo/2021-10-14/
LOCATION:de Fuego Grille  | Underground\, 12566 SE 93rd\, Clackamas\, OR\, United States
CATEGORIES:Club gig,Live Jazz,Live Jazz,Live Music,Regular Gigs
ATTACH;FMTTYPE=image/jpeg:https://tomgrant.com/wp-content/uploads/2021/09/TG-de-Fuego-FB-post.jpg
END:VEVENT
BEGIN:VEVENT
DTSTART;TZID=America/Los_Angeles:20210929T180000
DTEND;TZID=America/Los_Angeles:20210929T210000
DTSTAMP:20260419T124025
CREATED:20210917T174320Z
LAST-MODIFIED:20210920T181553Z
UID:10001169-1632938400-1632949200@tomgrant.com
SUMMARY:The Underground | De Fuego Grille
DESCRIPTION:Join us for an evening with vocalist Billie Eidson at The Underground!
URL:https://tomgrant.com/event/de-fuegos-the-underground/
LOCATION:de Fuego Grille  | Underground\, 12566 SE 93rd\, Clackamas\, OR\, United States
ATTACH;FMTTYPE=image/jpeg:https://tomgrant.com/wp-content/uploads/2021/09/TG-_-Underground-Sept-29.jpeg
END:VEVENT
BEGIN:VEVENT
DTSTART;TZID=America/Los_Angeles:20210826T190000
DTEND;TZID=America/Los_Angeles:20210826T213000
DTSTAMP:20260419T124025
CREATED:20210805T163010Z
LAST-MODIFIED:20210805T164753Z
UID:10001405-1630004400-1630013400@tomgrant.com
SUMMARY:The Underground | de Fuego Grille
DESCRIPTION:
URL:https://tomgrant.com/event/the-underground-de-fuego-grille/
LOCATION:de Fuego Grille  | Underground\, 12566 SE 93rd\, Clackamas\, OR\, United States
CATEGORIES:Club gig,Live Jazz,Live Jazz,Live Music,Portland Eastside
ATTACH;FMTTYPE=image/jpeg:https://tomgrant.com/wp-content/uploads/2021/08/Tom-Grant-Aug-26-Underground-jpg-scaled.jpg
END:VEVENT
BEGIN:VEVENT
DTSTART;TZID=America/Los_Angeles:20210729T190000
DTEND;TZID=America/Los_Angeles:20210729T210000
DTSTAMP:20260419T124025
CREATED:20210723T063220Z
LAST-MODIFIED:20210723T172638Z
UID:10001094-1627585200-1627592400@tomgrant.com
SUMMARY:de Fuego Grille |  Underground
DESCRIPTION:The Underground transports you into an Art Nouveau inspired Speakeasy where dreams become reality. Savor the South American influenced cuisine and a cocktail menu drawing form pre-prohibition days. Come see the best kept secret in Clackamas\, OR. \n 
URL:https://tomgrant.com/event/de-fuego-underground/
LOCATION:de Fuego Grille  | Underground\, 12566 SE 93rd\, Clackamas\, OR\, United States
ATTACH;FMTTYPE=image/jpeg:https://tomgrant.com/wp-content/uploads/2021/07/Tom-Grant-29-July-Underground-Promo-scaled.jpg
END:VEVENT
END:VCALENDAR