BEGIN:VCALENDAR
VERSION:2.0
PRODID:-//Tom Grant - ECPv6.15.20//NONSGML v1.0//EN
CALSCALE:GREGORIAN
METHOD:PUBLISH
X-WR-CALNAME:Tom Grant
X-ORIGINAL-URL:https://tomgrant.com
X-WR-CALDESC:Events for Tom Grant
REFRESH-INTERVAL;VALUE=DURATION:PT1H
X-Robots-Tag:noindex
X-PUBLISHED-TTL:PT1H
BEGIN:VTIMEZONE
TZID:America/Los_Angeles
BEGIN:DAYLIGHT
TZOFFSETFROM:-0800
TZOFFSETTO:-0700
TZNAME:PDT
DTSTART:20230312T100000
END:DAYLIGHT
BEGIN:STANDARD
TZOFFSETFROM:-0700
TZOFFSETTO:-0800
TZNAME:PST
DTSTART:20231105T090000
END:STANDARD
BEGIN:DAYLIGHT
TZOFFSETFROM:-0800
TZOFFSETTO:-0700
TZNAME:PDT
DTSTART:20240310T100000
END:DAYLIGHT
BEGIN:STANDARD
TZOFFSETFROM:-0700
TZOFFSETTO:-0800
TZNAME:PST
DTSTART:20241103T090000
END:STANDARD
BEGIN:DAYLIGHT
TZOFFSETFROM:-0800
TZOFFSETTO:-0700
TZNAME:PDT
DTSTART:20250309T100000
END:DAYLIGHT
BEGIN:STANDARD
TZOFFSETFROM:-0700
TZOFFSETTO:-0800
TZNAME:PST
DTSTART:20251102T090000
END:STANDARD
END:VTIMEZONE
BEGIN:VEVENT
DTSTART;TZID=America/Los_Angeles:20240710T190000
DTEND;TZID=America/Los_Angeles:20240710T200000
DTSTAMP:20260419T140045
CREATED:20240702T171253Z
LAST-MODIFIED:20240702T172234Z
UID:10002467-1720638000-1720641600@tomgrant.com
SUMMARY:Summer Livestream on Facebook
DESCRIPTION:Grab your favorite beverage\, open your laptop or Smart TV\, and tune in for Tom’s Summer Livestream on Facebook! \nJoin us on Wednesday\, July 10\, 7 PM on Tom’s FB page: https://www.facebook.com/TomGrantPDX to watch the show live. \nIf you are feelin’ the love\, our virtual tip jars links are below. Thank you. \nVENMO https://venmo.com/TomGrantPDX\nPAYPAL:  https://www.paypal.me/tomgrantmusicpdx
URL:https://tomgrant.com/event/wednesday-night-livestream-on-facebook/
LOCATION:Facebook – Tom Grant Music PDX
ATTACH;FMTTYPE=image/png:https://tomgrant.com/wp-content/uploads/2024/07/TG_-SQ_WedsNightLive-July-2024.png
END:VEVENT
END:VCALENDAR