BEGIN:VCALENDAR
VERSION:2.0
PRODID:-//Tom Grant - ECPv6.15.20//NONSGML v1.0//EN
CALSCALE:GREGORIAN
METHOD:PUBLISH
X-ORIGINAL-URL:https://tomgrant.com
X-WR-CALDESC:Events for Tom Grant
REFRESH-INTERVAL;VALUE=DURATION:PT1H
X-Robots-Tag:noindex
X-PUBLISHED-TTL:PT1H
BEGIN:VTIMEZONE
TZID:America/Los_Angeles
BEGIN:DAYLIGHT
TZOFFSETFROM:-0800
TZOFFSETTO:-0700
TZNAME:PDT
DTSTART:20230312T100000
END:DAYLIGHT
BEGIN:STANDARD
TZOFFSETFROM:-0700
TZOFFSETTO:-0800
TZNAME:PST
DTSTART:20231105T090000
END:STANDARD
BEGIN:DAYLIGHT
TZOFFSETFROM:-0800
TZOFFSETTO:-0700
TZNAME:PDT
DTSTART:20240310T100000
END:DAYLIGHT
BEGIN:STANDARD
TZOFFSETFROM:-0700
TZOFFSETTO:-0800
TZNAME:PST
DTSTART:20241103T090000
END:STANDARD
BEGIN:DAYLIGHT
TZOFFSETFROM:-0800
TZOFFSETTO:-0700
TZNAME:PDT
DTSTART:20250309T100000
END:DAYLIGHT
BEGIN:STANDARD
TZOFFSETFROM:-0700
TZOFFSETTO:-0800
TZNAME:PST
DTSTART:20251102T090000
END:STANDARD
BEGIN:DAYLIGHT
TZOFFSETFROM:-0800
TZOFFSETTO:-0700
TZNAME:PDT
DTSTART:20260308T100000
END:DAYLIGHT
BEGIN:STANDARD
TZOFFSETFROM:-0700
TZOFFSETTO:-0800
TZNAME:PST
DTSTART:20261101T090000
END:STANDARD
END:VTIMEZONE
BEGIN:VEVENT
DTSTART;TZID=America/Los_Angeles:20251116T183000
DTEND;TZID=America/Los_Angeles:20251116T210000
DTSTAMP:20260421T150520
CREATED:20251011T222128Z
LAST-MODIFIED:20251016T215734Z
UID:10003286-1763317800-1763326800@tomgrant.com
SUMMARY:Tom Grant at McMenamins Kennedy School
DESCRIPTION:Don’t miss this show! Tom Grant\, Dave Captein\, Renato Coranto and Brent Follis\, presented by Single Malt Music. An evening of Tom’s original tunes and favorite jazz selections. \nTICKETS AT THE DOOR: $20\nPlease plan to arrive by 6:30 to purchase tickets at the door; Venmo\, PayPal\, or Cash\, only. \nADVANCE TICKETS: $20\nGuarantee your ticket with Venmo or PayPal.   Send $20 to Single Malt Music ( links below) Note “Nov 16-Tom Grant.” We’ll have your name at the door when you arrive at 6:30. \nPay with VENMO       Pay with PayPal  \n 
URL:https://tomgrant.com/event/tom-grant-band-feat-dave-captein-renato-coranto-brent-follis/
LOCATION:Kennedy School\, 5736 N.E. 33rd Ave\, PTLD\, OR
CATEGORIES:Live Jazz,Portland Eastside
ATTACH;FMTTYPE=image/png:https://tomgrant.com/wp-content/uploads/2025/10/TG_Kennedy-School-Single-Maltw-yellow-spot.png
END:VEVENT
BEGIN:VEVENT
DTSTART;TZID=America/Los_Angeles:20240519T190000
DTEND;TZID=America/Los_Angeles:20240519T210000
DTSTAMP:20260421T150520
CREATED:20240313T231206Z
LAST-MODIFIED:20240410T202259Z
UID:10002423-1716145200-1716152400@tomgrant.com
SUMMARY:Tom Grant Quartet @ Kennedy School w- Brent Follis!
DESCRIPTION:Calling all hip cats and jazz enthusiasts! Join us at Kennedy School on April 21 for a night dedicated to impressive jazz riffs from musicians with serious chops  – hosted by local jazz musician Brent Follis.  Doors open at 6:30\, show at 7 PM.
URL:https://tomgrant.com/event/brent-follis-quartet-kennedy-school/
LOCATION:Kennedy School\, 5736 N.E. 33rd Ave\, PTLD\, OR
ATTACH;FMTTYPE=image/png:https://tomgrant.com/wp-content/uploads/2024/03/TG-_Brent-Follis-Kennedy-May-2024-SQ.png
END:VEVENT
END:VCALENDAR