BEGIN:VCALENDAR
VERSION:2.0
PRODID:-//Tom Grant - ECPv6.15.20//NONSGML v1.0//EN
CALSCALE:GREGORIAN
METHOD:PUBLISH
X-WR-CALNAME:Tom Grant
X-ORIGINAL-URL:https://tomgrant.com
X-WR-CALDESC:Events for Tom Grant
REFRESH-INTERVAL;VALUE=DURATION:PT1H
X-Robots-Tag:noindex
X-PUBLISHED-TTL:PT1H
BEGIN:VTIMEZONE
TZID:America/Los_Angeles
BEGIN:DAYLIGHT
TZOFFSETFROM:-0800
TZOFFSETTO:-0700
TZNAME:PDT
DTSTART:20180311T100000
END:DAYLIGHT
BEGIN:STANDARD
TZOFFSETFROM:-0700
TZOFFSETTO:-0800
TZNAME:PST
DTSTART:20181104T090000
END:STANDARD
BEGIN:DAYLIGHT
TZOFFSETFROM:-0800
TZOFFSETTO:-0700
TZNAME:PDT
DTSTART:20190310T100000
END:DAYLIGHT
BEGIN:STANDARD
TZOFFSETFROM:-0700
TZOFFSETTO:-0800
TZNAME:PST
DTSTART:20191103T090000
END:STANDARD
BEGIN:DAYLIGHT
TZOFFSETFROM:-0800
TZOFFSETTO:-0700
TZNAME:PDT
DTSTART:20200308T100000
END:DAYLIGHT
BEGIN:STANDARD
TZOFFSETFROM:-0700
TZOFFSETTO:-0800
TZNAME:PST
DTSTART:20201101T090000
END:STANDARD
BEGIN:DAYLIGHT
TZOFFSETFROM:-0800
TZOFFSETTO:-0700
TZNAME:PDT
DTSTART:20210314T100000
END:DAYLIGHT
BEGIN:STANDARD
TZOFFSETFROM:-0700
TZOFFSETTO:-0800
TZNAME:PST
DTSTART:20211107T090000
END:STANDARD
BEGIN:DAYLIGHT
TZOFFSETFROM:-0800
TZOFFSETTO:-0700
TZNAME:PDT
DTSTART:20220313T100000
END:DAYLIGHT
BEGIN:STANDARD
TZOFFSETFROM:-0700
TZOFFSETTO:-0800
TZNAME:PST
DTSTART:20221106T090000
END:STANDARD
BEGIN:DAYLIGHT
TZOFFSETFROM:-0800
TZOFFSETTO:-0700
TZNAME:PDT
DTSTART:20230312T100000
END:DAYLIGHT
BEGIN:STANDARD
TZOFFSETFROM:-0700
TZOFFSETTO:-0800
TZNAME:PST
DTSTART:20231105T090000
END:STANDARD
BEGIN:DAYLIGHT
TZOFFSETFROM:-0800
TZOFFSETTO:-0700
TZNAME:PDT
DTSTART:20240310T100000
END:DAYLIGHT
BEGIN:STANDARD
TZOFFSETFROM:-0700
TZOFFSETTO:-0800
TZNAME:PST
DTSTART:20241103T090000
END:STANDARD
BEGIN:DAYLIGHT
TZOFFSETFROM:-0800
TZOFFSETTO:-0700
TZNAME:PDT
DTSTART:20250309T100000
END:DAYLIGHT
BEGIN:STANDARD
TZOFFSETFROM:-0700
TZOFFSETTO:-0800
TZNAME:PST
DTSTART:20251102T090000
END:STANDARD
END:VTIMEZONE
BEGIN:VEVENT
DTSTART;TZID=America/Los_Angeles:20240511T183000
DTEND;TZID=America/Los_Angeles:20240511T213000
DTSTAMP:20260420T031030
CREATED:20240327T171447Z
LAST-MODIFIED:20240328T005432Z
UID:10002425-1715452200-1715463000@tomgrant.com
SUMMARY:Shelly Rudolph + Tom Grant @ Restaurant 503
DESCRIPTION:Make your reservations for dinner and music at Restaurant 503 in West Linn.\nThe music starts at 6 PM.
URL:https://tomgrant.com/event/shelly-rudolph-tom-grant-restaurant-503-2/
LOCATION:Restaurant 503\, 21900 Willamette Drive\, Ste 201\, West Linn\, OR\, United States
CATEGORIES:Club gig,Dinner Concert,Jazz Vocals,Live Jazz,Live Music,Restaurants Lake Oswego
ATTACH;FMTTYPE=image/jpeg:https://tomgrant.com/wp-content/uploads/2018/12/1C966822-7D52-47C0-8117-45847B017820.jpeg
GEO:45.3670996;-122.6132503
X-APPLE-STRUCTURED-LOCATION;VALUE=URI;X-ADDRESS=Restaurant 503 21900 Willamette Drive Ste 201 West Linn OR United States;X-APPLE-RADIUS=500;X-TITLE=21900 Willamette Drive\, Ste 201:geo:-122.6132503,45.3670996
END:VEVENT
BEGIN:VEVENT
DTSTART;TZID=America/Los_Angeles:20231014T180000
DTEND;TZID=America/Los_Angeles:20231014T210000
DTSTAMP:20260420T031030
CREATED:20231012T223815Z
LAST-MODIFIED:20231012T231048Z
UID:10002116-1697306400-1697317200@tomgrant.com
SUMMARY:Brent Follis Trio at Restaurant 503 in West Linn!
DESCRIPTION:MAke your reservations for Restaurant 503 on Sat. Night.  Live music with Brent Follis Trio in West Linn! \n6-9pm
URL:https://tomgrant.com/event/brent-follis-trio-at-restaurant-503-in-west-linn/
LOCATION:Restaurant 503\, 21900 Willamette Drive\, Ste 201\, West Linn\, OR\, United States
GEO:45.3670996;-122.6132503
X-APPLE-STRUCTURED-LOCATION;VALUE=URI;X-ADDRESS=Restaurant 503 21900 Willamette Drive Ste 201 West Linn OR United States;X-APPLE-RADIUS=500;X-TITLE=21900 Willamette Drive\, Ste 201:geo:-122.6132503,45.3670996
END:VEVENT
BEGIN:VEVENT
DTSTART;TZID=America/Los_Angeles:20210701T173000
DTEND;TZID=America/Los_Angeles:20210701T203000
DTSTAMP:20260420T031030
CREATED:20210624T213031Z
LAST-MODIFIED:20210624T213031Z
UID:10001396-1625160600-1625171400@tomgrant.com
SUMMARY:Shelly Rudolph + Tom Grant @ Restaurant 503
DESCRIPTION:https://shellyrudolph.com/event/4321992/564726279/shelly-rudolph-tom-grant
URL:https://tomgrant.com/event/shelly-rudolph-tom-grant-restaurant-503/
LOCATION:Restaurant 503\, 21900 Willamette Drive\, Ste 201\, West Linn\, OR\, United States
ATTACH;FMTTYPE=image/jpeg:https://tomgrant.com/wp-content/uploads/2018/12/1C966822-7D52-47C0-8117-45847B017820.jpeg
GEO:45.3670996;-122.6132503
X-APPLE-STRUCTURED-LOCATION;VALUE=URI;X-ADDRESS=Restaurant 503 21900 Willamette Drive Ste 201 West Linn OR United States;X-APPLE-RADIUS=500;X-TITLE=21900 Willamette Drive\, Ste 201:geo:-122.6132503,45.3670996
END:VEVENT
BEGIN:VEVENT
DTSTART;TZID=America/Los_Angeles:20191102T183000
DTEND;TZID=America/Los_Angeles:20191102T213000
DTSTAMP:20260420T031030
CREATED:20191030T185426Z
LAST-MODIFIED:20191030T191227Z
UID:10001340-1572719400-1572730200@tomgrant.com
SUMMARY:Shelly Rudolph at Restaurant 503 in West Linn
DESCRIPTION:
URL:https://tomgrant.com/event/shelly-rudolph-at-restaurant-503-in-west-linn/
LOCATION:Restaurant 503\, 21900 Willamette Drive\, Ste 201\, West Linn\, OR\, United States
GEO:45.3670996;-122.6132503
X-APPLE-STRUCTURED-LOCATION;VALUE=URI;X-ADDRESS=Restaurant 503 21900 Willamette Drive Ste 201 West Linn OR United States;X-APPLE-RADIUS=500;X-TITLE=21900 Willamette Drive\, Ste 201:geo:-122.6132503,45.3670996
END:VEVENT
END:VCALENDAR