BEGIN:VCALENDAR
VERSION:2.0
PRODID:-//Tom Grant - ECPv6.15.20//NONSGML v1.0//EN
CALSCALE:GREGORIAN
METHOD:PUBLISH
X-WR-CALNAME:Tom Grant
X-ORIGINAL-URL:https://tomgrant.com
X-WR-CALDESC:Events for Tom Grant
REFRESH-INTERVAL;VALUE=DURATION:PT1H
X-Robots-Tag:noindex
X-PUBLISHED-TTL:PT1H
BEGIN:VTIMEZONE
TZID:America/Los_Angeles
BEGIN:DAYLIGHT
TZOFFSETFROM:-0800
TZOFFSETTO:-0700
TZNAME:PDT
DTSTART:20220313T100000
END:DAYLIGHT
BEGIN:STANDARD
TZOFFSETFROM:-0700
TZOFFSETTO:-0800
TZNAME:PST
DTSTART:20221106T090000
END:STANDARD
BEGIN:DAYLIGHT
TZOFFSETFROM:-0800
TZOFFSETTO:-0700
TZNAME:PDT
DTSTART:20230312T100000
END:DAYLIGHT
BEGIN:STANDARD
TZOFFSETFROM:-0700
TZOFFSETTO:-0800
TZNAME:PST
DTSTART:20231105T090000
END:STANDARD
BEGIN:DAYLIGHT
TZOFFSETFROM:-0800
TZOFFSETTO:-0700
TZNAME:PDT
DTSTART:20240310T100000
END:DAYLIGHT
BEGIN:STANDARD
TZOFFSETFROM:-0700
TZOFFSETTO:-0800
TZNAME:PST
DTSTART:20241103T090000
END:STANDARD
END:VTIMEZONE
BEGIN:VEVENT
DTSTART;TZID=America/Los_Angeles:20230622T183000
DTEND;TZID=America/Los_Angeles:20230622T203000
DTSTAMP:20260421T054043
CREATED:20230613T215910Z
LAST-MODIFIED:20230613T221454Z
UID:10002101-1687458600-1687465800@tomgrant.com
SUMMARY:Benefit Concert with Spec. Guest Calysta Cheyenne
DESCRIPTION:Join us for an evening of music at a benefit concert for Feed The Hungry\, Inc.\nTom Grant with special guest vocalist:  Calysta Cheyenne\nFREE ADMISSION!:  Doors at 5:30 for wine and refreshments. Music at 6:30.
URL:https://tomgrant.com/event/benefit-concert-at-st-johns-episcopal-in-milwaukie/
LOCATION:St. John the Evangelist Episcopal Church\, 2036 SE Jefferson St.\, Milwaukie\, OR\, 97222\, United States
CATEGORIES:Concert,Free Concert,Fundraiser,Jazz Vocals,Live Jazz,Live Jazz,Live Music,Portland Eastside,Wine Events
ATTACH;FMTTYPE=image/png:https://tomgrant.com/wp-content/uploads/2023/06/Screenshot-2023-06-13-at-3.10.57-PM.png
END:VEVENT
END:VCALENDAR