BEGIN:VCALENDAR
VERSION:2.0
PRODID:-//Tom Grant - ECPv6.15.20//NONSGML v1.0//EN
CALSCALE:GREGORIAN
METHOD:PUBLISH
X-WR-CALNAME:Tom Grant
X-ORIGINAL-URL:https://tomgrant.com
X-WR-CALDESC:Events for Tom Grant
REFRESH-INTERVAL;VALUE=DURATION:PT1H
X-Robots-Tag:noindex
X-PUBLISHED-TTL:PT1H
BEGIN:VTIMEZONE
TZID:America/Los_Angeles
BEGIN:DAYLIGHT
TZOFFSETFROM:-0800
TZOFFSETTO:-0700
TZNAME:PDT
DTSTART:20200308T100000
END:DAYLIGHT
BEGIN:STANDARD
TZOFFSETFROM:-0700
TZOFFSETTO:-0800
TZNAME:PST
DTSTART:20201101T090000
END:STANDARD
BEGIN:DAYLIGHT
TZOFFSETFROM:-0800
TZOFFSETTO:-0700
TZNAME:PDT
DTSTART:20210314T100000
END:DAYLIGHT
BEGIN:STANDARD
TZOFFSETFROM:-0700
TZOFFSETTO:-0800
TZNAME:PST
DTSTART:20211107T090000
END:STANDARD
BEGIN:DAYLIGHT
TZOFFSETFROM:-0800
TZOFFSETTO:-0700
TZNAME:PDT
DTSTART:20220313T100000
END:DAYLIGHT
BEGIN:STANDARD
TZOFFSETFROM:-0700
TZOFFSETTO:-0800
TZNAME:PST
DTSTART:20221106T090000
END:STANDARD
END:VTIMEZONE
BEGIN:VEVENT
DTSTART;TZID=America/Los_Angeles:20210912T133000
DTEND;TZID=America/Los_Angeles:20210912T163000
DTSTAMP:20260420T041318
CREATED:20210827T195121Z
LAST-MODIFIED:20210907T204942Z
UID:10001412-1631453400-1631464200@tomgrant.com
SUMMARY:St. Josef's in Canby - Billie Eidson\, Tom Grant\, Dennis Caiazza\, Ron Steen
DESCRIPTION:Bille Eidson will be performing at St. Josef’s Winery in Canby at the Annual Arrivederci Jazz Picnic on Sunday\, Sept. 12.  Catch the music from 1:30-4:30 at the winery. Reservations at 503 651-3109. \n 
URL:https://tomgrant.com/event/st-josefs-in-canby-billie-eidson-tom-grant-phil-baker-ron-steen/
LOCATION:St. Josef’s\, 28836 S Barlow Rd\, Canby\, OR\, 97013\, United States
ATTACH;FMTTYPE=image/jpeg:https://tomgrant.com/wp-content/uploads/2021/08/Tom-Billie-Sept-12-2021.jpg
END:VEVENT
END:VCALENDAR