BEGIN:VCALENDAR
VERSION:2.0
PRODID:-//Tom Grant - ECPv6.15.20//NONSGML v1.0//EN
CALSCALE:GREGORIAN
METHOD:PUBLISH
X-WR-CALNAME:Tom Grant
X-ORIGINAL-URL:https://tomgrant.com
X-WR-CALDESC:Events for Tom Grant
REFRESH-INTERVAL;VALUE=DURATION:PT1H
X-Robots-Tag:noindex
X-PUBLISHED-TTL:PT1H
BEGIN:VTIMEZONE
TZID:America/Los_Angeles
BEGIN:DAYLIGHT
TZOFFSETFROM:-0800
TZOFFSETTO:-0700
TZNAME:PDT
DTSTART:20180311T100000
END:DAYLIGHT
BEGIN:STANDARD
TZOFFSETFROM:-0700
TZOFFSETTO:-0800
TZNAME:PST
DTSTART:20181104T090000
END:STANDARD
BEGIN:DAYLIGHT
TZOFFSETFROM:-0800
TZOFFSETTO:-0700
TZNAME:PDT
DTSTART:20190310T100000
END:DAYLIGHT
BEGIN:STANDARD
TZOFFSETFROM:-0700
TZOFFSETTO:-0800
TZNAME:PST
DTSTART:20191103T090000
END:STANDARD
BEGIN:DAYLIGHT
TZOFFSETFROM:-0800
TZOFFSETTO:-0700
TZNAME:PDT
DTSTART:20200308T100000
END:DAYLIGHT
BEGIN:STANDARD
TZOFFSETFROM:-0700
TZOFFSETTO:-0800
TZNAME:PST
DTSTART:20201101T090000
END:STANDARD
BEGIN:DAYLIGHT
TZOFFSETFROM:-0800
TZOFFSETTO:-0700
TZNAME:PDT
DTSTART:20210314T100000
END:DAYLIGHT
BEGIN:STANDARD
TZOFFSETFROM:-0700
TZOFFSETTO:-0800
TZNAME:PST
DTSTART:20211107T090000
END:STANDARD
BEGIN:DAYLIGHT
TZOFFSETFROM:-0800
TZOFFSETTO:-0700
TZNAME:PDT
DTSTART:20220313T100000
END:DAYLIGHT
BEGIN:STANDARD
TZOFFSETFROM:-0700
TZOFFSETTO:-0800
TZNAME:PST
DTSTART:20221106T090000
END:STANDARD
BEGIN:DAYLIGHT
TZOFFSETFROM:-0800
TZOFFSETTO:-0700
TZNAME:PDT
DTSTART:20230312T100000
END:DAYLIGHT
BEGIN:STANDARD
TZOFFSETFROM:-0700
TZOFFSETTO:-0800
TZNAME:PST
DTSTART:20231105T090000
END:STANDARD
BEGIN:DAYLIGHT
TZOFFSETFROM:-0800
TZOFFSETTO:-0700
TZNAME:PDT
DTSTART:20240310T100000
END:DAYLIGHT
BEGIN:STANDARD
TZOFFSETFROM:-0700
TZOFFSETTO:-0800
TZNAME:PST
DTSTART:20241103T090000
END:STANDARD
END:VTIMEZONE
BEGIN:VEVENT
DTSTART;TZID=America/Los_Angeles:20230819T183000
DTEND;TZID=America/Los_Angeles:20230819T210000
DTSTAMP:20260419T230342
CREATED:20230814T182534Z
LAST-MODIFIED:20230815T230444Z
UID:10002104-1692469800-1692478800@tomgrant.com
SUMMARY:Tom & Shelly @ Tavern on Kruse
DESCRIPTION:TG and Shelly Rudolph\, live at Tavern on Kruse\, Saturday\, Aug 19\,  6:30 PM.  Come share a little summer love!
URL:https://tomgrant.com/event/tom-shelly-tavern-on-kruse/
LOCATION:Tavern on Kruse\, 4835 Meadows Road\, Lake Oswego\, OR\, United States
ATTACH;FMTTYPE=image/jpeg:https://tomgrant.com/wp-content/uploads/2018/12/Tom-and-Shelly-red-tint.jpg
END:VEVENT
BEGIN:VEVENT
DTSTART;TZID=America/Los_Angeles:20210624T183000
DTEND;TZID=America/Los_Angeles:20210624T213000
DTSTAMP:20260419T230342
CREATED:20210624T034457Z
LAST-MODIFIED:20210624T212859Z
UID:10001394-1624559400-1624570200@tomgrant.com
SUMMARY:Shelly Rudolph+Tom Grant+Dave Captein+Brent Follis!
DESCRIPTION:
URL:https://tomgrant.com/event/shelly-rudolphtom-grantdave-capteinbrent-follis/
LOCATION:Tavern on Kruse\, 4835 Meadows Road\, Lake Oswego\, OR\, United States
END:VEVENT
BEGIN:VEVENT
DTSTART;TZID=America/Los_Angeles:20191130T203000
DTEND;TZID=America/Los_Angeles:20191130T223000
DTSTAMP:20260419T230342
CREATED:20191104T165014Z
LAST-MODIFIED:20191104T170734Z
UID:10001345-1575145800-1575153000@tomgrant.com
SUMMARY:Tom & Shelly in Lake Oswego
DESCRIPTION:
URL:https://tomgrant.com/event/tom-shelly-in-lake-oswego/
LOCATION:Tavern on Kruse\, 4835 Meadows Road\, Lake Oswego\, OR\, United States
ATTACH;FMTTYPE=image/jpeg:https://tomgrant.com/wp-content/uploads/2019/11/TG-ShellyTavernOnKruseNov30-e1572887187755.jpg
END:VEVENT
END:VCALENDAR