BEGIN:VCALENDAR
VERSION:2.0
PRODID:-//Tom Grant - ECPv6.15.20//NONSGML v1.0//EN
CALSCALE:GREGORIAN
METHOD:PUBLISH
X-WR-CALNAME:Tom Grant
X-ORIGINAL-URL:https://tomgrant.com
X-WR-CALDESC:Events for Tom Grant
REFRESH-INTERVAL;VALUE=DURATION:PT1H
X-Robots-Tag:noindex
X-PUBLISHED-TTL:PT1H
BEGIN:VTIMEZONE
TZID:America/Los_Angeles
BEGIN:DAYLIGHT
TZOFFSETFROM:-0800
TZOFFSETTO:-0700
TZNAME:PDT
DTSTART:20200308T100000
END:DAYLIGHT
BEGIN:STANDARD
TZOFFSETFROM:-0700
TZOFFSETTO:-0800
TZNAME:PST
DTSTART:20201101T090000
END:STANDARD
BEGIN:DAYLIGHT
TZOFFSETFROM:-0800
TZOFFSETTO:-0700
TZNAME:PDT
DTSTART:20210314T100000
END:DAYLIGHT
BEGIN:STANDARD
TZOFFSETFROM:-0700
TZOFFSETTO:-0800
TZNAME:PST
DTSTART:20211107T090000
END:STANDARD
BEGIN:DAYLIGHT
TZOFFSETFROM:-0800
TZOFFSETTO:-0700
TZNAME:PDT
DTSTART:20220313T100000
END:DAYLIGHT
BEGIN:STANDARD
TZOFFSETFROM:-0700
TZOFFSETTO:-0800
TZNAME:PST
DTSTART:20221106T090000
END:STANDARD
BEGIN:DAYLIGHT
TZOFFSETFROM:-0800
TZOFFSETTO:-0700
TZNAME:PDT
DTSTART:20230312T100000
END:DAYLIGHT
BEGIN:STANDARD
TZOFFSETFROM:-0700
TZOFFSETTO:-0800
TZNAME:PST
DTSTART:20231105T090000
END:STANDARD
BEGIN:DAYLIGHT
TZOFFSETFROM:-0800
TZOFFSETTO:-0700
TZNAME:PDT
DTSTART:20240310T100000
END:DAYLIGHT
BEGIN:STANDARD
TZOFFSETFROM:-0700
TZOFFSETTO:-0800
TZNAME:PST
DTSTART:20241103T090000
END:STANDARD
END:VTIMEZONE
BEGIN:VEVENT
DTSTART;TZID=America/Los_Angeles:20231015T180000
DTEND;TZID=America/Los_Angeles:20231015T213000
DTSTAMP:20260420T002839
CREATED:20230929T221412Z
LAST-MODIFIED:20231012T231121Z
UID:10002112-1697392800-1697405400@tomgrant.com
SUMMARY:Willful Wine with Brent Follis
DESCRIPTION:Enjoy this sweet spot in Vancouver for music\, great vibes\, and excellent wines!
URL:https://tomgrant.com/event/willful-wine-with-brent-follis/
LOCATION:Willfull Wine\, 5705-F NE 105th Avenue\,\, Portland\, OR\, 97220\, United States
ATTACH;FMTTYPE=image/jpeg:https://tomgrant.com/wp-content/uploads/2021/06/Willful-Logo.jpg
END:VEVENT
BEGIN:VEVENT
DTSTART;TZID=America/Los_Angeles:20210806T190000
DTEND;TZID=America/Los_Angeles:20210806T210000
DTSTAMP:20260420T002839
CREATED:20210628T200821Z
LAST-MODIFIED:20210708T191437Z
UID:10001090-1628276400-1628283600@tomgrant.com
SUMMARY:Tom Grant  & Brent Follis @ Willfull Wine\, PDX
DESCRIPTION:Join us for Cool Jazz\, Vino\, and small bites at this great venue in NE PDX!\nCover charge ($15) includes a tasting flight and music!  Small menu items available for purchase. More info: 503-577-8982 or  email: info@willfulwine.com or Pam@willfullwine.com
URL:https://tomgrant.com/event/tom-grant-brent-follis-willfull-wine-pdx/
LOCATION:Willfull Wine\, 5705-F NE 105th Avenue\,\, Portland\, OR\, 97220\, United States
ATTACH;FMTTYPE=image/jpeg:https://tomgrant.com/wp-content/uploads/2021/06/Willful-Logo.jpg
END:VEVENT
END:VCALENDAR